BEGIN:VCALENDAR
VERSION:2.0
PRODID:-//Alliance for Healthy Communities - ECPv6.15.20//NONSGML v1.0//EN
CALSCALE:GREGORIAN
METHOD:PUBLISH
X-ORIGINAL-URL:https://empoweredcommunities.org
X-WR-CALDESC:Events for Alliance for Healthy Communities
REFRESH-INTERVAL;VALUE=DURATION:PT1H
X-Robots-Tag:noindex
X-PUBLISHED-TTL:PT1H
BEGIN:VTIMEZONE
TZID:America/New_York
BEGIN:DAYLIGHT
TZOFFSETFROM:-0500
TZOFFSETTO:-0400
TZNAME:EDT
DTSTART:20200308T070000
END:DAYLIGHT
BEGIN:STANDARD
TZOFFSETFROM:-0400
TZOFFSETTO:-0500
TZNAME:EST
DTSTART:20201101T060000
END:STANDARD
BEGIN:DAYLIGHT
TZOFFSETFROM:-0500
TZOFFSETTO:-0400
TZNAME:EDT
DTSTART:20210314T070000
END:DAYLIGHT
BEGIN:STANDARD
TZOFFSETFROM:-0400
TZOFFSETTO:-0500
TZNAME:EST
DTSTART:20211107T060000
END:STANDARD
BEGIN:DAYLIGHT
TZOFFSETFROM:-0500
TZOFFSETTO:-0400
TZNAME:EDT
DTSTART:20220313T070000
END:DAYLIGHT
BEGIN:STANDARD
TZOFFSETFROM:-0400
TZOFFSETTO:-0500
TZNAME:EST
DTSTART:20221106T060000
END:STANDARD
BEGIN:DAYLIGHT
TZOFFSETFROM:-0500
TZOFFSETTO:-0400
TZNAME:EDT
DTSTART:20230312T070000
END:DAYLIGHT
BEGIN:STANDARD
TZOFFSETFROM:-0400
TZOFFSETTO:-0500
TZNAME:EST
DTSTART:20231105T060000
END:STANDARD
BEGIN:DAYLIGHT
TZOFFSETFROM:-0500
TZOFFSETTO:-0400
TZNAME:EDT
DTSTART:20240310T070000
END:DAYLIGHT
BEGIN:STANDARD
TZOFFSETFROM:-0400
TZOFFSETTO:-0500
TZNAME:EST
DTSTART:20241103T060000
END:STANDARD
BEGIN:DAYLIGHT
TZOFFSETFROM:-0500
TZOFFSETTO:-0400
TZNAME:EDT
DTSTART:20250309T070000
END:DAYLIGHT
BEGIN:STANDARD
TZOFFSETFROM:-0400
TZOFFSETTO:-0500
TZNAME:EST
DTSTART:20251102T060000
END:STANDARD
END:VTIMEZONE
BEGIN:VEVENT
DTSTART;TZID=America/New_York:20241009T100000
DTEND;TZID=America/New_York:20241009T120000
DTSTAMP:20260420T081921
CREATED:20240926T200525Z
LAST-MODIFIED:20240926T203928Z
UID:10000413-1728468000-1728475200@empoweredcommunities.org
SUMMARY:SEN Committee Meeting (Virtual)
DESCRIPTION:Join us virtually via Zoom! Click HERE to join\, or visit https://zoom.us/join and enter:  \nMeeting ID: 828 6547 9166 \nPassword: 061677 \nJoin the discussion on Substance Exposed Newborns (SEN); working to reverse the growing epidemic of substance exposed newborns by designing and implementing strategies that help reduce community risk factors and promote protective factors.
URL:https://empoweredcommunities.org/event/sen-committee-meeting-32/
LOCATION:Virtual
CATEGORIES:ASAP
END:VEVENT
BEGIN:VEVENT
DTSTART;TZID=America/New_York:20210721T130000
DTEND;TZID=America/New_York:20210721T140000
DTSTAMP:20260420T081921
CREATED:20210713T192210Z
LAST-MODIFIED:20210713T192355Z
UID:10000133-1626872400-1626876000@empoweredcommunities.org
SUMMARY:Converse With A Nurse - "Shaken Baby Syndrome"
DESCRIPTION:The Alliance for Substance Addiction Prevention’s ‘Substance Exposed Newborn Committee’ hosts “Converse With A Nurse.” A free virtual series dedicated to promoting education\, awareness\, and supporting moms-to-be! Register today\, limited space available! Click HERE to register. \nAvailable Topics: \nJuly 21: Shaken Baby Syndrome\, hosted by Sarah Forestal\, Florida Department of Health \nJuly 28: Drowning Prevention\, hosted by Terri Thompson\, Florida Department of Health \nAugust 11: Safe Sleep\, hosted by Sarah Forestal\, Florida Department of Health \nAugust 18: Breastfeeding\, hosted by Sarah Forestal\, Florida Department of Health \nAugust 25: Mom Self-Care\, hosted by Terri Thompson\, Florida Department of Health \nConverse with a Nurse \n‘Join for the education\, stay to converse with a nurse’ \nFor additional information email Missy Coyle\, LPN\, Co-Chair of Substance Exposed Newborn Committee at Missy.Coyle@baycare.org.
URL:https://empoweredcommunities.org/event/converse-with-a-nurse-shaken-baby-syndrome/
LOCATION:Virtual
CATEGORIES:ASAP
END:VEVENT
BEGIN:VEVENT
DTSTART;TZID=America/New_York:20210714T130000
DTEND;TZID=America/New_York:20210714T140000
DTSTAMP:20260420T081921
CREATED:20210513T214737Z
LAST-MODIFIED:20210525T135408Z
UID:10000135-1626267600-1626271200@empoweredcommunities.org
SUMMARY:Converse with A Nurse - "Healthy Relationships"
DESCRIPTION:‘Converse with a Nurse’ is a free virtual series for moms and moms-to-be\, hosted by the Substance Exposed Newborn Committee on behalf of Alliance for Substance Addiction Prevention. Register now for any of our below dates/topics by clicking HERE. More topics and dates to come! This series takes place from 1pm-2pm on the below dates. \nMay 26      Positive Communication Skills \nJune 9        Safe Sleep \nGabby Flores\, Executive Director\, Healthy Start of Pasco \nJune 30      Mindfulness \nAlyssa Smith\, Florida Department of Health \nJuly 14        Healthy Relationships \nMegan Koontz\, Sunrise Domestic & Sexual Violence Center \n  \nConverse with a Nurse Flyer
URL:https://empoweredcommunities.org/event/converse-with-a-nurse-healthy-relationships/
LOCATION:Virtual
CATEGORIES:ASAP
END:VEVENT
BEGIN:VEVENT
DTSTART;TZID=America/New_York:20210630T130000
DTEND;TZID=America/New_York:20210630T140000
DTSTAMP:20260420T081921
CREATED:20210513T214607Z
LAST-MODIFIED:20210513T214855Z
UID:10000136-1625058000-1625061600@empoweredcommunities.org
SUMMARY:Converse with A Nurse - "Mindfulness"
DESCRIPTION:‘Converse with a Nurse’ is a free virtual series for moms and moms-to-be\, hosted by the Substance Exposed Newborn Committee on behalf of Alliance for Substance Addiction Prevention. Register now for any of our below dates/topics by clicking HERE. More topics and dates to come! This series takes place from 1pm-2pm on the below dates. \nMay 26      Positive Communication Skills \nJune 9        Safe Sleep \nGabby Flores\, Executive Director\, Healthy Start of Pasco \nJune 30      Mindfulness \nAlyssa Smith\, Florida Department of Health \nJuly 14        Healthy Relationships \nMegan Koontz\, Sunrise Domestic & Sexual Violence Center \n  \nConverse with a Nurse Flyer
URL:https://empoweredcommunities.org/event/converse-with-a-nurse-mindfulness/
LOCATION:Virtual
CATEGORIES:ASAP
END:VEVENT
BEGIN:VEVENT
DTSTART;TZID=America/New_York:20210609T130000
DTEND;TZID=America/New_York:20210609T140000
DTSTAMP:20260420T081921
CREATED:20210513T214406Z
LAST-MODIFIED:20210513T214406Z
UID:10000137-1623243600-1623247200@empoweredcommunities.org
SUMMARY:Converse with A Nurse - "Safe Sleep"
DESCRIPTION:‘Converse with a Nurse’ is a free virtual series for moms and moms-to-be\, hosted by the Substance Exposed Newborn Committee on behalf of Alliance for Substance Addiction Prevention. Register now for any of our below dates/topics by clicking HERE. More topics and dates to come! This series takes place from 1pm-2pm on the below dates. \nMay 26      Positive Communication Skills \nJune 9        Safe Sleep \nGabby Flores\, Executive Director\, Healthy Start of Pasco \nJune 30      Mindfulness \nAlyssa Smith\, Florida Department of Health \nJuly 14        Healthy Relationships \nMegan Koontz\, Sunrise Domestic & Sexual Violence Center \n  \nConverse with a Nurse Flyer
URL:https://empoweredcommunities.org/event/converse-with-a-nurse-safe-sleep/
LOCATION:Virtual
CATEGORIES:ASAP
END:VEVENT
BEGIN:VEVENT
DTSTART;TZID=America/New_York:20210526T130000
DTEND;TZID=America/New_York:20210526T140000
DTSTAMP:20260420T081921
CREATED:20210513T213920Z
LAST-MODIFIED:20210513T214436Z
UID:10000053-1622034000-1622037600@empoweredcommunities.org
SUMMARY:Converse with A Nurse - "Positive Communication"
DESCRIPTION:‘Converse with a Nurse’ is a free virtual series for moms and moms-to-be\, hosted by the Substance Exposed Newborn Committee on behalf of Alliance for Substance Addiction Prevention. Register now for any of our below dates/topics by clicking HERE. More topics and dates to come! This series takes place from 1pm-2pm on the below dates. \nMay 26      Positive Communication Skills \nJune 9        Safe Sleep \nGabby Flores\, Executive Director\, Healthy Start of Pasco \nJune 30      Mindfulness \nAlyssa Smith\, Florida Department of Health \nJuly 14        Healthy Relationships \nMegan Koontz\, Sunrise Domestic & Sexual Violence Center \n  \nConverse with a Nurse Flyer
URL:https://empoweredcommunities.org/event/converse-with-a-nurse-positive-communication/
LOCATION:Virtual
CATEGORIES:ASAP
END:VEVENT
BEGIN:VEVENT
DTSTART;TZID=America/New_York:20210430T110000
DTEND;TZID=America/New_York:20210430T130000
DTSTAMP:20260420T081921
CREATED:20210306T010714Z
LAST-MODIFIED:20210306T010714Z
UID:10000055-1619780400-1619787600@empoweredcommunities.org
SUMMARY:Education & Beyond: Supporting Substance Exposed Newborn Communities Workshop
DESCRIPTION:Opioid and substance misuse in Florida is a serious problem. \nThe Hernando & Pasco SEN Taskforces invite you to the\n2nd Annual Education & Beyond: Supporting Substance Exposed Newborn Communities\,\nheld as a series of virtual workshops. \n\n\n\n\n\nApril 9th\, 16th\, 23rd\, 30th\, Fridays from 11 a.m. to 1 p.m. \n\n\n\n\n\nThe event is designed for medical\, healthcare and hospital professionals\, social and behavioral health workers\, nonprofits\, treatment providers\, law enforcement officers\, legal professionals\, prevention coalitions and experts\, early learning coalitions\, state agencies and all others involved in caring for women of child bearing age\, addiction and substance exposed newborns. \nWe are fortunate to have confirmed 4 national medical experts on this topic. View the agenda page to learn more. \nIn order to offer this opportunity at a minimal cost of $35 per attendee if registered by March 1st ($45 after March 1st)\, with CEUs for all in attendance – including physicians\, nurses\, social services\, behavioral health\, we are seeking sponsor and supporter partnerships for this workshop series. \nWe hope you will consider being a part of this most significant project and event! \nContinuing Education: Suwannee River Area Health Education Center\, Inc. is a Florida Board of Nursing\, Pharmacy\, Psychology\, Respiratory Care\, Occupational Therapy\, Clinical Social Work\, Marriage and Family Therapy and Mental Health Counseling and Florida Council of Dietetics and Nutrition approved provider of continuing education. CE Broker Provider ID #50-1922. This program meets the requirements for up to 8.0 contact hours\, for all sessions.
URL:https://empoweredcommunities.org/event/education-beyond-supporting-substance-exposed-newborn-communities-workshop-4/
LOCATION:Virtual
CATEGORIES:ASAP
END:VEVENT
BEGIN:VEVENT
DTSTART;TZID=America/New_York:20210423T110000
DTEND;TZID=America/New_York:20210423T130000
DTSTAMP:20260420T081921
CREATED:20210306T010425Z
LAST-MODIFIED:20210306T010426Z
UID:10000057-1619175600-1619182800@empoweredcommunities.org
SUMMARY:Education & Beyond: Supporting Substance Exposed Newborn Communities Workshop
DESCRIPTION:Opioid and substance misuse in Florida is a serious problem. \nThe Hernando & Pasco SEN Taskforces invite you to the\n2nd Annual Education & Beyond: Supporting Substance Exposed Newborn Communities\,\nheld as a series of virtual workshops. \n\n\n\n\n\nApril 9th\, 16th\, 23rd\, 30th\, Fridays from 11 a.m. to 1 p.m. \n\n\n\n\n\nThe event is designed for medical\, healthcare and hospital professionals\, social and behavioral health workers\, nonprofits\, treatment providers\, law enforcement officers\, legal professionals\, prevention coalitions and experts\, early learning coalitions\, state agencies and all others involved in caring for women of child bearing age\, addiction and substance exposed newborns. \nWe are fortunate to have confirmed 4 national medical experts on this topic. View the agenda page to learn more. \nIn order to offer this opportunity at a minimal cost of $35 per attendee if registered by March 1st ($45 after March 1st)\, with CEUs for all in attendance – including physicians\, nurses\, social services\, behavioral health\, we are seeking sponsor and supporter partnerships for this workshop series. \nWe hope you will consider being a part of this most significant project and event! \nContinuing Education: Suwannee River Area Health Education Center\, Inc. is a Florida Board of Nursing\, Pharmacy\, Psychology\, Respiratory Care\, Occupational Therapy\, Clinical Social Work\, Marriage and Family Therapy and Mental Health Counseling and Florida Council of Dietetics and Nutrition approved provider of continuing education. CE Broker Provider ID #50-1922. This program meets the requirements for up to 8.0 contact hours\, for all sessions.
URL:https://empoweredcommunities.org/event/education-beyond-supporting-substance-exposed-newborn-communities-workshop-3/
LOCATION:Virtual
CATEGORIES:ASAP
END:VEVENT
BEGIN:VEVENT
DTSTART;TZID=America/New_York:20210416T110000
DTEND;TZID=America/New_York:20210416T130000
DTSTAMP:20260420T081921
CREATED:20210306T010259Z
LAST-MODIFIED:20210306T010538Z
UID:10000058-1618570800-1618578000@empoweredcommunities.org
SUMMARY:Education & Beyond: Supporting Substance Exposed Newborn Communities Workshop
DESCRIPTION:Opioid and substance misuse in Florida is a serious problem. \nThe Hernando & Pasco SEN Taskforces invite you to the\n2nd Annual Education & Beyond: Supporting Substance Exposed Newborn Communities\,\nheld as a series of virtual workshops. \n\n\n\n\n\nApril 9th\, 16th\, 23rd\, 30th\, Fridays from 11 a.m. to 1 p.m. \n\n\n\n\n\nThe event is designed for medical\, healthcare and hospital professionals\, social and behavioral health workers\, nonprofits\, treatment providers\, law enforcement officers\, legal professionals\, prevention coalitions and experts\, early learning coalitions\, state agencies and all others involved in caring for women of child bearing age\, addiction and substance exposed newborns. \nWe are fortunate to have confirmed 4 national medical experts on this topic. View the agenda page to learn more. \nIn order to offer this opportunity at a minimal cost of $35 per attendee if registered by March 1st ($45 after March 1st)\, with CEUs for all in attendance – including physicians\, nurses\, social services\, behavioral health\, we are seeking sponsor and supporter partnerships for this workshop series. \nWe hope you will consider being a part of this most significant project and event! \nContinuing Education: Suwannee River Area Health Education Center\, Inc. is a Florida Board of Nursing\, Pharmacy\, Psychology\, Respiratory Care\, Occupational Therapy\, Clinical Social Work\, Marriage and Family Therapy and Mental Health Counseling and Florida Council of Dietetics and Nutrition approved provider of continuing education. CE Broker Provider ID #50-1922. This program meets the requirements for up to 8.0 contact hours\, for all sessions.
URL:https://empoweredcommunities.org/event/education-beyond-supporting-substance-exposed-newborn-communities-workshop-2/
LOCATION:Virtual
CATEGORIES:ASAP
END:VEVENT
BEGIN:VEVENT
DTSTART;TZID=America/New_York:20210409T110000
DTEND;TZID=America/New_York:20210409T130000
DTSTAMP:20260420T081921
CREATED:20210306T005827Z
LAST-MODIFIED:20210306T005854Z
UID:10000051-1617966000-1617973200@empoweredcommunities.org
SUMMARY:Education & Beyond: Supporting Substance Exposed Newborn Communities Workshop
DESCRIPTION:Opioid and substance misuse in Florida is a serious problem. \nThe Hernando & Pasco SEN Taskforces invite you to the\n2nd Annual Education & Beyond: Supporting Substance Exposed Newborn Communities\,\nheld as a series of virtual workshops. \n\n\n\n\n\nApril 9th\, 16th\, 23rd\, 30th\, Fridays from 11 a.m. to 1 p.m. \n\n\n\n\n\nThe event is designed for medical\, healthcare and hospital professionals\, social and behavioral health workers\, nonprofits\, treatment providers\, law enforcement officers\, legal professionals\, prevention coalitions and experts\, early learning coalitions\, state agencies and all others involved in caring for women of child bearing age\, addiction and substance exposed newborns. \nWe are fortunate to have confirmed 4 national medical experts on this topic. View the agenda page to learn more. \nIn order to offer this opportunity at a minimal cost of $35 per attendee if registered by March 1st ($45 after March 1st)\, with CEUs for all in attendance – including physicians\, nurses\, social services\, behavioral health\, we are seeking sponsor and supporter partnerships for this workshop series. \nWe hope you will consider being a part of this most significant project and event! \nContinuing Education: Suwannee River Area Health Education Center\, Inc. is a Florida Board of Nursing\, Pharmacy\, Psychology\, Respiratory Care\, Occupational Therapy\, Clinical Social Work\, Marriage and Family Therapy and Mental Health Counseling and Florida Council of Dietetics and Nutrition approved provider of continuing education. CE Broker Provider ID #50-1922. This program meets the requirements for up to 8.0 contact hours\, for all sessions.
URL:https://empoweredcommunities.org/event/education-beyond-supporting-substance-exposed-newborn-communities-workshop/
LOCATION:Virtual
CATEGORIES:ASAP
END:VEVENT
END:VCALENDAR