BEGIN:VCALENDAR
VERSION:2.0
PRODID:-//Alliance for Healthy Communities - ECPv6.15.20//NONSGML v1.0//EN
CALSCALE:GREGORIAN
METHOD:PUBLISH
X-WR-CALNAME:Alliance for Healthy Communities
X-ORIGINAL-URL:https://empoweredcommunities.org
X-WR-CALDESC:Events for Alliance for Healthy Communities
REFRESH-INTERVAL;VALUE=DURATION:PT1H
X-Robots-Tag:noindex
X-PUBLISHED-TTL:PT1H
BEGIN:VTIMEZONE
TZID:America/New_York
BEGIN:DAYLIGHT
TZOFFSETFROM:-0500
TZOFFSETTO:-0400
TZNAME:EDT
DTSTART:20210314T070000
END:DAYLIGHT
BEGIN:STANDARD
TZOFFSETFROM:-0400
TZOFFSETTO:-0500
TZNAME:EST
DTSTART:20211107T060000
END:STANDARD
BEGIN:DAYLIGHT
TZOFFSETFROM:-0500
TZOFFSETTO:-0400
TZNAME:EDT
DTSTART:20220313T070000
END:DAYLIGHT
BEGIN:STANDARD
TZOFFSETFROM:-0400
TZOFFSETTO:-0500
TZNAME:EST
DTSTART:20221106T060000
END:STANDARD
BEGIN:DAYLIGHT
TZOFFSETFROM:-0500
TZOFFSETTO:-0400
TZNAME:EDT
DTSTART:20230312T070000
END:DAYLIGHT
BEGIN:STANDARD
TZOFFSETFROM:-0400
TZOFFSETTO:-0500
TZNAME:EST
DTSTART:20231105T060000
END:STANDARD
END:VTIMEZONE
BEGIN:VEVENT
DTSTART;TZID=America/New_York:20220831T160000
DTEND;TZID=America/New_York:20220831T180000
DTSTAMP:20260421T071234
CREATED:20220830T045220Z
LAST-MODIFIED:20220830T142558Z
UID:10000242-1661961600-1661968800@empoweredcommunities.org
SUMMARY:FREE NARCAN in Honor of International Overdose Awareness Day 8/31/22
DESCRIPTION:In honor of International Overdose Awareness Day\, more than 600 doses of lifesaving Narcan will be given out at two locations in West Pasco County on Wednesday 8/31/22; and one location in Dade City on Thursday 9/1/22. \nOverdose death is completely preventable! Thanks to Narcan\, the brand name of Naloxone\, an overdose does not have to be fatal. Naloxone is a non-prescription drug delivered via nasal spray that temporarily blocks the opiate receptors in the brain reversing an overdose for up to 90-minutes. This gives people time to call 911.  \nThe Pasco County Alliance for Substance Addiction Prevention in partnership with Groups Recover Together\, Suncoast Roofing\, and Farmer’s Self Help will hand out free Narcan at three locations around Pasco County.  \nNo registration required to pick up the lifesaving Narcan … no questions asked\, no signature needed.  \nInternational Overdose Awareness Day is a global event held on August 31 each year and aims to raise awareness of overdose and reduce the stigma of drug-related death. #EndOverdose \nTimes and locations to pick up FREE NARCAN:  \nLocation 1 – 8/31/22 – Groups Recover Together\, 8224 Washington St\, Port Richey\, FL 34468 – 4-6 pm \nLocation 2 – 8/31/22 – Suncoast Roofing\, 9507 SR 52\, Hudson\, 34669 – 4-6 pm \nLocation 3 – 9/1/22 – Farmworkers Self Help\, 37124 Lock Street\, Dade City FL 33423 – 10 am to Noon
URL:https://empoweredcommunities.org/event/free-narcan-in-honor-of-international-overdose-awareness-day-8-31-22/
LOCATION:Suncoast Roofing\, 9507 SR 54\, Hudson\, FL\, 34669\, United States
CATEGORIES:ASAP
END:VEVENT
END:VCALENDAR