BEGIN:VCALENDAR
VERSION:2.0
PRODID:-//Alliance for Healthy Communities - ECPv6.15.20//NONSGML v1.0//EN
CALSCALE:GREGORIAN
METHOD:PUBLISH
X-WR-CALNAME:Alliance for Healthy Communities
X-ORIGINAL-URL:https://empoweredcommunities.org
X-WR-CALDESC:Events for Alliance for Healthy Communities
REFRESH-INTERVAL;VALUE=DURATION:PT1H
X-Robots-Tag:noindex
X-PUBLISHED-TTL:PT1H
BEGIN:VTIMEZONE
TZID:America/New_York
BEGIN:DAYLIGHT
TZOFFSETFROM:-0500
TZOFFSETTO:-0400
TZNAME:EDT
DTSTART:20190310T070000
END:DAYLIGHT
BEGIN:STANDARD
TZOFFSETFROM:-0400
TZOFFSETTO:-0500
TZNAME:EST
DTSTART:20191103T060000
END:STANDARD
BEGIN:DAYLIGHT
TZOFFSETFROM:-0500
TZOFFSETTO:-0400
TZNAME:EDT
DTSTART:20200308T070000
END:DAYLIGHT
BEGIN:STANDARD
TZOFFSETFROM:-0400
TZOFFSETTO:-0500
TZNAME:EST
DTSTART:20201101T060000
END:STANDARD
BEGIN:DAYLIGHT
TZOFFSETFROM:-0500
TZOFFSETTO:-0400
TZNAME:EDT
DTSTART:20210314T070000
END:DAYLIGHT
BEGIN:STANDARD
TZOFFSETFROM:-0400
TZOFFSETTO:-0500
TZNAME:EST
DTSTART:20211107T060000
END:STANDARD
BEGIN:DAYLIGHT
TZOFFSETFROM:-0500
TZOFFSETTO:-0400
TZNAME:EDT
DTSTART:20220313T070000
END:DAYLIGHT
BEGIN:STANDARD
TZOFFSETFROM:-0400
TZOFFSETTO:-0500
TZNAME:EST
DTSTART:20221106T060000
END:STANDARD
END:VTIMEZONE
BEGIN:VEVENT
DTSTART;TZID=America/New_York:20210323T100000
DTEND;TZID=America/New_York:20210323T120000
DTSTAMP:20260420T125357
CREATED:20201114T023753Z
LAST-MODIFIED:20210318T174046Z
UID:10000121-1616493600-1616500800@empoweredcommunities.org
SUMMARY:ASAP General Meeting
DESCRIPTION:Join us virtually via Zoom. Click HERE to join or visit https://zoom.us/join and enter \nMeeting ID: 894 8050 6106 \nPassword: 399526 \nJoin our General Meeting to collaborate\, network\, discuss committee updates\, and hear guest speakers on topics relevant to our organizations mission and vision. \nASAP GenMtg Agenda Mar 2021 \nASAP_Feb 2021 Mtg Minutes \n*If you are a member or community stakeholder and have information you’d like to share at a general meeting\, please email asap@empoweredcommunities with information and/or flyers/documents that you’d like to share. \n 
URL:https://empoweredcommunities.org/event/asap-general-meeting-3/
LOCATION:Hybrid – In Person & Virtual via Zoom\, 6020 US-19\, New Port Richey\, FL\, 34652\, United States
CATEGORIES:ASAP
END:VEVENT
BEGIN:VEVENT
DTSTART;TZID=America/New_York:20210322T170000
DTEND;TZID=America/New_York:20210322T180000
DTSTAMP:20260420T125357
CREATED:20201113T194309Z
LAST-MODIFIED:20201113T194309Z
UID:10000006-1616432400-1616436000@empoweredcommunities.org
SUMMARY:Recovery Committee Meeting
DESCRIPTION:Join us virtually via Zoom! Click HERE to join or visit https://zoom.us/join and enter:  \nMeeting ID: 826 7025 4538 \nPassword: 451180 \nJoin the discussion on Recovery; working to enhance the quality and quantity of support to those affected by substance use disorders through community involvement\, advocacy\, and public education and awareness. 
URL:https://empoweredcommunities.org/event/recovery-committee-meeting-9/
CATEGORIES:ASAP
END:VEVENT
BEGIN:VEVENT
DTSTART;TZID=America/New_York:20210315T153000
DTEND;TZID=America/New_York:20210315T163000
DTSTAMP:20260420T125357
CREATED:20201113T191425Z
LAST-MODIFIED:20210124T010921Z
UID:10000059-1615822200-1615825800@empoweredcommunities.org
SUMMARY:Cultural Competence Committee
DESCRIPTION:Join us virtually via Zoom! Click HERE to join or visit https://zoom.us/join and enter \nMeeting ID: 815 1525 0641 \nPassword: 883088 \nJoin the discussion on cultural competence; Working to #ChangeTheLanguageASAP\, and building education and awareness on the importance of cultural competence in our community. Help create a community that celebrates our differences!
URL:https://empoweredcommunities.org/event/cultural-competence-committee-3/
CATEGORIES:ASAP
END:VEVENT
BEGIN:VEVENT
DTSTART;TZID=America/New_York:20210310T100000
DTEND;TZID=America/New_York:20210310T120000
DTSTAMP:20260420T125357
CREATED:20201113T202209Z
LAST-MODIFIED:20201113T202209Z
UID:10000161-1615370400-1615377600@empoweredcommunities.org
SUMMARY:SEN Committee Meeting
DESCRIPTION:Join us virtually via Zoom! Click HERE to join\, or visit https://zoom.us/join and enter:  \nMeeting ID: 828 6547 9166 \nPassword: 061677 \nJoin the discussion on Substance Exposed Newborns (SEN); working to reverse the growing epidemic of substance exposed newborns by designing and implementing strategies that help reduce community risk factors and promote protective factors.
URL:https://empoweredcommunities.org/event/sen-committee-meeting-6/
CATEGORIES:ASAP
END:VEVENT
BEGIN:VEVENT
DTSTART;TZID=America/New_York:20210302T150000
DTEND;TZID=America/New_York:20210302T163000
DTSTAMP:20260420T125357
CREATED:20201113T203734Z
LAST-MODIFIED:20201113T203734Z
UID:10000171-1614697200-1614702600@empoweredcommunities.org
SUMMARY:Opioid/Rx Committee Meeting
DESCRIPTION:Join us virtually via zoom! Click HERE to join or go to www.zoom.com/join and enter:  \nMeeting ID: 834 6615 6874 \nPassword: 344143 \nJoin the discussion on opioids and prescription drug misuse and help battle the epidemic; building community awareness\, education and enhancing access to opioid alternatives and life-saving Narcan. Help build strategies that save lives and reduce harm.
URL:https://empoweredcommunities.org/event/opioid-rx-committee-meeting-7/
CATEGORIES:ASAP
END:VEVENT
BEGIN:VEVENT
DTSTART;TZID=America/New_York:20210301T163000
DTEND;TZID=America/New_York:20210301T180000
DTSTAMP:20260420T125357
CREATED:20201113T205300Z
LAST-MODIFIED:20201113T205300Z
UID:10000017-1614616200-1614621600@empoweredcommunities.org
SUMMARY:Alcohol Initiatives Committee Meeting
DESCRIPTION:Join us virtually via Zoom! Click HERE to join or visit https://zoom.us/join and enter \nMeeting ID: 874 6165 2577 \nPasscode: 735548 \nDial-In option: 929-205-6099 \nJoin the discussion on Alcohol Initiatives collaborating with Tobacco Free Pasco & MADD; work to reduce underage drinking and impaired driving in the community by providing education and implementing effective strategies that work to create population level change.
URL:https://empoweredcommunities.org/event/alcohol-initiatives-committee-meeting-6/
CATEGORIES:ASAP
END:VEVENT
BEGIN:VEVENT
DTSTART;TZID=America/New_York:20210223T100000
DTEND;TZID=America/New_York:20210223T120000
DTSTAMP:20260420T125357
CREATED:20201114T023647Z
LAST-MODIFIED:20201114T023647Z
UID:10000123-1614074400-1614081600@empoweredcommunities.org
SUMMARY:ASAP General Meeting
DESCRIPTION:Join us virtually via Zoom. Click HERE to join or visit https://zoom.us/join and enter \nMeeting ID: 894 8050 6106 \nPassword: 399526 \nJoin our General Meeting to collaborate\, network\, discuss committee updates\, and hear guest speakers on topics relevant to our organizations mission and vision. \n*If you are a member or community stakeholder and have information you’d like to share at a general meeting\, please email asap@empoweredcommunities with information and/or flyers/documents that you’d like to share. \n 
URL:https://empoweredcommunities.org/event/asap-general-meeting-2/
LOCATION:Hybrid – In Person & Virtual via Zoom\, 6020 US-19\, New Port Richey\, FL\, 34652\, United States
CATEGORIES:ASAP
END:VEVENT
BEGIN:VEVENT
DTSTART;TZID=America/New_York:20210222T170000
DTEND;TZID=America/New_York:20210222T180000
DTSTAMP:20260420T125357
CREATED:20201113T194221Z
LAST-MODIFIED:20201113T194221Z
UID:10000050-1614013200-1614016800@empoweredcommunities.org
SUMMARY:Recovery Committee Meeting
DESCRIPTION:Join us virtually via Zoom! Click HERE to join or visit https://zoom.us/join and enter:  \nMeeting ID: 826 7025 4538 \nPassword: 451180 \nJoin the discussion on Recovery; working to enhance the quality and quantity of support to those affected by substance use disorders through community involvement\, advocacy\, and public education and awareness. 
URL:https://empoweredcommunities.org/event/recovery-committee-meeting-8/
CATEGORIES:ASAP
END:VEVENT
BEGIN:VEVENT
DTSTART;TZID=America/New_York:20210215T153000
DTEND;TZID=America/New_York:20210215T163000
DTSTAMP:20260420T125357
CREATED:20201113T191226Z
LAST-MODIFIED:20210124T010150Z
UID:10000056-1613403000-1613406600@empoweredcommunities.org
SUMMARY:Cultural Competence Committee
DESCRIPTION:Join us virtually via Zoom! Click HERE to join or visit https://zoom.us/join and enter \nMeeting ID: 815 1525 0641 \nPassword: 883088 \nJoin the discussion on cultural competence; Working to #ChangeTheLanguageASAP\, and building education and awareness on the importance of cultural competence in our community. Help create a community that celebrates our differences!
URL:https://empoweredcommunities.org/event/cultural-competence-committee-2/
CATEGORIES:ASAP
END:VEVENT
BEGIN:VEVENT
DTSTART;TZID=America/New_York:20210210T100000
DTEND;TZID=America/New_York:20210210T120000
DTSTAMP:20260420T125357
CREATED:20201113T202112Z
LAST-MODIFIED:20201113T202112Z
UID:10000010-1612951200-1612958400@empoweredcommunities.org
SUMMARY:SEN Committee Meeting
DESCRIPTION:Join us virtually via Zoom! Click HERE to join\, or visit https://zoom.us/join and enter:  \nMeeting ID: 828 6547 9166 \nPassword: 061677 \nJoin the discussion on Substance Exposed Newborns (SEN); working to reverse the growing epidemic of substance exposed newborns by designing and implementing strategies that help reduce community risk factors and promote protective factors.
URL:https://empoweredcommunities.org/event/sen-committee-meeting-5/
CATEGORIES:ASAP
END:VEVENT
BEGIN:VEVENT
DTSTART;TZID=America/New_York:20210202T150000
DTEND;TZID=America/New_York:20210202T163000
DTSTAMP:20260420T125357
CREATED:20201113T203621Z
LAST-MODIFIED:20201113T203621Z
UID:10000172-1612278000-1612283400@empoweredcommunities.org
SUMMARY:Opioid/Rx Committee Meeting
DESCRIPTION:Join us virtually via zoom! Click HERE to join or go to www.zoom.com/join and enter:  \nMeeting ID: 834 6615 6874 \nPassword: 344143 \nJoin the discussion on opioids and prescription drug misuse and help battle the epidemic; building community awareness\, education and enhancing access to opioid alternatives and life-saving Narcan. Help build strategies that save lives and reduce harm.
URL:https://empoweredcommunities.org/event/opioid-rx-committee-meeting-6/
CATEGORIES:ASAP
END:VEVENT
BEGIN:VEVENT
DTSTART;TZID=America/New_York:20210201T163000
DTEND;TZID=America/New_York:20210201T180000
DTSTAMP:20260420T125357
CREATED:20201113T205205Z
LAST-MODIFIED:20201113T205205Z
UID:10000035-1612197000-1612202400@empoweredcommunities.org
SUMMARY:Alcohol Initiatives Committee Meeting
DESCRIPTION:Join us virtually via Zoom! Click HERE to join or visit https://zoom.us/join and enter \nMeeting ID: 874 6165 2577 \nPasscode: 735548 \nDial-In option: 929-205-6099 \nJoin the discussion on Alcohol Initiatives collaborating with Tobacco Free Pasco & MADD; work to reduce underage drinking and impaired driving in the community by providing education and implementing effective strategies that work to create population level change.
URL:https://empoweredcommunities.org/event/alcohol-initiatives-committee-meeting-5/
CATEGORIES:ASAP
END:VEVENT
BEGIN:VEVENT
DTSTART;TZID=America/New_York:20210126T100000
DTEND;TZID=America/New_York:20210126T120000
DTSTAMP:20260420T125357
CREATED:20201114T023517Z
LAST-MODIFIED:20210126T150932Z
UID:10000124-1611655200-1611662400@empoweredcommunities.org
SUMMARY:ASAP General Meeting
DESCRIPTION:ASAP_Oct 2020 Mtg Minutes \nJoin us virtually via Zoom. Click HERE to join or visit https://zoom.us/join and enter \nMeeting ID: 894 8050 6106 \nPassword: 399526 \nJoin our General Meeting to collaborate\, network\, discuss committee updates\, and hear guest speakers on topics relevant to our organizations mission and vision. \n*If you are a member or community stakeholder and have information you’d like to share at a general meeting\, please email asap@empoweredcommunities with information and/or flyers/documents that you’d like to share. \n 
URL:https://empoweredcommunities.org/event/asap-general-meeting/
LOCATION:Hybrid – In Person & Virtual via Zoom\, 6020 US-19\, New Port Richey\, FL\, 34652\, United States
CATEGORIES:ASAP
END:VEVENT
BEGIN:VEVENT
DTSTART;TZID=America/New_York:20210125T170000
DTEND;TZID=America/New_York:20210125T180000
DTSTAMP:20260420T125357
CREATED:20201113T194026Z
LAST-MODIFIED:20201113T194026Z
UID:10000048-1611594000-1611597600@empoweredcommunities.org
SUMMARY:Recovery Committee Meeting
DESCRIPTION:Join us virtually via Zoom! Click HERE to join or visit https://zoom.us/join and enter:  \nMeeting ID: 826 7025 4538 \nPassword: 451180 \nJoin the discussion on Recovery; working to enhance the quality and quantity of support to those affected by substance use disorders through community involvement\, advocacy\, and public education and awareness. 
URL:https://empoweredcommunities.org/event/recovery-committee-meeting-6/
CATEGORIES:ASAP
END:VEVENT
BEGIN:VEVENT
DTSTART;TZID=America/New_York:20210118T163000
DTEND;TZID=America/New_York:20210118T173000
DTSTAMP:20260420T125357
CREATED:20201113T190745Z
LAST-MODIFIED:20201113T191314Z
UID:10000024-1610987400-1610991000@empoweredcommunities.org
SUMMARY:Cultural Competence Committee
DESCRIPTION:Join us virtually via Zoom! Click HERE to join or visit https://zoom.us/join and enter \nMeeting ID: 815 1525 0641 \nPassword: 883088 \nJoin the discussion on cultural competence; Working to #ChangeTheLanguageASAP\, and building education and awareness on the importance of cultural competence in our community. Help create a community that celebrates our differences!
URL:https://empoweredcommunities.org/event/cultural-competence-committee-meeting-3/
CATEGORIES:ASAP
END:VEVENT
BEGIN:VEVENT
DTSTART;TZID=America/New_York:20210113T100000
DTEND;TZID=America/New_York:20210113T120000
DTSTAMP:20260420T125357
CREATED:20201113T202003Z
LAST-MODIFIED:20201113T202003Z
UID:10000008-1610532000-1610539200@empoweredcommunities.org
SUMMARY:SEN Committee Meeting
DESCRIPTION:Join us virtually via Zoom! Click HERE to join\, or visit https://zoom.us/join and enter:  \nMeeting ID: 828 6547 9166 \nPassword: 061677 \nJoin the discussion on Substance Exposed Newborns (SEN); working to reverse the growing epidemic of substance exposed newborns by designing and implementing strategies that help reduce community risk factors and promote protective factors.
URL:https://empoweredcommunities.org/event/sen-committee-meeting-4/
CATEGORIES:ASAP
END:VEVENT
BEGIN:VEVENT
DTSTART;TZID=America/New_York:20210105T150000
DTEND;TZID=America/New_York:20210105T163000
DTSTAMP:20260420T125357
CREATED:20201113T203511Z
LAST-MODIFIED:20201113T203511Z
UID:10000170-1609858800-1609864200@empoweredcommunities.org
SUMMARY:Opioid/Rx Committee Meeting
DESCRIPTION:Join us virtually via zoom! Click HERE to join or go to www.zoom.com/join and enter:  \nMeeting ID: 834 6615 6874 \nPassword: 344143 \nJoin the discussion on opioids and prescription drug misuse and help battle the epidemic; building community awareness\, education and enhancing access to opioid alternatives and life-saving Narcan. Help build strategies that save lives and reduce harm.
URL:https://empoweredcommunities.org/event/opioid-rx-committee-meeting-5/
CATEGORIES:ASAP
END:VEVENT
BEGIN:VEVENT
DTSTART;TZID=America/New_York:20210104T163000
DTEND;TZID=America/New_York:20210104T180000
DTSTAMP:20260420T125357
CREATED:20201113T205040Z
LAST-MODIFIED:20201113T205040Z
UID:10000034-1609777800-1609783200@empoweredcommunities.org
SUMMARY:Alcohol Initiatives Committee Meeting
DESCRIPTION:Join us virtually via Zoom! Click HERE to join or visit https://zoom.us/join and enter \nMeeting ID: 874 6165 2577 \nPasscode: 735548 \nDial-In option: 929-205-6099 \nJoin the discussion on Alcohol Initiatives collaborating with Tobacco Free Pasco & MADD; work to reduce underage drinking and impaired driving in the community by providing education and implementing effective strategies that work to create population level change.
URL:https://empoweredcommunities.org/event/alcohol-initiatives-committee-meeting-4/
CATEGORIES:ASAP
END:VEVENT
BEGIN:VEVENT
DTSTART;VALUE=DATE:20201201
DTEND;VALUE=DATE:20201202
DTSTAMP:20260420T125357
CREATED:20201117T020134Z
LAST-MODIFIED:20201117T020134Z
UID:10000045-1606780800-1606867199@empoweredcommunities.org
SUMMARY:Giving Tuesday
DESCRIPTION:We all know someone who has suffered from a substance use disorder. \nPlease consider donating to ASAP to prevent addiction in our youth and help support a culture of sustainable recovery in Pasco County. \nYou can donate on Giving Tuesday by going to www.empoweredcommunities.org and clicking “donate.” \nAll donations are tax deductible and your organization will be featured on our social media.
URL:https://empoweredcommunities.org/event/giving-tuesday/
CATEGORIES:ASAP
END:VEVENT
BEGIN:VEVENT
DTSTART;TZID=America/New_York:20201116T163000
DTEND;TZID=America/New_York:20201116T173000
DTSTAMP:20260420T125357
CREATED:20201113T190507Z
LAST-MODIFIED:20201113T190507Z
UID:10000052-1605544200-1605547800@empoweredcommunities.org
SUMMARY:Cultural Competence Committee
DESCRIPTION:Join us virtually via Zoom! Click HERE to join or visit https://zoom.us/join and enter \nMeeting ID: 815 1525 0641 \nPassword: 883088 \nJoin the discussion on cultural competence; Working to #ChangeTheLanguageASAP\, and building education and awareness on the importance of cultural competence in our community. Help create a community that celebrates our differences!
URL:https://empoweredcommunities.org/event/cultural-competence-committee/
CATEGORIES:ASAP
END:VEVENT
BEGIN:VEVENT
DTSTART;TZID=America/New_York:20201027T100000
DTEND;TZID=America/New_York:20201027T120000
DTSTAMP:20260420T125357
CREATED:20200129T220545Z
LAST-MODIFIED:20201114T023407Z
UID:10000101-1603792800-1603800000@empoweredcommunities.org
SUMMARY:ASAP General Meeting
DESCRIPTION:Join us virtually via Zoom. Click HERE to join or visit https://zoom.us/join and enter \nMeeting ID: 894 8050 6106 \nPassword: 399526 \nJoin our General Meeting to collaborate\, network\, discuss committee updates\, and hear guest speakers on topics relevant to our organizations mission and vision. \n*If you are a member or community stakeholder and have information you’d like to share at a general meeting\, please email asap@empoweredcommunities with information and/or flyers/documents that you’d like to share. \n 
URL:https://empoweredcommunities.org/event/oct-27-2020-general-meeting/
LOCATION:Hybrid – In Person & Virtual via Zoom\, 6020 US-19\, New Port Richey\, FL\, 34652\, United States
CATEGORIES:ASAP
END:VEVENT
BEGIN:VEVENT
DTSTART;TZID=America/New_York:20201006T150000
DTEND;TZID=America/New_York:20201006T163000
DTSTAMP:20260420T125357
CREATED:20200814T165706Z
LAST-MODIFIED:20201113T203349Z
UID:10000062-1601996400-1602001800@empoweredcommunities.org
SUMMARY:Opioid/Rx Committee Meeting
DESCRIPTION:Join us virtually via zoom! Click HERE to join or go to www.zoom.com/join and enter:  \nMeeting ID: 834 6615 6874 \nPassword: 344143 \nJoin the discussion on opioids and prescription drug misuse and help battle the epidemic; building community awareness\, education and enhancing access to opioid alternatives and life-saving Narcan. Help build strategies that save lives and reduce harm.
URL:https://empoweredcommunities.org/event/opioid-rx-committee-meeting-4/
CATEGORIES:ASAP
END:VEVENT
BEGIN:VEVENT
DTSTART;TZID=America/New_York:20201005T163000
DTEND;TZID=America/New_York:20201005T180000
DTSTAMP:20260420T125357
CREATED:20200814T175215Z
LAST-MODIFIED:20201113T204843Z
UID:10000012-1601915400-1601920800@empoweredcommunities.org
SUMMARY:Alcohol Initiatives Committee Meeting
DESCRIPTION:Join us virtually via Zoom! Click HERE to join or visit https://zoom.us/join and enter \nMeeting ID: 874 6165 2577 \nPasscode: 735548 \nDial-In option: 929-205-6099 \nJoin the discussion on Alcohol Initiatives collaborating with Tobacco Free Pasco & MADD; work to reduce underage drinking and impaired driving in the community by providing education and implementing effective strategies that work to create population level change.
URL:https://empoweredcommunities.org/event/alcohol-initiatives-committee-meeting-3/
CATEGORIES:ASAP
END:VEVENT
END:VCALENDAR