BEGIN:VCALENDAR
VERSION:2.0
PRODID:-//Alliance for Healthy Communities - ECPv6.15.20//NONSGML v1.0//EN
CALSCALE:GREGORIAN
METHOD:PUBLISH
X-ORIGINAL-URL:https://empoweredcommunities.org
X-WR-CALDESC:Events for Alliance for Healthy Communities
REFRESH-INTERVAL;VALUE=DURATION:PT1H
X-Robots-Tag:noindex
X-PUBLISHED-TTL:PT1H
BEGIN:VTIMEZONE
TZID:America/New_York
BEGIN:DAYLIGHT
TZOFFSETFROM:-0500
TZOFFSETTO:-0400
TZNAME:EDT
DTSTART:20210314T070000
END:DAYLIGHT
BEGIN:STANDARD
TZOFFSETFROM:-0400
TZOFFSETTO:-0500
TZNAME:EST
DTSTART:20211107T060000
END:STANDARD
BEGIN:DAYLIGHT
TZOFFSETFROM:-0500
TZOFFSETTO:-0400
TZNAME:EDT
DTSTART:20220313T070000
END:DAYLIGHT
BEGIN:STANDARD
TZOFFSETFROM:-0400
TZOFFSETTO:-0500
TZNAME:EST
DTSTART:20221106T060000
END:STANDARD
BEGIN:DAYLIGHT
TZOFFSETFROM:-0500
TZOFFSETTO:-0400
TZNAME:EDT
DTSTART:20230312T070000
END:DAYLIGHT
BEGIN:STANDARD
TZOFFSETFROM:-0400
TZOFFSETTO:-0500
TZNAME:EST
DTSTART:20231105T060000
END:STANDARD
END:VTIMEZONE
BEGIN:VEVENT
DTSTART;TZID=America/New_York:20220909T170000
DTEND;TZID=America/New_York:20220909T200000
DTSTAMP:20260423T081816
CREATED:20220830T140630Z
LAST-MODIFIED:20220830T185525Z
UID:10000246-1662742800-1662753600@empoweredcommunities.org
SUMMARY:Stronger Together Recovery Walk
DESCRIPTION:Join us for our second annual Stronger Together Recovery Walk! ASAP’s Recovery Committee & The Hope Shot are teaming up again to continue our efforts to reduce stigma and promote sustainable recovery movements in Pasco County! Come out and join the fun! \n 
URL:https://empoweredcommunities.org/event/stronger-together-recovery-walk/
LOCATION:Sims Park\, Grand Blvd & Bank St.\, New Port Richey\, FL\, 34652\, United States
CATEGORIES:AHC,ASAP
END:VEVENT
END:VCALENDAR