BEGIN:VCALENDAR
VERSION:2.0
PRODID:-//Alliance for Healthy Communities - ECPv6.15.20//NONSGML v1.0//EN
CALSCALE:GREGORIAN
METHOD:PUBLISH
X-ORIGINAL-URL:https://empoweredcommunities.org
X-WR-CALDESC:Events for Alliance for Healthy Communities
REFRESH-INTERVAL;VALUE=DURATION:PT1H
X-Robots-Tag:noindex
X-PUBLISHED-TTL:PT1H
BEGIN:VTIMEZONE
TZID:America/New_York
BEGIN:DAYLIGHT
TZOFFSETFROM:-0500
TZOFFSETTO:-0400
TZNAME:EDT
DTSTART:20190310T070000
END:DAYLIGHT
BEGIN:STANDARD
TZOFFSETFROM:-0400
TZOFFSETTO:-0500
TZNAME:EST
DTSTART:20191103T060000
END:STANDARD
BEGIN:DAYLIGHT
TZOFFSETFROM:-0500
TZOFFSETTO:-0400
TZNAME:EDT
DTSTART:20200308T070000
END:DAYLIGHT
BEGIN:STANDARD
TZOFFSETFROM:-0400
TZOFFSETTO:-0500
TZNAME:EST
DTSTART:20201101T060000
END:STANDARD
BEGIN:DAYLIGHT
TZOFFSETFROM:-0500
TZOFFSETTO:-0400
TZNAME:EDT
DTSTART:20210314T070000
END:DAYLIGHT
BEGIN:STANDARD
TZOFFSETFROM:-0400
TZOFFSETTO:-0500
TZNAME:EST
DTSTART:20211107T060000
END:STANDARD
END:VTIMEZONE
BEGIN:VEVENT
DTSTART;TZID=America/New_York:20200909T180000
DTEND;TZID=America/New_York:20200909T190000
DTSTAMP:20260424T192521
CREATED:20200901T184929Z
LAST-MODIFIED:20200901T184929Z
UID:10000075-1599674400-1599678000@empoweredcommunities.org
SUMMARY:Suicide Prevention Awareness Month's: Night of H.O.P.E
DESCRIPTION:Join us Virtually as we honor suicide prevention awareness month by sharing stories\, prevention strategies\, resources\, and warning signs. You are not alone and your message matters. Help us to build a community of awareness and to change the conversation on suicide to those that provide H.O.P.E and heal. This event is open to all\, we ask that children under the age of 12 are accompanied by an adult. \nClick HERE to Register! \n#preventsuicide\, #weRhopeFL\, #take5tosavelives\, #WSPD
URL:https://empoweredcommunities.org/event/suicide-prevention-awareness-months-night-of-h-o-p-e/
LOCATION:FL
CATEGORIES:AHC
END:VEVENT
END:VCALENDAR