BEGIN:VCALENDAR
VERSION:2.0
PRODID:-//Alliance for Healthy Communities - ECPv6.15.20//NONSGML v1.0//EN
CALSCALE:GREGORIAN
METHOD:PUBLISH
X-ORIGINAL-URL:https://empoweredcommunities.org
X-WR-CALDESC:Events for Alliance for Healthy Communities
REFRESH-INTERVAL;VALUE=DURATION:PT1H
X-Robots-Tag:noindex
X-PUBLISHED-TTL:PT1H
BEGIN:VTIMEZONE
TZID:America/New_York
BEGIN:DAYLIGHT
TZOFFSETFROM:-0500
TZOFFSETTO:-0400
TZNAME:EDT
DTSTART:20240310T070000
END:DAYLIGHT
BEGIN:STANDARD
TZOFFSETFROM:-0400
TZOFFSETTO:-0500
TZNAME:EST
DTSTART:20241103T060000
END:STANDARD
BEGIN:DAYLIGHT
TZOFFSETFROM:-0500
TZOFFSETTO:-0400
TZNAME:EDT
DTSTART:20250309T070000
END:DAYLIGHT
BEGIN:STANDARD
TZOFFSETFROM:-0400
TZOFFSETTO:-0500
TZNAME:EST
DTSTART:20251102T060000
END:STANDARD
BEGIN:DAYLIGHT
TZOFFSETFROM:-0500
TZOFFSETTO:-0400
TZNAME:EDT
DTSTART:20260308T070000
END:DAYLIGHT
BEGIN:STANDARD
TZOFFSETFROM:-0400
TZOFFSETTO:-0500
TZNAME:EST
DTSTART:20261101T060000
END:STANDARD
END:VTIMEZONE
BEGIN:VEVENT
DTSTART;TZID=America/New_York:20250107T150000
DTEND;TZID=America/New_York:20250107T170000
DTSTAMP:20260422T021558
CREATED:20241214T151735Z
LAST-MODIFIED:20241214T152303Z
UID:10000416-1736262000-1736269200@empoweredcommunities.org
SUMMARY:Opioid/RX Committee Meeting
DESCRIPTION:Join the discussion on opioids and prescription drug misuse and help battle the epidemic; building community awareness\, education and enhancing access to opioid alternatives and life-saving Narcan. Help build strategies that save lives and reduce harm. \nJoin us virtually via zoom! Click HERE to join or go to www.zoom.com/join and enter:  \nMeeting ID: 834 6615 6874 \nPassword: 344143
URL:https://empoweredcommunities.org/event/opioid-rx-committee-meeting-41/
LOCATION:Virtual via Zoom
CATEGORIES:ASAP
ATTACH;FMTTYPE=image/png:https://empoweredcommunities.org/wp-content/uploads/2024/12/MONTHLY.png
END:VEVENT
BEGIN:VEVENT
DTSTART;TZID=America/New_York:20250108T100000
DTEND;TZID=America/New_York:20250108T120000
DTSTAMP:20260422T021558
CREATED:20241214T155827Z
LAST-MODIFIED:20241214T155833Z
UID:10000417-1736330400-1736337600@empoweredcommunities.org
SUMMARY:Substance Exposed Newborn Committee
DESCRIPTION:Virtual Via Zoom \nJoin Zoom Meeting \nhttps://us02web.zoom.us/j/82865479166?pwd=c2dMTGJtcEQ2aHJsZ1NvUW9FV2wvdz09 \nMeeting ID: 828 6547 9166 \nPassword: 061677
URL:https://empoweredcommunities.org/event/substance-exposed-newborn-committee/
LOCATION:Virtual via Zoom
CATEGORIES:ASAP
ATTACH;FMTTYPE=image/png:https://empoweredcommunities.org/wp-content/uploads/2024/12/MONTHLY.png
END:VEVENT
BEGIN:VEVENT
DTSTART;TZID=America/New_York:20250115T100000
DTEND;TZID=America/New_York:20250115T110000
DTSTAMP:20260422T021558
CREATED:20241214T162629Z
LAST-MODIFIED:20241214T162635Z
UID:10000421-1736935200-1736938800@empoweredcommunities.org
SUMMARY:Topic: Alcohol Initiatives Committee
DESCRIPTION:Join the discussion on Alcohol Initiatives collaborating with MADD; work to reduce underage drinking and impaired driving in the community by providing education and implementing effective strategies that work to create population level change. \nJoin Zoom Meeting\nhttps://us02web.zoom.us/j/87461652577?pwd=Rzg2VHN6MzYxcy85dk1HVXBCVTM5UT09\n \nMeeting ID: 874 6165 2577\nPasscode: 735548\nOne tap mobile\n+19292056099\,\,87461652577#\,\,\,\,*735548# US (New York)\n+13017158592\,\,87461652577#\,\,\,\,*735548# US (Washington DC)\n \nDial by your location\n        +1 929 205 6099 US (New York)\n        +1 301 715 8592 US (Washington DC)\n        +1 312 626 6799 US (Chicago)\n        +1 669 900 6833 US (San Jose)\n        +1 253 215 8782 US (Tacoma)\n        +1 346 248 7799 US (Houston)\nMeeting ID: 874 6165 2577\nPasscode: 735548\nFind your local number: https://us02web.zoom.us/u/kbDqGGesfG
URL:https://empoweredcommunities.org/event/topic-alcohol-initiatives-committee-2/
LOCATION:Virtual
CATEGORIES:ASAP
ATTACH;FMTTYPE=image/png:https://empoweredcommunities.org/wp-content/uploads/2024/12/MONTHLY.png
END:VEVENT
END:VCALENDAR