BEGIN:VCALENDAR
VERSION:2.0
PRODID:-//Alliance for Healthy Communities - ECPv6.15.20//NONSGML v1.0//EN
CALSCALE:GREGORIAN
METHOD:PUBLISH
X-WR-CALNAME:Alliance for Healthy Communities
X-ORIGINAL-URL:https://empoweredcommunities.org
X-WR-CALDESC:Events for Alliance for Healthy Communities
REFRESH-INTERVAL;VALUE=DURATION:PT1H
X-Robots-Tag:noindex
X-PUBLISHED-TTL:PT1H
BEGIN:VTIMEZONE
TZID:America/New_York
BEGIN:DAYLIGHT
TZOFFSETFROM:-0500
TZOFFSETTO:-0400
TZNAME:EDT
DTSTART:20230312T070000
END:DAYLIGHT
BEGIN:STANDARD
TZOFFSETFROM:-0400
TZOFFSETTO:-0500
TZNAME:EST
DTSTART:20231105T060000
END:STANDARD
BEGIN:DAYLIGHT
TZOFFSETFROM:-0500
TZOFFSETTO:-0400
TZNAME:EDT
DTSTART:20240310T070000
END:DAYLIGHT
BEGIN:STANDARD
TZOFFSETFROM:-0400
TZOFFSETTO:-0500
TZNAME:EST
DTSTART:20241103T060000
END:STANDARD
BEGIN:DAYLIGHT
TZOFFSETFROM:-0500
TZOFFSETTO:-0400
TZNAME:EDT
DTSTART:20250309T070000
END:DAYLIGHT
BEGIN:STANDARD
TZOFFSETFROM:-0400
TZOFFSETTO:-0500
TZNAME:EST
DTSTART:20251102T060000
END:STANDARD
END:VTIMEZONE
BEGIN:VEVENT
DTSTART;TZID=America/New_York:20241118T170000
DTEND;TZID=America/New_York:20241118T180000
DTSTAMP:20260422T053459
CREATED:20240926T194921Z
LAST-MODIFIED:20240926T203831Z
UID:10000412-1731949200-1731952800@empoweredcommunities.org
SUMMARY:Recovery Committee Meeting (Virtual)
DESCRIPTION:Join us virtually via Zoom! Click HERE to join or visit https://zoom.us/join and enter:  \nMeeting ID: 826 7025 4538 \nPassword: 451180 \nJoin the discussion on Recovery; working to enhance the quality and quantity of support to those affected by substance use disorders through community involvement\, advocacy\, and public education and awareness. 
URL:https://empoweredcommunities.org/event/recovery-committee-meeting-45/
LOCATION:Virtual
CATEGORIES:ASAP
END:VEVENT
END:VCALENDAR