BEGIN:VCALENDAR
VERSION:2.0
PRODID:-//Alliance for Healthy Communities - ECPv6.15.20//NONSGML v1.0//EN
CALSCALE:GREGORIAN
METHOD:PUBLISH
X-ORIGINAL-URL:https://empoweredcommunities.org
X-WR-CALDESC:Events for Alliance for Healthy Communities
REFRESH-INTERVAL;VALUE=DURATION:PT1H
X-Robots-Tag:noindex
X-PUBLISHED-TTL:PT1H
BEGIN:VTIMEZONE
TZID:America/New_York
BEGIN:DAYLIGHT
TZOFFSETFROM:-0500
TZOFFSETTO:-0400
TZNAME:EDT
DTSTART:20230312T070000
END:DAYLIGHT
BEGIN:STANDARD
TZOFFSETFROM:-0400
TZOFFSETTO:-0500
TZNAME:EST
DTSTART:20231105T060000
END:STANDARD
BEGIN:DAYLIGHT
TZOFFSETFROM:-0500
TZOFFSETTO:-0400
TZNAME:EDT
DTSTART:20240310T070000
END:DAYLIGHT
BEGIN:STANDARD
TZOFFSETFROM:-0400
TZOFFSETTO:-0500
TZNAME:EST
DTSTART:20241103T060000
END:STANDARD
BEGIN:DAYLIGHT
TZOFFSETFROM:-0500
TZOFFSETTO:-0400
TZNAME:EDT
DTSTART:20250309T070000
END:DAYLIGHT
BEGIN:STANDARD
TZOFFSETFROM:-0400
TZOFFSETTO:-0500
TZNAME:EST
DTSTART:20251102T060000
END:STANDARD
END:VTIMEZONE
BEGIN:VEVENT
DTSTART;TZID=America/New_York:20241022T100000
DTEND;TZID=America/New_York:20241022T120000
DTSTAMP:20260419T114404
CREATED:20240624T154726Z
LAST-MODIFIED:20241018T165325Z
UID:10000407-1729591200-1729598400@empoweredcommunities.org
SUMMARY:ASAP General Coalition Meeting (Zoom)
DESCRIPTION:Update…  October 2024 meeting will be via Zoom.  Beginning in January 2025\, this will be a ‘Hybrid’ meeting\, meaning that you can either join In-person at one of three addresses throughout the County (note: meeting location will change every month to allow for more in-person participation)\, or join us virtually via Zoom. To join by Zoom\, click HERE or visit https://zoom.us/join and enter: \nMeeting ID: 894 8050 6106 \nPassword: 399526 \nJoin this General Coalition Meeting to collaborate\, network\, discuss committee updates\, and hear guest speakers on topics relevant to our collective efforts. \n*If you are a member or community stakeholder and have information you’d like to share at a general coalition meeting\, please email asap@empoweredcommunities.org with information and/or flyers/documents that you’d like to share. \n 
URL:https://empoweredcommunities.org/event/asap-general-meeting-31/
LOCATION:Virtual via Zoom
CATEGORIES:ASAP
END:VEVENT
BEGIN:VEVENT
DTSTART;TZID=America/New_York:20241021T170000
DTEND;TZID=America/New_York:20241021T180000
DTSTAMP:20260419T114404
CREATED:20240926T193535Z
LAST-MODIFIED:20240926T203857Z
UID:10000411-1729530000-1729533600@empoweredcommunities.org
SUMMARY:Recovery Committee Meeting (Virtual)
DESCRIPTION:Join us virtually via Zoom! Click HERE to join or visit https://zoom.us/join and enter:  \nMeeting ID: 826 7025 4538 \nPassword: 451180 \nJoin the discussion on Recovery; working to enhance the quality and quantity of support to those affected by substance use disorders through community involvement\, advocacy\, and public education and awareness. 
URL:https://empoweredcommunities.org/event/recovery-committee-meeting-44/
LOCATION:Virtual
CATEGORIES:ASAP
END:VEVENT
BEGIN:VEVENT
DTSTART;TZID=America/New_York:20241009T100000
DTEND;TZID=America/New_York:20241009T120000
DTSTAMP:20260419T114404
CREATED:20240926T200525Z
LAST-MODIFIED:20240926T203928Z
UID:10000413-1728468000-1728475200@empoweredcommunities.org
SUMMARY:SEN Committee Meeting (Virtual)
DESCRIPTION:Join us virtually via Zoom! Click HERE to join\, or visit https://zoom.us/join and enter:  \nMeeting ID: 828 6547 9166 \nPassword: 061677 \nJoin the discussion on Substance Exposed Newborns (SEN); working to reverse the growing epidemic of substance exposed newborns by designing and implementing strategies that help reduce community risk factors and promote protective factors.
URL:https://empoweredcommunities.org/event/sen-committee-meeting-32/
LOCATION:Virtual
CATEGORIES:ASAP
END:VEVENT
BEGIN:VEVENT
DTSTART;TZID=America/New_York:20241001T150000
DTEND;TZID=America/New_York:20241001T160000
DTSTAMP:20260419T114404
CREATED:20240930T194506Z
LAST-MODIFIED:20240930T194826Z
UID:10000415-1727794800-1727798400@empoweredcommunities.org
SUMMARY:Opioid Action Alliance (Hybrid)
DESCRIPTION:Join the discussion on opioids and prescription drug misuse and help battle the epidemic; building community awareness\, education and enhancing access to opioid alternatives and life-saving Narcan. Help build strategies that save lives and reduce harm.
URL:https://empoweredcommunities.org/event/opioid-action-alliance/
LOCATION:Hybrid – 7809\, 7809 MASSACHUSETTS AVE\, NEW PORT RICHEY\, FL\, 34653-3028\, United States
CATEGORIES:ASAP
END:VEVENT
BEGIN:VEVENT
DTSTART;TZID=America/New_York:20240819T170000
DTEND;TZID=America/New_York:20240819T180000
DTSTAMP:20260419T114404
CREATED:20240624T155044Z
LAST-MODIFIED:20240624T155044Z
UID:10000408-1724086800-1724090400@empoweredcommunities.org
SUMMARY:Recovery Committee Meeting
DESCRIPTION:Join us virtually via Zoom! Click HERE to join or visit https://zoom.us/join and enter:  \nMeeting ID: 826 7025 4538 \nPassword: 451180 \nJoin the discussion on Recovery; working to enhance the quality and quantity of support to those affected by substance use disorders through community involvement\, advocacy\, and public education and awareness. 
URL:https://empoweredcommunities.org/event/recovery-committee-meeting-43/
CATEGORIES:ASAP
END:VEVENT
BEGIN:VEVENT
DTSTART;TZID=America/New_York:20240723T100000
DTEND;TZID=America/New_York:20240723T120000
DTSTAMP:20260419T114404
CREATED:20231102T133119Z
LAST-MODIFIED:20240507T171105Z
UID:10000374-1721728800-1721736000@empoweredcommunities.org
SUMMARY:ASAP General Meeting
DESCRIPTION:Join us virtually via Zoom. Click HERE to join or visit https://zoom.us/join and enter \nMeeting ID: 894 8050 6106 \nPassword: 399526 \nJoin our General Meeting to collaborate\, network\, discuss committee updates\, and hear guest speakers on topics relevant to our organizations mission and vision. \n*If you are a member or community stakeholder and have information you’d like to share at a general meeting\, please email asap@empoweredcommunities.org with information and/or flyers/documents that you’d like to share. \n 
URL:https://empoweredcommunities.org/event/asap-general-meeting-featuring-stand-youth-panel/
LOCATION:Hybrid – In Person & Virtual via Zoom\, 6020 US-19\, New Port Richey\, FL\, 34652\, United States
CATEGORIES:ASAP
END:VEVENT
BEGIN:VEVENT
DTSTART;TZID=America/New_York:20240715T170000
DTEND;TZID=America/New_York:20240715T180000
DTSTAMP:20260419T114404
CREATED:20240112T201548Z
LAST-MODIFIED:20240112T201548Z
UID:10000403-1721062800-1721066400@empoweredcommunities.org
SUMMARY:Recovery Committee Meeting
DESCRIPTION:Join us virtually via Zoom! Click HERE to join or visit https://zoom.us/join and enter:  \nMeeting ID: 826 7025 4538 \nPassword: 451180 \nJoin the discussion on Recovery; working to enhance the quality and quantity of support to those affected by substance use disorders through community involvement\, advocacy\, and public education and awareness. 
URL:https://empoweredcommunities.org/event/recovery-committee-meeting-42/
CATEGORIES:ASAP
END:VEVENT
BEGIN:VEVENT
DTSTART;TZID=America/New_York:20240710T100000
DTEND;TZID=America/New_York:20240710T120000
DTSTAMP:20260419T114404
CREATED:20231102T134529Z
LAST-MODIFIED:20231102T134529Z
UID:10000382-1720605600-1720612800@empoweredcommunities.org
SUMMARY:SEN Committee Meeting
DESCRIPTION:Join us virtually via Zoom! Click HERE to join\, or visit https://zoom.us/join and enter:  \nMeeting ID: 828 6547 9166 \nPassword: 061677 \nJoin the discussion on Substance Exposed Newborns (SEN); working to reverse the growing epidemic of substance exposed newborns by designing and implementing strategies that help reduce community risk factors and promote protective factors.
URL:https://empoweredcommunities.org/event/sen-committee-meeting-39/
CATEGORIES:ASAP
END:VEVENT
BEGIN:VEVENT
DTSTART;TZID=America/New_York:20240702T150000
DTEND;TZID=America/New_York:20240702T163000
DTSTAMP:20260419T114404
CREATED:20231201T183955Z
LAST-MODIFIED:20231201T184948Z
UID:10000392-1719932400-1719937800@empoweredcommunities.org
SUMMARY:Opioid/Rx Committee Meeting
DESCRIPTION:Join us virtually via zoom! Click HERE to join or go to www.zoom.com/join and enter:  \nMeeting ID: 834 6615 6874 \nPassword: 344143 \nJoin the discussion on opioids and prescription drug misuse and help battle the epidemic; building community awareness\, education and enhancing access to opioid alternatives and life-saving Narcan. Help build strategies that save lives and reduce harm.
URL:https://empoweredcommunities.org/event/opioid-rx-committee-meeting-36/
CATEGORIES:ASAP
END:VEVENT
BEGIN:VEVENT
DTSTART;TZID=America/New_York:20240625T100000
DTEND;TZID=America/New_York:20240625T120000
DTSTAMP:20260419T114404
CREATED:20231102T132943Z
LAST-MODIFIED:20231102T132943Z
UID:10000373-1719309600-1719316800@empoweredcommunities.org
SUMMARY:ASAP General Meeting
DESCRIPTION:Join us virtually via Zoom. Click HERE to join or visit https://zoom.us/join and enter \nMeeting ID: 894 8050 6106 \nPassword: 399526 \nJoin our General Meeting to collaborate\, network\, discuss committee updates\, and hear guest speakers on topics relevant to our organizations mission and vision. \n*If you are a member or community stakeholder and have information you’d like to share at a general meeting\, please email asap@empoweredcommunities.org with information and/or flyers/documents that you’d like to share. \n 
URL:https://empoweredcommunities.org/event/asap-general-meeting-37/
LOCATION:Hybrid – In Person & Virtual via Zoom\, 6020 US-19\, New Port Richey\, FL\, 34652\, United States
CATEGORIES:ASAP
END:VEVENT
BEGIN:VEVENT
DTSTART;TZID=America/New_York:20240619T100000
DTEND;TZID=America/New_York:20240619T110000
DTSTAMP:20260419T114404
CREATED:20231120T210602Z
LAST-MODIFIED:20240507T171013Z
UID:10000390-1718791200-1718794800@empoweredcommunities.org
SUMMARY:Alcohol Initiatives Committee Meeting - moved to 3rd Wednesday of month at 10 am
DESCRIPTION:Join us virtually via Zoom! Click HERE to join or visit https://zoom.us/join and enter \nMeeting ID: 874 6165 2577 \nPasscode: 735548 \nDial-In option: 929-205-6099 \nJoin the discussion on Alcohol Initiatives collaborating with MADD; work to reduce underage drinking and impaired driving in the community by providing education and implementing effective strategies that work to create population level change.
URL:https://empoweredcommunities.org/event/alcohol-initiatives-committee-meeting-38/
CATEGORIES:ASAP
END:VEVENT
BEGIN:VEVENT
DTSTART;TZID=America/New_York:20240617T170000
DTEND;TZID=America/New_York:20240617T180000
DTSTAMP:20260419T114404
CREATED:20240112T201444Z
LAST-MODIFIED:20240112T201444Z
UID:10000402-1718643600-1718647200@empoweredcommunities.org
SUMMARY:Recovery Committee Meeting
DESCRIPTION:Join us virtually via Zoom! Click HERE to join or visit https://zoom.us/join and enter:  \nMeeting ID: 826 7025 4538 \nPassword: 451180 \nJoin the discussion on Recovery; working to enhance the quality and quantity of support to those affected by substance use disorders through community involvement\, advocacy\, and public education and awareness. 
URL:https://empoweredcommunities.org/event/recovery-committee-meeting-41/
CATEGORIES:ASAP
END:VEVENT
BEGIN:VEVENT
DTSTART;TZID=America/New_York:20240612T100000
DTEND;TZID=America/New_York:20240612T120000
DTSTAMP:20260419T114404
CREATED:20231102T134445Z
LAST-MODIFIED:20231102T134445Z
UID:10000378-1718186400-1718193600@empoweredcommunities.org
SUMMARY:SEN Committee Meeting
DESCRIPTION:Join us virtually via Zoom! Click HERE to join\, or visit https://zoom.us/join and enter:  \nMeeting ID: 828 6547 9166 \nPassword: 061677 \nJoin the discussion on Substance Exposed Newborns (SEN); working to reverse the growing epidemic of substance exposed newborns by designing and implementing strategies that help reduce community risk factors and promote protective factors.
URL:https://empoweredcommunities.org/event/sen-committee-meeting-38/
CATEGORIES:ASAP
END:VEVENT
BEGIN:VEVENT
DTSTART;TZID=America/New_York:20240604T150000
DTEND;TZID=America/New_York:20240604T163000
DTSTAMP:20260419T114404
CREATED:20231201T184735Z
LAST-MODIFIED:20241214T153659Z
UID:10000396-1717513200-1717518600@empoweredcommunities.org
SUMMARY:Opioid/Rx Committee Meeting
DESCRIPTION:Join us virtually via zoom! Click HERE to join or go to www.zoom.com/join and enter:  \nMeeting ID: 834 6615 6874 \nPassword: 344143 \nJoin the discussion on opioids and prescription drug misuse and help battle the epidemic; building community awareness\, education and enhancing access to opioid alternatives and life-saving Narcan. Help build strategies that save lives and reduce harm.
URL:https://empoweredcommunities.org/event/opioid-rx-committee-meeting-40/
CATEGORIES:ASAP
END:VEVENT
BEGIN:VEVENT
DTSTART;TZID=America/New_York:20240528T100000
DTEND;TZID=America/New_York:20240528T120000
DTSTAMP:20260419T114404
CREATED:20231102T132901Z
LAST-MODIFIED:20231102T132901Z
UID:10000372-1716890400-1716897600@empoweredcommunities.org
SUMMARY:ASAP General Meeting
DESCRIPTION:Join us virtually via Zoom. Click HERE to join or visit https://zoom.us/join and enter \nMeeting ID: 894 8050 6106 \nPassword: 399526 \nJoin our General Meeting to collaborate\, network\, discuss committee updates\, and hear guest speakers on topics relevant to our organizations mission and vision. \n*If you are a member or community stakeholder and have information you’d like to share at a general meeting\, please email asap@empoweredcommunities.org with information and/or flyers/documents that you’d like to share. \n 
URL:https://empoweredcommunities.org/event/asap-general-meeting-36/
LOCATION:Hybrid – In Person & Virtual via Zoom\, 6020 US-19\, New Port Richey\, FL\, 34652\, United States
CATEGORIES:ASAP
END:VEVENT
BEGIN:VEVENT
DTSTART;TZID=America/New_York:20240520T170000
DTEND;TZID=America/New_York:20240520T180000
DTSTAMP:20260419T114404
CREATED:20240112T201307Z
LAST-MODIFIED:20240112T201307Z
UID:10000401-1716224400-1716228000@empoweredcommunities.org
SUMMARY:Recovery Committee Meeting
DESCRIPTION:Join us virtually via Zoom! Click HERE to join or visit https://zoom.us/join and enter:  \nMeeting ID: 826 7025 4538 \nPassword: 451180 \nJoin the discussion on Recovery; working to enhance the quality and quantity of support to those affected by substance use disorders through community involvement\, advocacy\, and public education and awareness. 
URL:https://empoweredcommunities.org/event/recovery-committee-meeting-40/
CATEGORIES:ASAP
END:VEVENT
BEGIN:VEVENT
DTSTART;TZID=America/New_York:20240515T100000
DTEND;TZID=America/New_York:20240515T110000
DTSTAMP:20260419T114404
CREATED:20231120T210512Z
LAST-MODIFIED:20240507T170732Z
UID:10000389-1715767200-1715770800@empoweredcommunities.org
SUMMARY:Alcohol Initiatives Committee Meeting - moved to 3rd Monday of Month at 10 am
DESCRIPTION:Join us virtually via Zoom! Click HERE to join or visit https://zoom.us/join and enter \nMeeting ID: 874 6165 2577 \nPasscode: 735548 \nDial-In option: 929-205-6099 \nJoin the discussion on Alcohol Initiatives collaborating with MADD; work to reduce underage drinking and impaired driving in the community by providing education and implementing effective strategies that work to create population level change.
URL:https://empoweredcommunities.org/event/alcohol-initiatives-committee-meeting-37/
CATEGORIES:ASAP
END:VEVENT
BEGIN:VEVENT
DTSTART;TZID=America/New_York:20240508T100000
DTEND;TZID=America/New_York:20240508T120000
DTSTAMP:20260419T114404
CREATED:20231102T134348Z
LAST-MODIFIED:20231102T134348Z
UID:10000379-1715162400-1715169600@empoweredcommunities.org
SUMMARY:SEN Committee Meeting
DESCRIPTION:Join us virtually via Zoom! Click HERE to join\, or visit https://zoom.us/join and enter:  \nMeeting ID: 828 6547 9166 \nPassword: 061677 \nJoin the discussion on Substance Exposed Newborns (SEN); working to reverse the growing epidemic of substance exposed newborns by designing and implementing strategies that help reduce community risk factors and promote protective factors.
URL:https://empoweredcommunities.org/event/sen-committee-meeting-37/
CATEGORIES:ASAP
END:VEVENT
BEGIN:VEVENT
DTSTART;TZID=America/New_York:20240423T100000
DTEND;TZID=America/New_York:20240423T120000
DTSTAMP:20260419T114404
CREATED:20231102T132741Z
LAST-MODIFIED:20231102T132741Z
UID:10000371-1713866400-1713873600@empoweredcommunities.org
SUMMARY:ASAP General Meeting
DESCRIPTION:Join us virtually via Zoom. Click HERE to join or visit https://zoom.us/join and enter \nMeeting ID: 894 8050 6106 \nPassword: 399526 \nJoin our General Meeting to collaborate\, network\, discuss committee updates\, and hear guest speakers on topics relevant to our organizations mission and vision. \n*If you are a member or community stakeholder and have information you’d like to share at a general meeting\, please email asap@empoweredcommunities.org with information and/or flyers/documents that you’d like to share. \n 
URL:https://empoweredcommunities.org/event/asap-general-meeting-35/
LOCATION:Hybrid – In Person & Virtual via Zoom\, 6020 US-19\, New Port Richey\, FL\, 34652\, United States
CATEGORIES:ASAP
END:VEVENT
BEGIN:VEVENT
DTSTART;TZID=America/New_York:20240415T170000
DTEND;TZID=America/New_York:20240415T180000
DTSTAMP:20260419T114404
CREATED:20240112T201142Z
LAST-MODIFIED:20240112T201142Z
UID:10000400-1713200400-1713204000@empoweredcommunities.org
SUMMARY:Recovery Committee Meeting
DESCRIPTION:Join us virtually via Zoom! Click HERE to join or visit https://zoom.us/join and enter:  \nMeeting ID: 826 7025 4538 \nPassword: 451180 \nJoin the discussion on Recovery; working to enhance the quality and quantity of support to those affected by substance use disorders through community involvement\, advocacy\, and public education and awareness. 
URL:https://empoweredcommunities.org/event/recovery-committee-meeting-39/
CATEGORIES:ASAP
END:VEVENT
BEGIN:VEVENT
DTSTART;TZID=America/New_York:20240410T100000
DTEND;TZID=America/New_York:20240410T120000
DTSTAMP:20260419T114404
CREATED:20231102T134259Z
LAST-MODIFIED:20231102T134259Z
UID:10000380-1712743200-1712750400@empoweredcommunities.org
SUMMARY:SEN Committee Meeting
DESCRIPTION:Join us virtually via Zoom! Click HERE to join\, or visit https://zoom.us/join and enter:  \nMeeting ID: 828 6547 9166 \nPassword: 061677 \nJoin the discussion on Substance Exposed Newborns (SEN); working to reverse the growing epidemic of substance exposed newborns by designing and implementing strategies that help reduce community risk factors and promote protective factors.
URL:https://empoweredcommunities.org/event/sen-committee-meeting-36/
CATEGORIES:ASAP
END:VEVENT
BEGIN:VEVENT
DTSTART;TZID=America/New_York:20240402T150000
DTEND;TZID=America/New_York:20240402T163000
DTSTAMP:20260419T114404
CREATED:20231201T184414Z
LAST-MODIFIED:20231201T184414Z
UID:10000394-1712070000-1712075400@empoweredcommunities.org
SUMMARY:Opioid/Rx Committee Meeting
DESCRIPTION:Join us virtually via zoom! Click HERE to join or go to www.zoom.com/join and enter:  \nMeeting ID: 834 6615 6874 \nPassword: 344143 \nJoin the discussion on opioids and prescription drug misuse and help battle the epidemic; building community awareness\, education and enhancing access to opioid alternatives and life-saving Narcan. Help build strategies that save lives and reduce harm.
URL:https://empoweredcommunities.org/event/opioid-rx-committee-meeting-38/
CATEGORIES:ASAP
END:VEVENT
BEGIN:VEVENT
DTSTART;TZID=America/New_York:20240401T163000
DTEND;TZID=America/New_York:20240401T173000
DTSTAMP:20260419T114404
CREATED:20231120T210230Z
LAST-MODIFIED:20231120T210355Z
UID:10000388-1711989000-1711992600@empoweredcommunities.org
SUMMARY:Alcohol Initiatives Committee Meeting
DESCRIPTION:Join us virtually via Zoom! Click HERE to join or visit https://zoom.us/join and enter \nMeeting ID: 874 6165 2577 \nPasscode: 735548 \nDial-In option: 929-205-6099 \nJoin the discussion on Alcohol Initiatives collaborating with MADD; work to reduce underage drinking and impaired driving in the community by providing education and implementing effective strategies that work to create population level change.
URL:https://empoweredcommunities.org/event/alcohol-initiatives-committee-meeting-36/
CATEGORIES:ASAP
END:VEVENT
BEGIN:VEVENT
DTSTART;TZID=America/New_York:20240326T100000
DTEND;TZID=America/New_York:20240326T120000
DTSTAMP:20260419T114404
CREATED:20231102T132653Z
LAST-MODIFIED:20231102T132653Z
UID:10000370-1711447200-1711454400@empoweredcommunities.org
SUMMARY:ASAP General Meeting
DESCRIPTION:Join us virtually via Zoom. Click HERE to join or visit https://zoom.us/join and enter \nMeeting ID: 894 8050 6106 \nPassword: 399526 \nJoin our General Meeting to collaborate\, network\, discuss committee updates\, and hear guest speakers on topics relevant to our organizations mission and vision. \n*If you are a member or community stakeholder and have information you’d like to share at a general meeting\, please email asap@empoweredcommunities.org with information and/or flyers/documents that you’d like to share. \n 
URL:https://empoweredcommunities.org/event/asap-general-meeting-34/
LOCATION:Hybrid – In Person & Virtual via Zoom\, 6020 US-19\, New Port Richey\, FL\, 34652\, United States
CATEGORIES:ASAP
END:VEVENT
BEGIN:VEVENT
DTSTART;TZID=America/New_York:20240318T170000
DTEND;TZID=America/New_York:20240318T180000
DTSTAMP:20260419T114404
CREATED:20240112T201051Z
LAST-MODIFIED:20240112T201051Z
UID:10000399-1710781200-1710784800@empoweredcommunities.org
SUMMARY:Recovery Committee Meeting
DESCRIPTION:Join us virtually via Zoom! Click HERE to join or visit https://zoom.us/join and enter:  \nMeeting ID: 826 7025 4538 \nPassword: 451180 \nJoin the discussion on Recovery; working to enhance the quality and quantity of support to those affected by substance use disorders through community involvement\, advocacy\, and public education and awareness. 
URL:https://empoweredcommunities.org/event/recovery-committee-meeting-38/
CATEGORIES:ASAP
END:VEVENT
BEGIN:VEVENT
DTSTART;TZID=America/New_York:20240314T173000
DTEND;TZID=America/New_York:20240314T193000
DTSTAMP:20260419T114404
CREATED:20240226T174447Z
LAST-MODIFIED:20240226T174806Z
UID:10000406-1710437400-1710444600@empoweredcommunities.org
SUMMARY:Pasco Youth Night Out - Hosted by Alliance for Healthy Communities
DESCRIPTION:FREE Youth Night Out Event at Spin Nations. Be ready to have a blast on wheels while promoting health and wellness. Youth up to age 18 are welcome to enjoy a fun-filled evening of skating\, laughter\, and making new friends. Skating is not only entertaining but also a great way to stay active and improve balance and coordination. Youth 10 and under must have a parent or guardian present. Questions? Please contact Shannon at shannon@empoweredcommunities.org. \nClick here to Reserve tickets today! \n \n 
URL:https://empoweredcommunities.org/event/pasco-youth-night-out-hosted-by-alliance-for-healthy-communities/
LOCATION:Spin Nations Skating Center\, 8345 Congress Street\, New Port Richey\, FL\, 34668\, United States
CATEGORIES:AHC
ORGANIZER;CN="AHC":MAILTO:MISSY@EMPOWEREDCOMMUNITIES.ORG
END:VEVENT
BEGIN:VEVENT
DTSTART;TZID=America/New_York:20240313T100000
DTEND;TZID=America/New_York:20240313T120000
DTSTAMP:20260419T114404
CREATED:20231102T134221Z
LAST-MODIFIED:20231102T134221Z
UID:10000383-1710324000-1710331200@empoweredcommunities.org
SUMMARY:SEN Committee Meeting
DESCRIPTION:Join us virtually via Zoom! Click HERE to join\, or visit https://zoom.us/join and enter:  \nMeeting ID: 828 6547 9166 \nPassword: 061677 \nJoin the discussion on Substance Exposed Newborns (SEN); working to reverse the growing epidemic of substance exposed newborns by designing and implementing strategies that help reduce community risk factors and promote protective factors.
URL:https://empoweredcommunities.org/event/sen-committee-meeting-35/
CATEGORIES:ASAP
END:VEVENT
BEGIN:VEVENT
DTSTART;TZID=America/New_York:20240305T150000
DTEND;TZID=America/New_York:20240305T163000
DTSTAMP:20260419T114404
CREATED:20231201T184113Z
LAST-MODIFIED:20231201T184113Z
UID:10000393-1709650800-1709656200@empoweredcommunities.org
SUMMARY:Opioid/Rx Committee Meeting
DESCRIPTION:Join us virtually via zoom! Click HERE to join or go to www.zoom.com/join and enter:  \nMeeting ID: 834 6615 6874 \nPassword: 344143 \nJoin the discussion on opioids and prescription drug misuse and help battle the epidemic; building community awareness\, education and enhancing access to opioid alternatives and life-saving Narcan. Help build strategies that save lives and reduce harm.
URL:https://empoweredcommunities.org/event/opioid-rx-committee-meeting-37/
CATEGORIES:ASAP
END:VEVENT
BEGIN:VEVENT
DTSTART;TZID=America/New_York:20240304T163000
DTEND;TZID=America/New_York:20240304T173000
DTSTAMP:20260419T114404
CREATED:20231120T210122Z
LAST-MODIFIED:20231120T210122Z
UID:10000387-1709569800-1709573400@empoweredcommunities.org
SUMMARY:Alcohol Initiatives Committee Meeting
DESCRIPTION:Join us virtually via Zoom! Click HERE to join or visit https://zoom.us/join and enter \nMeeting ID: 874 6165 2577 \nPasscode: 735548 \nDial-In option: 929-205-6099 \nJoin the discussion on Alcohol Initiatives collaborating with MADD; work to reduce underage drinking and impaired driving in the community by providing education and implementing effective strategies that work to create population level change.
URL:https://empoweredcommunities.org/event/alcohol-initiatives-committee-meeting-35/
CATEGORIES:ASAP
END:VEVENT
BEGIN:VEVENT
DTSTART;TZID=America/New_York:20240227T100000
DTEND;TZID=America/New_York:20240227T120000
DTSTAMP:20260419T114404
CREATED:20231102T132454Z
LAST-MODIFIED:20240226T173216Z
UID:10000369-1709028000-1709035200@empoweredcommunities.org
SUMMARY:ASAP General Meeting - hybrid
DESCRIPTION:Hi all\, this meeting will be held as a hybrid for February\, please join us in person at the BayCare building\, 7809 Massachusetts Ave.\, New Port Richey or on teams address below\, thank you \nMicrosoft Teams meeting \nJoin on your computer\, mobile app or room device \nClick here to join the meeting \nMeeting ID: 252 591 428 306\nPasscode: f66Tky \nDownload Teams | Join on the web \nJoin with a video conferencing device \n127369668@teams.bjn.vc \nVideo Conference ID: 115 600 703 6 \nAlternate VTC instructions \nOr call in (audio only) \n+1 727-300-4956\,\,990215172#   United States\, St. Petersburg \nPhone Conference ID: 990 215 172# \nFind a local number | Reset PIN \nLearn More | Meeting options \n  \n 
URL:https://empoweredcommunities.org/event/asap-general-meeting-33/
LOCATION:Hybrid – In Person & Virtual via Zoom\, 6020 US-19\, New Port Richey\, FL\, 34652\, United States
CATEGORIES:ASAP
END:VEVENT
END:VCALENDAR