BEGIN:VCALENDAR
VERSION:2.0
PRODID:-//Alliance for Healthy Communities - ECPv6.15.20//NONSGML v1.0//EN
CALSCALE:GREGORIAN
METHOD:PUBLISH
X-ORIGINAL-URL:https://empoweredcommunities.org
X-WR-CALDESC:Events for Alliance for Healthy Communities
REFRESH-INTERVAL;VALUE=DURATION:PT1H
X-Robots-Tag:noindex
X-PUBLISHED-TTL:PT1H
BEGIN:VTIMEZONE
TZID:America/New_York
BEGIN:DAYLIGHT
TZOFFSETFROM:-0500
TZOFFSETTO:-0400
TZNAME:EDT
DTSTART:20190310T070000
END:DAYLIGHT
BEGIN:STANDARD
TZOFFSETFROM:-0400
TZOFFSETTO:-0500
TZNAME:EST
DTSTART:20191103T060000
END:STANDARD
BEGIN:DAYLIGHT
TZOFFSETFROM:-0500
TZOFFSETTO:-0400
TZNAME:EDT
DTSTART:20200308T070000
END:DAYLIGHT
BEGIN:STANDARD
TZOFFSETFROM:-0400
TZOFFSETTO:-0500
TZNAME:EST
DTSTART:20201101T060000
END:STANDARD
BEGIN:DAYLIGHT
TZOFFSETFROM:-0500
TZOFFSETTO:-0400
TZNAME:EDT
DTSTART:20210314T070000
END:DAYLIGHT
BEGIN:STANDARD
TZOFFSETFROM:-0400
TZOFFSETTO:-0500
TZNAME:EST
DTSTART:20211107T060000
END:STANDARD
END:VTIMEZONE
BEGIN:VEVENT
DTSTART;TZID=America/New_York:20200225T100000
DTEND;TZID=America/New_York:20200225T120000
DTSTAMP:20260421T114644
CREATED:20200129T233748Z
LAST-MODIFIED:20200224T170146Z
UID:10000104-1582624800-1582632000@empoweredcommunities.org
SUMMARY:General Meeting
DESCRIPTION:ASAP_Jan.2020 Mtg Minutes
URL:https://empoweredcommunities.org/event/feb-25-2020-general-meeting/
LOCATION:Hybrid – In Person & Virtual via Zoom\, 6020 US-19\, New Port Richey\, FL\, 34652\, United States
CATEGORIES:ASAP
END:VEVENT
BEGIN:VEVENT
DTSTART;TZID=America/New_York:20200224T170000
DTEND;TZID=America/New_York:20200224T180000
DTSTAMP:20260421T114644
CREATED:20200205T192131Z
LAST-MODIFIED:20200205T192131Z
UID:10000022-1582563600-1582567200@empoweredcommunities.org
SUMMARY:Recovery Committee Meeting
DESCRIPTION:
URL:https://empoweredcommunities.org/event/recovery-committee-meeting/
LOCATION:Oasis Coffee Spot\, 9213 Little Rd.\, New Port Richey\, Florida\, 34654
CATEGORIES:ASAP
END:VEVENT
END:VCALENDAR