BEGIN:VCALENDAR
VERSION:2.0
PRODID:-//Alliance for Healthy Communities - ECPv6.15.20//NONSGML v1.0//EN
CALSCALE:GREGORIAN
METHOD:PUBLISH
X-WR-CALNAME:Alliance for Healthy Communities
X-ORIGINAL-URL:https://empoweredcommunities.org
X-WR-CALDESC:Events for Alliance for Healthy Communities
REFRESH-INTERVAL;VALUE=DURATION:PT1H
X-Robots-Tag:noindex
X-PUBLISHED-TTL:PT1H
BEGIN:VTIMEZONE
TZID:America/New_York
BEGIN:DAYLIGHT
TZOFFSETFROM:-0500
TZOFFSETTO:-0400
TZNAME:EDT
DTSTART:20190310T070000
END:DAYLIGHT
BEGIN:STANDARD
TZOFFSETFROM:-0400
TZOFFSETTO:-0500
TZNAME:EST
DTSTART:20191103T060000
END:STANDARD
BEGIN:DAYLIGHT
TZOFFSETFROM:-0500
TZOFFSETTO:-0400
TZNAME:EDT
DTSTART:20200308T070000
END:DAYLIGHT
BEGIN:STANDARD
TZOFFSETFROM:-0400
TZOFFSETTO:-0500
TZNAME:EST
DTSTART:20201101T060000
END:STANDARD
BEGIN:DAYLIGHT
TZOFFSETFROM:-0500
TZOFFSETTO:-0400
TZNAME:EDT
DTSTART:20210314T070000
END:DAYLIGHT
BEGIN:STANDARD
TZOFFSETFROM:-0400
TZOFFSETTO:-0500
TZNAME:EST
DTSTART:20211107T060000
END:STANDARD
END:VTIMEZONE
BEGIN:VEVENT
DTSTART;TZID=America/New_York:20201117T164500
DTEND;TZID=America/New_York:20201117T174500
DTSTAMP:20260421T073813
CREATED:20201114T025056Z
LAST-MODIFIED:20201114T025056Z
UID:10000109-1605631500-1605635100@empoweredcommunities.org
SUMMARY:STAND General Meeting
DESCRIPTION:Join us virtually via Zoom. Click HERE to join or visit https://zoom.us/join and enter: \nMeeting ID: 818 9843 4542 \nPassword: 742597 \nJoin our General Meeting\, bringing all of the youth of STAND Above the Influence together to collaborate on initiatives and share ideas. Open to all youth in the committee\, new and existing STAND Members and Mentors.
URL:https://empoweredcommunities.org/event/stand-general-meeting-4/
LOCATION:Hybrid – In Person & Virtual via Zoom\, 6020 US-19\, New Port Richey\, FL\, 34652\, United States
CATEGORIES:STAND
END:VEVENT
BEGIN:VEVENT
DTSTART;TZID=America/New_York:20201116T163000
DTEND;TZID=America/New_York:20201116T173000
DTSTAMP:20260421T073813
CREATED:20201113T190507Z
LAST-MODIFIED:20201113T190507Z
UID:10000052-1605544200-1605547800@empoweredcommunities.org
SUMMARY:Cultural Competence Committee
DESCRIPTION:Join us virtually via Zoom! Click HERE to join or visit https://zoom.us/join and enter \nMeeting ID: 815 1525 0641 \nPassword: 883088 \nJoin the discussion on cultural competence; Working to #ChangeTheLanguageASAP\, and building education and awareness on the importance of cultural competence in our community. Help create a community that celebrates our differences!
URL:https://empoweredcommunities.org/event/cultural-competence-committee/
CATEGORIES:ASAP
END:VEVENT
BEGIN:VEVENT
DTSTART;TZID=America/New_York:20201111T100000
DTEND;TZID=America/New_York:20201111T120000
DTSTAMP:20260421T073813
CREATED:20201106T172029Z
LAST-MODIFIED:20201106T172029Z
UID:10000068-1605088800-1605096000@empoweredcommunities.org
SUMMARY:SEN Committee Meeting
DESCRIPTION:Join us virtually via Zoom! Click HERE to join\, or visit https://zoom.us/join and enter:  \nMeeting ID: 828 6547 9166 \nPassword: 061677 \nJoin the discussion on Substance Exposed Newborns (SEN); working to reverse the growing epidemic of substance exposed newborns by designing and implementing strategies that help reduce community risk factors and promote protective factors.
URL:https://empoweredcommunities.org/event/sen-committee-meeting-3/
CATEGORIES:ASAP
END:VEVENT
BEGIN:VEVENT
DTSTART;TZID=America/New_York:20201027T100000
DTEND;TZID=America/New_York:20201027T120000
DTSTAMP:20260421T073813
CREATED:20200129T220545Z
LAST-MODIFIED:20201114T023407Z
UID:10000101-1603792800-1603800000@empoweredcommunities.org
SUMMARY:ASAP General Meeting
DESCRIPTION:Join us virtually via Zoom. Click HERE to join or visit https://zoom.us/join and enter \nMeeting ID: 894 8050 6106 \nPassword: 399526 \nJoin our General Meeting to collaborate\, network\, discuss committee updates\, and hear guest speakers on topics relevant to our organizations mission and vision. \n*If you are a member or community stakeholder and have information you’d like to share at a general meeting\, please email asap@empoweredcommunities with information and/or flyers/documents that you’d like to share. \n 
URL:https://empoweredcommunities.org/event/oct-27-2020-general-meeting/
LOCATION:Hybrid – In Person & Virtual via Zoom\, 6020 US-19\, New Port Richey\, FL\, 34652\, United States
CATEGORIES:ASAP
END:VEVENT
BEGIN:VEVENT
DTSTART;TZID=America/New_York:20201026T170000
DTEND;TZID=America/New_York:20201026T180000
DTSTAMP:20260421T073813
CREATED:20200814T172253Z
LAST-MODIFIED:20201026T123925Z
UID:10000071-1603731600-1603735200@empoweredcommunities.org
SUMMARY:Recovery Committee Meeting
DESCRIPTION:Join us virtually via Zoom! Click HERE to join or visit https://zoom.us/join and enter:  \nMeeting ID: 826 702 5 4538 \nPassword: 451180 \nJoin the discussion on Recovery; working to enhance the quality and quantity of support to those affected by substance use disorders through community involvement\, advocacy\, and public education and awareness. 
URL:https://empoweredcommunities.org/event/recovery-committee-meeting-7/
CATEGORIES:ASAP
END:VEVENT
BEGIN:VEVENT
DTSTART;TZID=America/New_York:20201022T180000
DTEND;TZID=America/New_York:20201022T200000
DTSTAMP:20260421T073813
CREATED:20200924T145042Z
LAST-MODIFIED:20200924T145533Z
UID:10000014-1603389600-1603396800@empoweredcommunities.org
SUMMARY:NOPE: Virtual Candlelight Vigil
DESCRIPTION:Join us virtually to unite as a community in the fight against addiction and honor the lives lost in our community to narcotic overdose. Participate in the conversation as community stakeholders discuss the opioid epidemic in Pasco County and the impact of the pandemic in the fight against addiction and hear stories from members of the community and survivors. Join the call to action to help save lives and learn prevention and intervention strategies! Whether you are a person struggling with addiction\, in recovery\, a family member of\, professional\, or advocate; your presence and message matter! \nREGISTER TODAY! Limited space available. Visit https://www.eventbrite.com/e/nope-virtual-candlelight-vigil-tickets-122173689795 \nIf you’d like to honor someone during the event please email the name and photo (optional) to alecia.ortiz@baycare.org.  \nNOPE 2020 Flyer_Virtual
URL:https://empoweredcommunities.org/event/nope-virtual-candlelight-vigil/
LOCATION:Hybrid – In Person & Virtual via Zoom\, 6020 US-19\, New Port Richey\, FL\, 34652\, United States
CATEGORIES:ASAP
END:VEVENT
BEGIN:VEVENT
DTSTART;TZID=America/New_York:20201020T164500
DTEND;TZID=America/New_York:20201020T174500
DTSTAMP:20260421T073813
CREATED:20200814T181651Z
LAST-MODIFIED:20201114T024856Z
UID:10000073-1603212300-1603215900@empoweredcommunities.org
SUMMARY:STAND General Meeting
DESCRIPTION:Join us virtually via Zoom. Click HERE to join or visit https://zoom.us/join and enter: \nMeeting ID: 818 9843 4542 \nPassword: 742597 \nJoin our General Meeting\, bringing all of the youth of STAND Above the Influence together to collaborate on initiatives and share ideas. Open to all youth in the committee\, new and existing STAND Members and Mentors.
URL:https://empoweredcommunities.org/event/stand-general-meeting-3/
LOCATION:Hybrid – In Person & Virtual via Zoom\, 6020 US-19\, New Port Richey\, FL\, 34652\, United States
CATEGORIES:STAND
END:VEVENT
BEGIN:VEVENT
DTSTART;TZID=America/New_York:20201019T163000
DTEND;TZID=America/New_York:20201019T173000
DTSTAMP:20260421T073813
CREATED:20200814T180701Z
LAST-MODIFIED:20200814T180812Z
UID:10000078-1603125000-1603128600@empoweredcommunities.org
SUMMARY:Cultural Competence Committee Meeting
DESCRIPTION:Join us virtually via Zoom! Click HERE to join or visit https://zoom.us/join and enter \nMeeting ID: 815 1525 0641 \nPassword: 883088 \nJoin the discussion on cultural competence; Working to #ChangeTheLanguageASAP\, building education and awareness on the importance of cultural competence community\, helping to create a community that celebrates our differences.
URL:https://empoweredcommunities.org/event/cultural-competence-committee-meeting-2/
CATEGORIES:ASAP
END:VEVENT
BEGIN:VEVENT
DTSTART;TZID=America/New_York:20201014T100000
DTEND;TZID=America/New_York:20201014T120000
DTSTAMP:20260421T073813
CREATED:20200814T170749Z
LAST-MODIFIED:20200814T170749Z
UID:10000046-1602669600-1602676800@empoweredcommunities.org
SUMMARY:SEN Committee Meeting
DESCRIPTION:Join us virtually via Zoom! Click HERE to join\, or visit https://zoom.us/join and enter:  \nMeeting ID: 828 6547 9166 \nPassword: 061677 \nJoin the discussion on Substance Exposed Newborns (SEN); working to reverse the growing epidemic of substance exposed newborns by designing and implementing strategies that help reduce community risk factors and promote protective factors.
URL:https://empoweredcommunities.org/event/sen-committee-meeting-2/
CATEGORIES:ASAP
END:VEVENT
BEGIN:VEVENT
DTSTART;TZID=America/New_York:20201006T150000
DTEND;TZID=America/New_York:20201006T163000
DTSTAMP:20260421T073813
CREATED:20200814T165706Z
LAST-MODIFIED:20201113T203349Z
UID:10000062-1601996400-1602001800@empoweredcommunities.org
SUMMARY:Opioid/Rx Committee Meeting
DESCRIPTION:Join us virtually via zoom! Click HERE to join or go to www.zoom.com/join and enter:  \nMeeting ID: 834 6615 6874 \nPassword: 344143 \nJoin the discussion on opioids and prescription drug misuse and help battle the epidemic; building community awareness\, education and enhancing access to opioid alternatives and life-saving Narcan. Help build strategies that save lives and reduce harm.
URL:https://empoweredcommunities.org/event/opioid-rx-committee-meeting-4/
CATEGORIES:ASAP
END:VEVENT
BEGIN:VEVENT
DTSTART;TZID=America/New_York:20201005T163000
DTEND;TZID=America/New_York:20201005T180000
DTSTAMP:20260421T073813
CREATED:20200814T175215Z
LAST-MODIFIED:20201113T204843Z
UID:10000012-1601915400-1601920800@empoweredcommunities.org
SUMMARY:Alcohol Initiatives Committee Meeting
DESCRIPTION:Join us virtually via Zoom! Click HERE to join or visit https://zoom.us/join and enter \nMeeting ID: 874 6165 2577 \nPasscode: 735548 \nDial-In option: 929-205-6099 \nJoin the discussion on Alcohol Initiatives collaborating with Tobacco Free Pasco & MADD; work to reduce underage drinking and impaired driving in the community by providing education and implementing effective strategies that work to create population level change.
URL:https://empoweredcommunities.org/event/alcohol-initiatives-committee-meeting-3/
CATEGORIES:ASAP
END:VEVENT
BEGIN:VEVENT
DTSTART;TZID=America/New_York:20200922T100000
DTEND;TZID=America/New_York:20200922T120000
DTSTAMP:20260421T073813
CREATED:20200129T220420Z
LAST-MODIFIED:20200921T113936Z
UID:10000099-1600768800-1600776000@empoweredcommunities.org
SUMMARY:General Meeting
DESCRIPTION:ASAP GenMtg Agenda Sep 2020 ASAP_Aug 2020 Mtg Minutes \nJoin us virtually via Zoom. Click HERE to join. \nMeeting ID: 894 8050 616 \nPassword: 399526
URL:https://empoweredcommunities.org/event/sep-22-2020-general-meeting/
LOCATION:Hybrid – In Person & Virtual via Zoom\, 6020 US-19\, New Port Richey\, FL\, 34652\, United States
CATEGORIES:ASAP
END:VEVENT
BEGIN:VEVENT
DTSTART;TZID=America/New_York:20200921T163000
DTEND;TZID=America/New_York:20200921T173000
DTSTAMP:20260421T073813
CREATED:20200814T180557Z
LAST-MODIFIED:20200814T180557Z
UID:10000076-1600705800-1600709400@empoweredcommunities.org
SUMMARY:Cultural Competence Committee Meeting
DESCRIPTION:Join us virtually via Zoom! Click HERE to join or visit https://zoom.us/join and enter \nMeeting ID: 815 1525 0641 \nPassword: 883088 \nJoin the discussion on cultural competence; Working to #ChangeTheLanguageASAP\, building education and awareness on the importance of cultural competence community\, helping to create a community that celebrates our differences.
URL:https://empoweredcommunities.org/event/cultural-competence-committee-meeting/
CATEGORIES:ASAP
END:VEVENT
BEGIN:VEVENT
DTSTART;TZID=America/New_York:20200915T164500
DTEND;TZID=America/New_York:20200915T174500
DTSTAMP:20260421T073813
CREATED:20200814T181526Z
LAST-MODIFIED:20200914T135854Z
UID:10000016-1600188300-1600191900@empoweredcommunities.org
SUMMARY:STAND General Meeting
DESCRIPTION:Join us virtually via Zoom. Click HERE to join or visit https://zoom.us/join and enter: \nMeeting ID: 818 9843 4542 \nPassword: 742597 \nJoin the General Meeting\, bringing all of the youth of STAND Above the Influence together to collaborate on initiatives and share ideas. Open to all youth in the committee\, new and existing STAND Members and Mentors.
URL:https://empoweredcommunities.org/event/stand-general-meeting-2/
CATEGORIES:STAND
END:VEVENT
BEGIN:VEVENT
DTSTART;TZID=America/New_York:20200909T180000
DTEND;TZID=America/New_York:20200909T190000
DTSTAMP:20260421T073813
CREATED:20200901T184929Z
LAST-MODIFIED:20200901T184929Z
UID:10000075-1599674400-1599678000@empoweredcommunities.org
SUMMARY:Suicide Prevention Awareness Month's: Night of H.O.P.E
DESCRIPTION:Join us Virtually as we honor suicide prevention awareness month by sharing stories\, prevention strategies\, resources\, and warning signs. You are not alone and your message matters. Help us to build a community of awareness and to change the conversation on suicide to those that provide H.O.P.E and heal. This event is open to all\, we ask that children under the age of 12 are accompanied by an adult. \nClick HERE to Register! \n#preventsuicide\, #weRhopeFL\, #take5tosavelives\, #WSPD
URL:https://empoweredcommunities.org/event/suicide-prevention-awareness-months-night-of-h-o-p-e/
CATEGORIES:AHC
END:VEVENT
BEGIN:VEVENT
DTSTART;TZID=America/New_York:20200909T100000
DTEND;TZID=America/New_York:20200909T120000
DTSTAMP:20260421T073813
CREATED:20200814T170500Z
LAST-MODIFIED:20200814T170500Z
UID:10000044-1599645600-1599652800@empoweredcommunities.org
SUMMARY:SEN Committee Meeting
DESCRIPTION:Join us virtually via Zoom! Click HERE to join\, or visit https://zoom.us/join and enter:  \nMeeting ID: 828 6547 9166 \nPassword: 061677 \nJoin the discussion on Substance Exposed Newborns (SEN); working to reverse the growing epidemic of substance exposed newborns by designing and implementing strategies that help reduce community risk factors and promote protective factors.
URL:https://empoweredcommunities.org/event/sen-committee-meeting/
CATEGORIES:ASAP
END:VEVENT
BEGIN:VEVENT
DTSTART;TZID=America/New_York:20200908T163000
DTEND;TZID=America/New_York:20200908T180000
DTSTAMP:20260421T073813
CREATED:20200814T174935Z
LAST-MODIFIED:20200828T170651Z
UID:10000011-1599582600-1599588000@empoweredcommunities.org
SUMMARY:Alcohol Initiatives Committee Meeting
DESCRIPTION:Join us virtually via Zoom! Click HERE to join or visit https://zoom.us/join and enter \nMeeting ID: 874 6165 2577 \nPasscode: 735548 \nDial-In option: 929-205-6099 \nJoin the discussion on Alcohol Initiatives collaborating with Tobacco Free Pasco & MADD; work to reduce underage drinking and impaired driving in the community by providing education and implementing effective strategies that work to create population level change.
URL:https://empoweredcommunities.org/event/alcohol-initiatives-committee/
CATEGORIES:ASAP
END:VEVENT
BEGIN:VEVENT
DTSTART;TZID=America/New_York:20200901T150000
DTEND;TZID=America/New_York:20200901T163000
DTSTAMP:20260421T073813
CREATED:20200814T165333Z
LAST-MODIFIED:20200814T165515Z
UID:10000064-1598972400-1598977800@empoweredcommunities.org
SUMMARY:Opioid/Rx Committee Meeting
DESCRIPTION:Join us virtually via zoom! Click HERE to join or go to www.zoom.com/join and enter:  \nMeeting ID: 834 6615 6874 \nPassword: 344143 \nJoin the discussion on opioids and prescription drug misuse and help battle the epidemic; building community awareness\, education and enhancing access to opioid alternatives and life-saving Narcan. Help build strategies that save lives and reduce harm.
URL:https://empoweredcommunities.org/event/opioid-rx-committee-meeting-3/
CATEGORIES:ASAP
END:VEVENT
BEGIN:VEVENT
DTSTART;TZID=America/New_York:20200825T100000
DTEND;TZID=America/New_York:20200825T120000
DTSTAMP:20260421T073813
CREATED:20200129T220246Z
LAST-MODIFIED:20200824T135136Z
UID:10000097-1598349600-1598356800@empoweredcommunities.org
SUMMARY:General Meeting
DESCRIPTION:Join us virtually via Zoom. Click HERE to join. \nMeeting ID: 894 8050 616 \nPassword: 399526 \nASAP GenMtg Agenda Aug 2020 \nASAP_July 2020 Mtg Minutes
URL:https://empoweredcommunities.org/event/aug-25-2020-general-meeting/
LOCATION:Hybrid – In Person & Virtual via Zoom\, 6020 US-19\, New Port Richey\, FL\, 34652\, United States
CATEGORIES:ASAP
END:VEVENT
BEGIN:VEVENT
DTSTART;TZID=America/New_York:20200824T170000
DTEND;TZID=America/New_York:20200824T180000
DTSTAMP:20260421T073813
CREATED:20200814T171825Z
LAST-MODIFIED:20200814T171825Z
UID:10000070-1598288400-1598292000@empoweredcommunities.org
SUMMARY:Recovery Committee Meeting
DESCRIPTION:Join us virtually via Zoom! Click HERE to join or visit https://zoom.us/join and enter:  \nMeeting ID: 826 702 5 4538 \nPassword: 451180 \nJoin the discussion on Recovery; working to enhance the quality and quantity of support to those affected by substance use disorders through community involvement\, advocacy\, and public education and awareness. 
URL:https://empoweredcommunities.org/event/recovery-committee-meeting-5/
CATEGORIES:ASAP
END:VEVENT
BEGIN:VEVENT
DTSTART;TZID=America/New_York:20200818T160000
DTEND;TZID=America/New_York:20200818T170000
DTSTAMP:20260421T073813
CREATED:20200814T181317Z
LAST-MODIFIED:20200814T181317Z
UID:10000015-1597766400-1597770000@empoweredcommunities.org
SUMMARY:STAND General Meeting
DESCRIPTION:Join us virtually via Zoom. Click HERE to join or visit https://zoom.us/join and enter: \nMeeting ID: 818 9843 4542 \nPassword: 742597 \nJoin the General Meeting\, bringing all of the youth of STAND Above the Influence together to collaborate on initiatives and share ideas. Open to all youth in the committee\, new and existing STAND Members and Mentors. \n 
URL:https://empoweredcommunities.org/event/stand-general-meeting/
CATEGORIES:STAND
END:VEVENT
BEGIN:VEVENT
DTSTART;TZID=America/New_York:20200817T163000
DTEND;TZID=America/New_York:20200817T173000
DTSTAMP:20260421T073813
CREATED:20200814T180426Z
LAST-MODIFIED:20200814T180451Z
UID:10000013-1597681800-1597685400@empoweredcommunities.org
SUMMARY:Cultural Competence Committee Meeting
DESCRIPTION:Join us virtually via Zoom! Click HERE to join or visit https://zoom.us/join and enter \nMeeting ID: 815 1525 0641 \nPassword: 883088 \nJoin the discussion on cultural competence; Working to #ChangeTheLanguageASAP\, building education and awareness on the importance of cultural competence community\, helping to create a community that celebrates our differences.
URL:https://empoweredcommunities.org/event/cultural-competence-meeting/
CATEGORIES:ASAP
END:VEVENT
BEGIN:VEVENT
DTSTART;TZID=America/New_York:20200727T170000
DTEND;TZID=America/New_York:20200727T180000
DTSTAMP:20260421T073813
CREATED:20200623T123301Z
LAST-MODIFIED:20200623T123301Z
UID:10000042-1595869200-1595872800@empoweredcommunities.org
SUMMARY:Recovery Committee Meeting
DESCRIPTION:We are going virtual in July! Join us on Zoom at https://zoom.us/join \nMeeting ID: 826 702 5 4538 \nPassword: 451180 \nJoin the discussion on Recovery; building a community that supports persons in recovery through awareness\, education\, reducing barriers\, enhancing access\, and practicing gratitude.
URL:https://empoweredcommunities.org/event/recovery-committee-meeting-4/
CATEGORIES:ASAP
END:VEVENT
BEGIN:VEVENT
DTSTART;TZID=America/New_York:20200708T100000
DTEND;TZID=America/New_York:20200708T120000
DTSTAMP:20260421T073813
CREATED:20200623T123045Z
LAST-MODIFIED:20200623T123400Z
UID:10000040-1594202400-1594209600@empoweredcommunities.org
SUMMARY:Substance Exposed Newborns Committee Meeting
DESCRIPTION:We are going virtual in July! Join us on Zoom at https://zoom.us/join \nMeeting ID: 828 6547 9166 \nPassword: 061677 \nDirect Link: https://us02web.zoom.us/j/82865479166?pwd=c2dMTGJtcEQ2aHJsZ1NvUW9FV2wvdz09 \nJoin the discussion on Substance Exposed Newborns (SEN); working to reverse the growing epidemic of substance exposed newborns by designing and implementing strategies that help reduce community risk factors and promote protective factors.
URL:https://empoweredcommunities.org/event/substance-exposed-newborns-committee-meeting-2/
CATEGORIES:ASAP
END:VEVENT
BEGIN:VEVENT
DTSTART;TZID=America/New_York:20200707T150000
DTEND;TZID=America/New_York:20200707T163000
DTSTAMP:20260421T073813
CREATED:20200623T122818Z
LAST-MODIFIED:20200623T122818Z
UID:10000039-1594134000-1594139400@empoweredcommunities.org
SUMMARY:Opioid/Rx Committee Meeting
DESCRIPTION:We are going virtual in July! Join us on Zoom at https://zoom.us/join \nMeeting ID: 834 6615 6874 \nPassword: 344143 \nDirect Link: https://us02web.zoom.us/j/83466156874?pwd=NzNiMlg2ZlNFOTBGT2ZiOXAzS0lEZz09 \nJoin the discussion on opioids and prescription drug misuse and help battle the epidemic; building community awareness\, education and enhancing access to opioid alternatives and life-saving Narcan. Help build strategies that save lives and reduce harm.
URL:https://empoweredcommunities.org/event/opioid-rx-committee-meeting-2/
CATEGORIES:ASAP
END:VEVENT
BEGIN:VEVENT
DTSTART;TZID=America/New_York:20200706T163000
DTEND;TZID=America/New_York:20200706T180000
DTSTAMP:20260421T073813
CREATED:20200623T122558Z
LAST-MODIFIED:20200623T122558Z
UID:10000038-1594053000-1594058400@empoweredcommunities.org
SUMMARY:Alcohol Initiatives Committee Meeting
DESCRIPTION:We are going virtual in July! Join us on Zoom at https://zoom.us/join \nMeeting ID: 844 2750 9059 \nPassword: 207615 \nJoin the discussion on Alcohol Initiatives; work to reduce underage drinking and impaired driving in the community by providing education and implementing effective strategies that work to create population level change.
URL:https://empoweredcommunities.org/event/alcohol-initiatives-committee-meeting-2/
CATEGORIES:ASAP
END:VEVENT
BEGIN:VEVENT
DTSTART;TZID=America/New_York:20200623T100000
DTEND;TZID=America/New_York:20200623T120000
DTSTAMP:20260421T073813
CREATED:20200129T220150Z
LAST-MODIFIED:20200131T184447Z
UID:10000095-1592906400-1592913600@empoweredcommunities.org
SUMMARY:General Meeting
DESCRIPTION:
URL:https://empoweredcommunities.org/event/jun-23-2020-general-meeting/
LOCATION:Hybrid – In Person & Virtual via Zoom\, 6020 US-19\, New Port Richey\, FL\, 34652\, United States
CATEGORIES:ASAP
END:VEVENT
BEGIN:VEVENT
DTSTART;TZID=America/New_York:20200622T170000
DTEND;TZID=America/New_York:20200622T180000
DTSTAMP:20260421T073813
CREATED:20200522T161635Z
LAST-MODIFIED:20200522T161635Z
UID:10000032-1592845200-1592848800@empoweredcommunities.org
SUMMARY:Recovery Committee Meeting
DESCRIPTION:We are going virtual in June! Join us on Zoom at https://zoom.us/join \nMeeting ID: 826 702 5 4538 \nPassword: 451180 \nJoin the discussion on Recovery; building a community that supports persons in recovery through awareness\, education\, reducing barriers\, enhancing access\, and practicing gratitude.
URL:https://empoweredcommunities.org/event/recovery-committee-meeting-3/
CATEGORIES:ASAP
END:VEVENT
BEGIN:VEVENT
DTSTART;TZID=America/New_York:20200610T100000
DTEND;TZID=America/New_York:20200610T230000
DTSTAMP:20260421T073813
CREATED:20200523T001007Z
LAST-MODIFIED:20200523T001234Z
UID:10000037-1591783200-1591830000@empoweredcommunities.org
SUMMARY:Substance Exposed Newborns Committee Meeting
DESCRIPTION:We are going virtual in June! Join us on Zoom at https://zoom.us/join \nMeeting ID: 828 6547 9166 \nPassword: 061677 \nJoin the discussion on Substance Exposed Newborns (SEN); working to reverse the growing epidemic of substance exposed newborns by designing and implementing strategies that help reduce community risk factors and promote protective factors.
URL:https://empoweredcommunities.org/event/substance-exposed-newborns-committee-meeting/
CATEGORIES:ASAP
END:VEVENT
BEGIN:VEVENT
DTSTART;TZID=America/New_York:20200602T150000
DTEND;TZID=America/New_York:20200602T160000
DTSTAMP:20260421T073813
CREATED:20200523T000337Z
LAST-MODIFIED:20200523T001115Z
UID:10000036-1591110000-1591113600@empoweredcommunities.org
SUMMARY:Opioid/Rx Committee Meeting
DESCRIPTION:We are going virtual in June! Join us on Zoom at https://zoom.us/join \nMeeting ID: 834 6615 6874 \nPassword: 344143 \nJoin the discussion on opioids and prescription drug misuse and help battle the epidemic; building community awareness\, education and enhancing access to opioid alternatives and life-saving Narcan. Help build strategies that save lives and reduce harm.
URL:https://empoweredcommunities.org/event/opioid-rx-committee-meeting/
CATEGORIES:ASAP
END:VEVENT
END:VCALENDAR