BEGIN:VCALENDAR
VERSION:2.0
PRODID:-//Alliance for Healthy Communities - ECPv6.15.20//NONSGML v1.0//EN
CALSCALE:GREGORIAN
METHOD:PUBLISH
X-ORIGINAL-URL:https://empoweredcommunities.org
X-WR-CALDESC:Events for Alliance for Healthy Communities
REFRESH-INTERVAL;VALUE=DURATION:PT1H
X-Robots-Tag:noindex
X-PUBLISHED-TTL:PT1H
BEGIN:VTIMEZONE
TZID:America/New_York
BEGIN:DAYLIGHT
TZOFFSETFROM:-0500
TZOFFSETTO:-0400
TZNAME:EDT
DTSTART:20240310T070000
END:DAYLIGHT
BEGIN:STANDARD
TZOFFSETFROM:-0400
TZOFFSETTO:-0500
TZNAME:EST
DTSTART:20241103T060000
END:STANDARD
BEGIN:DAYLIGHT
TZOFFSETFROM:-0500
TZOFFSETTO:-0400
TZNAME:EDT
DTSTART:20250309T070000
END:DAYLIGHT
BEGIN:STANDARD
TZOFFSETFROM:-0400
TZOFFSETTO:-0500
TZNAME:EST
DTSTART:20251102T060000
END:STANDARD
BEGIN:DAYLIGHT
TZOFFSETFROM:-0500
TZOFFSETTO:-0400
TZNAME:EDT
DTSTART:20260308T070000
END:DAYLIGHT
BEGIN:STANDARD
TZOFFSETFROM:-0400
TZOFFSETTO:-0500
TZNAME:EST
DTSTART:20261101T060000
END:STANDARD
BEGIN:DAYLIGHT
TZOFFSETFROM:-0500
TZOFFSETTO:-0400
TZNAME:EDT
DTSTART:20270314T070000
END:DAYLIGHT
BEGIN:STANDARD
TZOFFSETFROM:-0400
TZOFFSETTO:-0500
TZNAME:EST
DTSTART:20271107T060000
END:STANDARD
END:VTIMEZONE
BEGIN:VEVENT
DTSTART;TZID=America/New_York:20251223T100000
DTEND;TZID=America/New_York:20251223T120000
DTSTAMP:20260421T133808
CREATED:20240926T192331Z
LAST-MODIFIED:20250603T192125Z
UID:10000876-1766484000-1766491200@empoweredcommunities.org
SUMMARY:ASAP General Coalition Meeting (Hybrid)
DESCRIPTION:Beginning in January 2025\, this will be a ‘Hybrid’ meeting\, meaning that you can either join In-person at one of three addresses throughout the County (note: meeting location will change every month to allow for more in-person participation)\, or join us virtually via Zoom. To join by Zoom\, click HERE or visit https://zoom.us/join and enter: \nMeeting ID: 894 8050 6106 \nPassword: 399526 \nJoin this General Coalition Meeting to collaborate\, network\, discuss committee updates\, and hear guest speakers on topics relevant to our collective efforts. \n*If you are a member or community stakeholder and have information you’d like to share at a general coalition meeting\, please email asap@empoweredcommunities.org with information and/or flyers/documents that you’d like to share. \n 
URL:https://empoweredcommunities.org/event/asap-general-coalition-meeting-2/2025-12-23/
LOCATION:All Ways Center\, 6020 US-19\, New Port Richey\, FL\, 34652\, United States
CATEGORIES:ASAP
ATTACH;FMTTYPE=image/png:https://empoweredcommunities.org/wp-content/uploads/2024/09/1.png
END:VEVENT
BEGIN:VEVENT
DTSTART;TZID=America/New_York:20251224T090000
DTEND;TZID=America/New_York:20251224T100000
DTSTAMP:20260421T133808
CREATED:20241214T161329Z
LAST-MODIFIED:20250603T192324Z
UID:10000936-1766566800-1766570400@empoweredcommunities.org
SUMMARY:Pasco County Suicide Prevention (SAFE) Coalition
DESCRIPTION:Virtual Via TEAMS \nMicrosoft Teams meeting \nJoin on your computer or mobile app \nClick here to join the meeting \nOr call in (audio only) \n+1 689-206-0410\,\,228937562#   United States\, Orlando \nPhone Conference ID: 228 937 562# \nFind a local number | Reset PIN
URL:https://empoweredcommunities.org/event/pasco-county-suicide-prevention-safe-coalition/2025-12-24/
LOCATION:Virtual
CATEGORIES:SAFE
ATTACH;FMTTYPE=image/png:https://empoweredcommunities.org/wp-content/uploads/2024/09/8.png
END:VEVENT
BEGIN:VEVENT
DTSTART;TZID=America/New_York:20260106T080000
DTEND;TZID=America/New_York:20260106T093000
DTSTAMP:20260421T133808
CREATED:20250123T031947Z
LAST-MODIFIED:20251219T161525Z
UID:10000443-1767686400-1767691800@empoweredcommunities.org
SUMMARY:Veterans Coffee Social
DESCRIPTION:Answer the Call\, Serve with Honor\, Sip with Pride! First Monday of every month.
URL:https://empoweredcommunities.org/event/veterans-coffee-social-12/
LOCATION:All Ways Center\, 6020 US-19\, New Port Richey\, FL\, 34652\, United States
CATEGORIES:AHC
ATTACH;FMTTYPE=image/png:https://empoweredcommunities.org/wp-content/uploads/2025/02/Screenshot-2025-02-22-at-12.22.47-AM.png
ORGANIZER;CN="AHC":MAILTO:MISSY@EMPOWEREDCOMMUNITIES.ORG
END:VEVENT
BEGIN:VEVENT
DTSTART;TZID=America/New_York:20260106T150000
DTEND;TZID=America/New_York:20260106T163000
DTSTAMP:20260421T133808
CREATED:20231201T184505Z
LAST-MODIFIED:20250603T191204Z
UID:10000817-1767711600-1767717000@empoweredcommunities.org
SUMMARY:Opioid/Rx Committee Meeting
DESCRIPTION:Join us virtually via zoom! Click HERE to join or go to www.zoom.com/join and enter:  \nMeeting ID: 834 6615 6874 \nPassword: 344143 \nJoin the discussion on opioids and prescription drug misuse and help battle the epidemic; building community awareness\, education and enhancing access to opioid alternatives and life-saving Narcan. Help build strategies that save lives and reduce harm.
URL:https://empoweredcommunities.org/event/opioid-rx-committee-meeting-39/2026-01-06/
CATEGORIES:ASAP
ATTACH;FMTTYPE=image/png:https://empoweredcommunities.org/wp-content/uploads/2023/12/MONTHLY.png
END:VEVENT
BEGIN:VEVENT
DTSTART;TZID=America/New_York:20260114T100000
DTEND;TZID=America/New_York:20260114T110000
DTSTAMP:20260421T133808
CREATED:20250603T190626Z
LAST-MODIFIED:20250603T190626Z
UID:10000757-1768384800-1768388400@empoweredcommunities.org
SUMMARY:Substance Exposed Newborn Committee
DESCRIPTION:
URL:https://empoweredcommunities.org/event/substance-exposed-newborn-committee-2/2026-01-14/
LOCATION:Virtual via Zoom
CATEGORIES:ASAP
ATTACH;FMTTYPE=image/png:https://empoweredcommunities.org/wp-content/uploads/2024/12/3-1.png
END:VEVENT
BEGIN:VEVENT
DTSTART;TZID=America/New_York:20260120T170000
DTEND;TZID=America/New_York:20260120T180000
DTSTAMP:20260421T133808
CREATED:20241214T160931Z
LAST-MODIFIED:20250603T190600Z
UID:10000697-1768928400-1768932000@empoweredcommunities.org
SUMMARY:Recovery Committee
DESCRIPTION:Virtual Via Zoom \nJoin Zoom Meeting \nhttps://us02web.zoom.us/j/82670254538?pwd=YTZVNkxwWUEydlhJVk5SdE1MbmRuQT09 \nMeeting ID: 826 7025 4538 \nPasscode: 451180
URL:https://empoweredcommunities.org/event/recovery-committee/2026-01-20/
LOCATION:Virtual via Zoom
CATEGORIES:ASAP
ATTACH;FMTTYPE=image/png:https://empoweredcommunities.org/wp-content/uploads/2024/12/2.png
END:VEVENT
BEGIN:VEVENT
DTSTART;TZID=America/New_York:20260127T100000
DTEND;TZID=America/New_York:20260127T120000
DTSTAMP:20260421T133808
CREATED:20240926T192331Z
LAST-MODIFIED:20250603T192125Z
UID:10000877-1769508000-1769515200@empoweredcommunities.org
SUMMARY:ASAP General Coalition Meeting (Hybrid)
DESCRIPTION:Beginning in January 2025\, this will be a ‘Hybrid’ meeting\, meaning that you can either join In-person at one of three addresses throughout the County (note: meeting location will change every month to allow for more in-person participation)\, or join us virtually via Zoom. To join by Zoom\, click HERE or visit https://zoom.us/join and enter: \nMeeting ID: 894 8050 6106 \nPassword: 399526 \nJoin this General Coalition Meeting to collaborate\, network\, discuss committee updates\, and hear guest speakers on topics relevant to our collective efforts. \n*If you are a member or community stakeholder and have information you’d like to share at a general coalition meeting\, please email asap@empoweredcommunities.org with information and/or flyers/documents that you’d like to share. \n 
URL:https://empoweredcommunities.org/event/asap-general-coalition-meeting-2/2026-01-27/
LOCATION:All Ways Center\, 6020 US-19\, New Port Richey\, FL\, 34652\, United States
CATEGORIES:ASAP
ATTACH;FMTTYPE=image/png:https://empoweredcommunities.org/wp-content/uploads/2024/09/1.png
END:VEVENT
BEGIN:VEVENT
DTSTART;TZID=America/New_York:20260128T090000
DTEND;TZID=America/New_York:20260128T100000
DTSTAMP:20260421T133808
CREATED:20241214T161329Z
LAST-MODIFIED:20250603T192324Z
UID:10000937-1769590800-1769594400@empoweredcommunities.org
SUMMARY:Pasco County Suicide Prevention (SAFE) Coalition
DESCRIPTION:Virtual Via TEAMS \nMicrosoft Teams meeting \nJoin on your computer or mobile app \nClick here to join the meeting \nOr call in (audio only) \n+1 689-206-0410\,\,228937562#   United States\, Orlando \nPhone Conference ID: 228 937 562# \nFind a local number | Reset PIN
URL:https://empoweredcommunities.org/event/pasco-county-suicide-prevention-safe-coalition/2026-01-28/
LOCATION:Virtual
CATEGORIES:SAFE
ATTACH;FMTTYPE=image/png:https://empoweredcommunities.org/wp-content/uploads/2024/09/8.png
END:VEVENT
BEGIN:VEVENT
DTSTART;TZID=America/New_York:20260203T150000
DTEND;TZID=America/New_York:20260203T163000
DTSTAMP:20260421T133808
CREATED:20231201T184505Z
LAST-MODIFIED:20250603T191204Z
UID:10000818-1770130800-1770136200@empoweredcommunities.org
SUMMARY:Opioid/Rx Committee Meeting
DESCRIPTION:Join us virtually via zoom! Click HERE to join or go to www.zoom.com/join and enter:  \nMeeting ID: 834 6615 6874 \nPassword: 344143 \nJoin the discussion on opioids and prescription drug misuse and help battle the epidemic; building community awareness\, education and enhancing access to opioid alternatives and life-saving Narcan. Help build strategies that save lives and reduce harm.
URL:https://empoweredcommunities.org/event/opioid-rx-committee-meeting-39/2026-02-03/
CATEGORIES:ASAP
ATTACH;FMTTYPE=image/png:https://empoweredcommunities.org/wp-content/uploads/2023/12/MONTHLY.png
END:VEVENT
BEGIN:VEVENT
DTSTART;TZID=America/New_York:20260211T100000
DTEND;TZID=America/New_York:20260211T110000
DTSTAMP:20260421T133808
CREATED:20250603T190626Z
LAST-MODIFIED:20250603T190626Z
UID:10000758-1770804000-1770807600@empoweredcommunities.org
SUMMARY:Substance Exposed Newborn Committee
DESCRIPTION:
URL:https://empoweredcommunities.org/event/substance-exposed-newborn-committee-2/2026-02-11/
LOCATION:Virtual via Zoom
CATEGORIES:ASAP
ATTACH;FMTTYPE=image/png:https://empoweredcommunities.org/wp-content/uploads/2024/12/3-1.png
END:VEVENT
BEGIN:VEVENT
DTSTART;TZID=America/New_York:20260217T170000
DTEND;TZID=America/New_York:20260217T180000
DTSTAMP:20260421T133808
CREATED:20241214T160931Z
LAST-MODIFIED:20250603T190600Z
UID:10000698-1771347600-1771351200@empoweredcommunities.org
SUMMARY:Recovery Committee
DESCRIPTION:Virtual Via Zoom \nJoin Zoom Meeting \nhttps://us02web.zoom.us/j/82670254538?pwd=YTZVNkxwWUEydlhJVk5SdE1MbmRuQT09 \nMeeting ID: 826 7025 4538 \nPasscode: 451180
URL:https://empoweredcommunities.org/event/recovery-committee/2026-02-17/
LOCATION:Virtual via Zoom
CATEGORIES:ASAP
ATTACH;FMTTYPE=image/png:https://empoweredcommunities.org/wp-content/uploads/2024/12/2.png
END:VEVENT
BEGIN:VEVENT
DTSTART;TZID=America/New_York:20260224T100000
DTEND;TZID=America/New_York:20260224T120000
DTSTAMP:20260421T133808
CREATED:20240926T192331Z
LAST-MODIFIED:20250603T192125Z
UID:10000878-1771927200-1771934400@empoweredcommunities.org
SUMMARY:ASAP General Coalition Meeting (Hybrid)
DESCRIPTION:Beginning in January 2025\, this will be a ‘Hybrid’ meeting\, meaning that you can either join In-person at one of three addresses throughout the County (note: meeting location will change every month to allow for more in-person participation)\, or join us virtually via Zoom. To join by Zoom\, click HERE or visit https://zoom.us/join and enter: \nMeeting ID: 894 8050 6106 \nPassword: 399526 \nJoin this General Coalition Meeting to collaborate\, network\, discuss committee updates\, and hear guest speakers on topics relevant to our collective efforts. \n*If you are a member or community stakeholder and have information you’d like to share at a general coalition meeting\, please email asap@empoweredcommunities.org with information and/or flyers/documents that you’d like to share. \n 
URL:https://empoweredcommunities.org/event/asap-general-coalition-meeting-2/2026-02-24/
LOCATION:All Ways Center\, 6020 US-19\, New Port Richey\, FL\, 34652\, United States
CATEGORIES:ASAP
ATTACH;FMTTYPE=image/png:https://empoweredcommunities.org/wp-content/uploads/2024/09/1.png
END:VEVENT
BEGIN:VEVENT
DTSTART;TZID=America/New_York:20260225T090000
DTEND;TZID=America/New_York:20260225T100000
DTSTAMP:20260421T133808
CREATED:20241214T161329Z
LAST-MODIFIED:20250603T192324Z
UID:10000938-1772010000-1772013600@empoweredcommunities.org
SUMMARY:Pasco County Suicide Prevention (SAFE) Coalition
DESCRIPTION:Virtual Via TEAMS \nMicrosoft Teams meeting \nJoin on your computer or mobile app \nClick here to join the meeting \nOr call in (audio only) \n+1 689-206-0410\,\,228937562#   United States\, Orlando \nPhone Conference ID: 228 937 562# \nFind a local number | Reset PIN
URL:https://empoweredcommunities.org/event/pasco-county-suicide-prevention-safe-coalition/2026-02-25/
LOCATION:Virtual
CATEGORIES:SAFE
ATTACH;FMTTYPE=image/png:https://empoweredcommunities.org/wp-content/uploads/2024/09/8.png
END:VEVENT
BEGIN:VEVENT
DTSTART;TZID=America/New_York:20260303T150000
DTEND;TZID=America/New_York:20260303T163000
DTSTAMP:20260421T133808
CREATED:20231201T184505Z
LAST-MODIFIED:20250603T191204Z
UID:10000819-1772550000-1772555400@empoweredcommunities.org
SUMMARY:Opioid/Rx Committee Meeting
DESCRIPTION:Join us virtually via zoom! Click HERE to join or go to www.zoom.com/join and enter:  \nMeeting ID: 834 6615 6874 \nPassword: 344143 \nJoin the discussion on opioids and prescription drug misuse and help battle the epidemic; building community awareness\, education and enhancing access to opioid alternatives and life-saving Narcan. Help build strategies that save lives and reduce harm.
URL:https://empoweredcommunities.org/event/opioid-rx-committee-meeting-39/2026-03-03/
CATEGORIES:ASAP
ATTACH;FMTTYPE=image/png:https://empoweredcommunities.org/wp-content/uploads/2023/12/MONTHLY.png
END:VEVENT
BEGIN:VEVENT
DTSTART;TZID=America/New_York:20260311T100000
DTEND;TZID=America/New_York:20260311T110000
DTSTAMP:20260421T133808
CREATED:20250603T190626Z
LAST-MODIFIED:20250603T190626Z
UID:10000759-1773223200-1773226800@empoweredcommunities.org
SUMMARY:Substance Exposed Newborn Committee
DESCRIPTION:
URL:https://empoweredcommunities.org/event/substance-exposed-newborn-committee-2/2026-03-11/
LOCATION:Virtual via Zoom
CATEGORIES:ASAP
ATTACH;FMTTYPE=image/png:https://empoweredcommunities.org/wp-content/uploads/2024/12/3-1.png
END:VEVENT
BEGIN:VEVENT
DTSTART;TZID=America/New_York:20260317T170000
DTEND;TZID=America/New_York:20260317T180000
DTSTAMP:20260421T133808
CREATED:20241214T160931Z
LAST-MODIFIED:20250603T190600Z
UID:10000699-1773766800-1773770400@empoweredcommunities.org
SUMMARY:Recovery Committee
DESCRIPTION:Virtual Via Zoom \nJoin Zoom Meeting \nhttps://us02web.zoom.us/j/82670254538?pwd=YTZVNkxwWUEydlhJVk5SdE1MbmRuQT09 \nMeeting ID: 826 7025 4538 \nPasscode: 451180
URL:https://empoweredcommunities.org/event/recovery-committee/2026-03-17/
LOCATION:Virtual via Zoom
CATEGORIES:ASAP
ATTACH;FMTTYPE=image/png:https://empoweredcommunities.org/wp-content/uploads/2024/12/2.png
END:VEVENT
BEGIN:VEVENT
DTSTART;TZID=America/New_York:20260324T100000
DTEND;TZID=America/New_York:20260324T120000
DTSTAMP:20260421T133808
CREATED:20240926T192331Z
LAST-MODIFIED:20250603T192125Z
UID:10000879-1774346400-1774353600@empoweredcommunities.org
SUMMARY:ASAP General Coalition Meeting (Hybrid)
DESCRIPTION:Beginning in January 2025\, this will be a ‘Hybrid’ meeting\, meaning that you can either join In-person at one of three addresses throughout the County (note: meeting location will change every month to allow for more in-person participation)\, or join us virtually via Zoom. To join by Zoom\, click HERE or visit https://zoom.us/join and enter: \nMeeting ID: 894 8050 6106 \nPassword: 399526 \nJoin this General Coalition Meeting to collaborate\, network\, discuss committee updates\, and hear guest speakers on topics relevant to our collective efforts. \n*If you are a member or community stakeholder and have information you’d like to share at a general coalition meeting\, please email asap@empoweredcommunities.org with information and/or flyers/documents that you’d like to share. \n 
URL:https://empoweredcommunities.org/event/asap-general-coalition-meeting-2/2026-03-24/
LOCATION:All Ways Center\, 6020 US-19\, New Port Richey\, FL\, 34652\, United States
CATEGORIES:ASAP
ATTACH;FMTTYPE=image/png:https://empoweredcommunities.org/wp-content/uploads/2024/09/1.png
END:VEVENT
BEGIN:VEVENT
DTSTART;TZID=America/New_York:20260325T090000
DTEND;TZID=America/New_York:20260325T100000
DTSTAMP:20260421T133808
CREATED:20241214T161329Z
LAST-MODIFIED:20250603T192324Z
UID:10000939-1774429200-1774432800@empoweredcommunities.org
SUMMARY:Pasco County Suicide Prevention (SAFE) Coalition
DESCRIPTION:Virtual Via TEAMS \nMicrosoft Teams meeting \nJoin on your computer or mobile app \nClick here to join the meeting \nOr call in (audio only) \n+1 689-206-0410\,\,228937562#   United States\, Orlando \nPhone Conference ID: 228 937 562# \nFind a local number | Reset PIN
URL:https://empoweredcommunities.org/event/pasco-county-suicide-prevention-safe-coalition/2026-03-25/
LOCATION:Virtual
CATEGORIES:SAFE
ATTACH;FMTTYPE=image/png:https://empoweredcommunities.org/wp-content/uploads/2024/09/8.png
END:VEVENT
BEGIN:VEVENT
DTSTART;TZID=America/New_York:20260407T150000
DTEND;TZID=America/New_York:20260407T163000
DTSTAMP:20260421T133808
CREATED:20231201T184505Z
LAST-MODIFIED:20250603T191204Z
UID:10000820-1775574000-1775579400@empoweredcommunities.org
SUMMARY:Opioid/Rx Committee Meeting
DESCRIPTION:Join us virtually via zoom! Click HERE to join or go to www.zoom.com/join and enter:  \nMeeting ID: 834 6615 6874 \nPassword: 344143 \nJoin the discussion on opioids and prescription drug misuse and help battle the epidemic; building community awareness\, education and enhancing access to opioid alternatives and life-saving Narcan. Help build strategies that save lives and reduce harm.
URL:https://empoweredcommunities.org/event/opioid-rx-committee-meeting-39/2026-04-07/
CATEGORIES:ASAP
ATTACH;FMTTYPE=image/png:https://empoweredcommunities.org/wp-content/uploads/2023/12/MONTHLY.png
END:VEVENT
BEGIN:VEVENT
DTSTART;TZID=America/New_York:20260408T100000
DTEND;TZID=America/New_York:20260408T110000
DTSTAMP:20260421T133808
CREATED:20250603T190626Z
LAST-MODIFIED:20250603T190626Z
UID:10000760-1775642400-1775646000@empoweredcommunities.org
SUMMARY:Substance Exposed Newborn Committee
DESCRIPTION:
URL:https://empoweredcommunities.org/event/substance-exposed-newborn-committee-2/2026-04-08/
LOCATION:Virtual via Zoom
CATEGORIES:ASAP
ATTACH;FMTTYPE=image/png:https://empoweredcommunities.org/wp-content/uploads/2024/12/3-1.png
END:VEVENT
BEGIN:VEVENT
DTSTART;TZID=America/New_York:20260421T170000
DTEND;TZID=America/New_York:20260421T180000
DTSTAMP:20260421T133808
CREATED:20241214T160931Z
LAST-MODIFIED:20250603T190600Z
UID:10000700-1776790800-1776794400@empoweredcommunities.org
SUMMARY:Recovery Committee
DESCRIPTION:Virtual Via Zoom \nJoin Zoom Meeting \nhttps://us02web.zoom.us/j/82670254538?pwd=YTZVNkxwWUEydlhJVk5SdE1MbmRuQT09 \nMeeting ID: 826 7025 4538 \nPasscode: 451180
URL:https://empoweredcommunities.org/event/recovery-committee/2026-04-21/
LOCATION:Virtual via Zoom
CATEGORIES:ASAP
ATTACH;FMTTYPE=image/png:https://empoweredcommunities.org/wp-content/uploads/2024/12/2.png
END:VEVENT
BEGIN:VEVENT
DTSTART;TZID=America/New_York:20260422T090000
DTEND;TZID=America/New_York:20260422T100000
DTSTAMP:20260421T133808
CREATED:20241214T161329Z
LAST-MODIFIED:20250603T192324Z
UID:10000940-1776848400-1776852000@empoweredcommunities.org
SUMMARY:Pasco County Suicide Prevention (SAFE) Coalition
DESCRIPTION:Virtual Via TEAMS \nMicrosoft Teams meeting \nJoin on your computer or mobile app \nClick here to join the meeting \nOr call in (audio only) \n+1 689-206-0410\,\,228937562#   United States\, Orlando \nPhone Conference ID: 228 937 562# \nFind a local number | Reset PIN
URL:https://empoweredcommunities.org/event/pasco-county-suicide-prevention-safe-coalition/2026-04-22/
LOCATION:Virtual
CATEGORIES:SAFE
ATTACH;FMTTYPE=image/png:https://empoweredcommunities.org/wp-content/uploads/2024/09/8.png
END:VEVENT
BEGIN:VEVENT
DTSTART;TZID=America/New_York:20260428T100000
DTEND;TZID=America/New_York:20260428T120000
DTSTAMP:20260421T133808
CREATED:20240926T192331Z
LAST-MODIFIED:20250603T192125Z
UID:10000880-1777370400-1777377600@empoweredcommunities.org
SUMMARY:ASAP General Coalition Meeting (Hybrid)
DESCRIPTION:Beginning in January 2025\, this will be a ‘Hybrid’ meeting\, meaning that you can either join In-person at one of three addresses throughout the County (note: meeting location will change every month to allow for more in-person participation)\, or join us virtually via Zoom. To join by Zoom\, click HERE or visit https://zoom.us/join and enter: \nMeeting ID: 894 8050 6106 \nPassword: 399526 \nJoin this General Coalition Meeting to collaborate\, network\, discuss committee updates\, and hear guest speakers on topics relevant to our collective efforts. \n*If you are a member or community stakeholder and have information you’d like to share at a general coalition meeting\, please email asap@empoweredcommunities.org with information and/or flyers/documents that you’d like to share. \n 
URL:https://empoweredcommunities.org/event/asap-general-coalition-meeting-2/2026-04-28/
LOCATION:All Ways Center\, 6020 US-19\, New Port Richey\, FL\, 34652\, United States
CATEGORIES:ASAP
ATTACH;FMTTYPE=image/png:https://empoweredcommunities.org/wp-content/uploads/2024/09/1.png
END:VEVENT
BEGIN:VEVENT
DTSTART;TZID=America/New_York:20260502T100000
DTEND;TZID=America/New_York:20260502T130000
DTSTAMP:20260421T133808
CREATED:20260212T182754Z
LAST-MODIFIED:20260212T183003Z
UID:10000991-1777716000-1777726800@empoweredcommunities.org
SUMMARY:Spring Into Hope Recovery Walk 2026
DESCRIPTION:
URL:https://empoweredcommunities.org/event/spring-into-hope-recovery-walk-2026/
LOCATION:Zephyr Park\, 38116 5th Avenue\, Zephyrhills\, 33542\, United States
CATEGORIES:AHC,ASAP
ATTACH;FMTTYPE=image/png:https://empoweredcommunities.org/wp-content/uploads/2026/02/ChatGPT-Image-Feb-12-2026-at-01_02_35-PM.png
END:VEVENT
BEGIN:VEVENT
DTSTART;TZID=America/New_York:20260505T150000
DTEND;TZID=America/New_York:20260505T163000
DTSTAMP:20260421T133808
CREATED:20231201T184505Z
LAST-MODIFIED:20250603T191204Z
UID:10000821-1777993200-1777998600@empoweredcommunities.org
SUMMARY:Opioid/Rx Committee Meeting
DESCRIPTION:Join us virtually via zoom! Click HERE to join or go to www.zoom.com/join and enter:  \nMeeting ID: 834 6615 6874 \nPassword: 344143 \nJoin the discussion on opioids and prescription drug misuse and help battle the epidemic; building community awareness\, education and enhancing access to opioid alternatives and life-saving Narcan. Help build strategies that save lives and reduce harm.
URL:https://empoweredcommunities.org/event/opioid-rx-committee-meeting-39/2026-05-05/
CATEGORIES:ASAP
ATTACH;FMTTYPE=image/png:https://empoweredcommunities.org/wp-content/uploads/2023/12/MONTHLY.png
END:VEVENT
BEGIN:VEVENT
DTSTART;TZID=America/New_York:20260513T100000
DTEND;TZID=America/New_York:20260513T110000
DTSTAMP:20260421T133808
CREATED:20250603T190626Z
LAST-MODIFIED:20250603T190626Z
UID:10000761-1778666400-1778670000@empoweredcommunities.org
SUMMARY:Substance Exposed Newborn Committee
DESCRIPTION:
URL:https://empoweredcommunities.org/event/substance-exposed-newborn-committee-2/2026-05-13/
LOCATION:Virtual via Zoom
CATEGORIES:ASAP
ATTACH;FMTTYPE=image/png:https://empoweredcommunities.org/wp-content/uploads/2024/12/3-1.png
END:VEVENT
BEGIN:VEVENT
DTSTART;TZID=America/New_York:20260519T170000
DTEND;TZID=America/New_York:20260519T180000
DTSTAMP:20260421T133808
CREATED:20241214T160931Z
LAST-MODIFIED:20250603T190600Z
UID:10000701-1779210000-1779213600@empoweredcommunities.org
SUMMARY:Recovery Committee
DESCRIPTION:Virtual Via Zoom \nJoin Zoom Meeting \nhttps://us02web.zoom.us/j/82670254538?pwd=YTZVNkxwWUEydlhJVk5SdE1MbmRuQT09 \nMeeting ID: 826 7025 4538 \nPasscode: 451180
URL:https://empoweredcommunities.org/event/recovery-committee/2026-05-19/
LOCATION:Virtual via Zoom
CATEGORIES:ASAP
ATTACH;FMTTYPE=image/png:https://empoweredcommunities.org/wp-content/uploads/2024/12/2.png
END:VEVENT
BEGIN:VEVENT
DTSTART;TZID=America/New_York:20260526T100000
DTEND;TZID=America/New_York:20260526T120000
DTSTAMP:20260421T133808
CREATED:20240926T192331Z
LAST-MODIFIED:20250603T192125Z
UID:10000881-1779789600-1779796800@empoweredcommunities.org
SUMMARY:ASAP General Coalition Meeting (Hybrid)
DESCRIPTION:Beginning in January 2025\, this will be a ‘Hybrid’ meeting\, meaning that you can either join In-person at one of three addresses throughout the County (note: meeting location will change every month to allow for more in-person participation)\, or join us virtually via Zoom. To join by Zoom\, click HERE or visit https://zoom.us/join and enter: \nMeeting ID: 894 8050 6106 \nPassword: 399526 \nJoin this General Coalition Meeting to collaborate\, network\, discuss committee updates\, and hear guest speakers on topics relevant to our collective efforts. \n*If you are a member or community stakeholder and have information you’d like to share at a general coalition meeting\, please email asap@empoweredcommunities.org with information and/or flyers/documents that you’d like to share. \n 
URL:https://empoweredcommunities.org/event/asap-general-coalition-meeting-2/2026-05-26/
LOCATION:All Ways Center\, 6020 US-19\, New Port Richey\, FL\, 34652\, United States
CATEGORIES:ASAP
ATTACH;FMTTYPE=image/png:https://empoweredcommunities.org/wp-content/uploads/2024/09/1.png
END:VEVENT
BEGIN:VEVENT
DTSTART;TZID=America/New_York:20260527T090000
DTEND;TZID=America/New_York:20260527T100000
DTSTAMP:20260421T133808
CREATED:20241214T161329Z
LAST-MODIFIED:20250603T192324Z
UID:10000941-1779872400-1779876000@empoweredcommunities.org
SUMMARY:Pasco County Suicide Prevention (SAFE) Coalition
DESCRIPTION:Virtual Via TEAMS \nMicrosoft Teams meeting \nJoin on your computer or mobile app \nClick here to join the meeting \nOr call in (audio only) \n+1 689-206-0410\,\,228937562#   United States\, Orlando \nPhone Conference ID: 228 937 562# \nFind a local number | Reset PIN
URL:https://empoweredcommunities.org/event/pasco-county-suicide-prevention-safe-coalition/2026-05-27/
LOCATION:Virtual
CATEGORIES:SAFE
ATTACH;FMTTYPE=image/png:https://empoweredcommunities.org/wp-content/uploads/2024/09/8.png
END:VEVENT
BEGIN:VEVENT
DTSTART;TZID=America/New_York:20260602T150000
DTEND;TZID=America/New_York:20260602T163000
DTSTAMP:20260421T133808
CREATED:20231201T184505Z
LAST-MODIFIED:20250603T191204Z
UID:10000822-1780412400-1780417800@empoweredcommunities.org
SUMMARY:Opioid/Rx Committee Meeting
DESCRIPTION:Join us virtually via zoom! Click HERE to join or go to www.zoom.com/join and enter:  \nMeeting ID: 834 6615 6874 \nPassword: 344143 \nJoin the discussion on opioids and prescription drug misuse and help battle the epidemic; building community awareness\, education and enhancing access to opioid alternatives and life-saving Narcan. Help build strategies that save lives and reduce harm.
URL:https://empoweredcommunities.org/event/opioid-rx-committee-meeting-39/2026-06-02/
CATEGORIES:ASAP
ATTACH;FMTTYPE=image/png:https://empoweredcommunities.org/wp-content/uploads/2023/12/MONTHLY.png
END:VEVENT
END:VCALENDAR