BEGIN:VCALENDAR
VERSION:2.0
PRODID:-//Alliance for Healthy Communities - ECPv6.15.20//NONSGML v1.0//EN
CALSCALE:GREGORIAN
METHOD:PUBLISH
X-ORIGINAL-URL:https://empoweredcommunities.org
X-WR-CALDESC:Events for Alliance for Healthy Communities
REFRESH-INTERVAL;VALUE=DURATION:PT1H
X-Robots-Tag:noindex
X-PUBLISHED-TTL:PT1H
BEGIN:VTIMEZONE
TZID:America/New_York
BEGIN:DAYLIGHT
TZOFFSETFROM:-0500
TZOFFSETTO:-0400
TZNAME:EDT
DTSTART:20210314T070000
END:DAYLIGHT
BEGIN:STANDARD
TZOFFSETFROM:-0400
TZOFFSETTO:-0500
TZNAME:EST
DTSTART:20211107T060000
END:STANDARD
BEGIN:DAYLIGHT
TZOFFSETFROM:-0500
TZOFFSETTO:-0400
TZNAME:EDT
DTSTART:20220313T070000
END:DAYLIGHT
BEGIN:STANDARD
TZOFFSETFROM:-0400
TZOFFSETTO:-0500
TZNAME:EST
DTSTART:20221106T060000
END:STANDARD
BEGIN:DAYLIGHT
TZOFFSETFROM:-0500
TZOFFSETTO:-0400
TZNAME:EDT
DTSTART:20230312T070000
END:DAYLIGHT
BEGIN:STANDARD
TZOFFSETFROM:-0400
TZOFFSETTO:-0500
TZNAME:EST
DTSTART:20231105T060000
END:STANDARD
BEGIN:DAYLIGHT
TZOFFSETFROM:-0500
TZOFFSETTO:-0400
TZNAME:EDT
DTSTART:20240310T070000
END:DAYLIGHT
BEGIN:STANDARD
TZOFFSETFROM:-0400
TZOFFSETTO:-0500
TZNAME:EST
DTSTART:20241103T060000
END:STANDARD
END:VTIMEZONE
BEGIN:VEVENT
DTSTART;TZID=America/New_York:20230127T133000
DTEND;TZID=America/New_York:20230127T163000
DTSTAMP:20260420T004927
CREATED:20230106T234501Z
LAST-MODIFIED:20230106T235510Z
UID:10000333-1674826200-1674837000@empoweredcommunities.org
SUMMARY:Tipping the Pain Scale Free Documentary Screening
DESCRIPTION:You are invited to a FREE screening of a new documentary \nJoin others who are invested in learning more about the national opioid and addiction crisis. To RSVP or for more information\, call 727-541-2646 or email amanda.marker@uhsinc.com \nPortico Cafe\, Community Hall 1001 N Florida Ave\,Tampa\, FL\, 33602 \n  \n \nWindmoor Film screening flyer
URL:https://empoweredcommunities.org/event/tipping-the-pain-scale/
END:VEVENT
BEGIN:VEVENT
DTSTART;TZID=America/New_York:20230124T100000
DTEND;TZID=America/New_York:20230124T120000
DTSTAMP:20260420T004927
CREATED:20221118T191705Z
LAST-MODIFIED:20221118T191705Z
UID:10000321-1674554400-1674561600@empoweredcommunities.org
SUMMARY:ASAP General Coalition Meeting
DESCRIPTION:Join Zoom Meeting \nhttps://us02web.zoom.us/j/89480506106?pwd=ZGdLdjF4ZjlDbFNJNFNsZnN0NXpRUT09 \n  \nMeeting ID: 894 8050 6106
URL:https://empoweredcommunities.org/event/asap-general-coalition-meeting/
END:VEVENT
BEGIN:VEVENT
DTSTART;TZID=America/New_York:20230124T100000
DTEND;TZID=America/New_York:20230124T120000
DTSTAMP:20260420T004927
CREATED:20221029T180942Z
LAST-MODIFIED:20221029T180942Z
UID:10000248-1674554400-1674561600@empoweredcommunities.org
SUMMARY:ASAP General Meeting
DESCRIPTION:Join us virtually via Zoom. Click HERE to join or visit https://zoom.us/join and enter \nMeeting ID: 894 8050 6106 \nPassword: 399526 \nJoin our General Meeting to collaborate\, network\, discuss committee updates\, and hear guest speakers on topics relevant to our organizations mission and vision. \n*If you are a member or community stakeholder and have information you’d like to share at a general meeting\, please email asap@empoweredcommunities.org with information and/or flyers/documents that you’d like to share. \n 
URL:https://empoweredcommunities.org/event/asap-general-meeting-21/
LOCATION:Hybrid – In Person & Virtual via Zoom\, 6020 US-19\, New Port Richey\, FL\, 34652\, United States
CATEGORIES:ASAP
END:VEVENT
BEGIN:VEVENT
DTSTART;TZID=America/New_York:20230123T170000
DTEND;TZID=America/New_York:20230123T180000
DTSTAMP:20260420T004927
CREATED:20221029T183356Z
LAST-MODIFIED:20221029T183511Z
UID:10000151-1674493200-1674496800@empoweredcommunities.org
SUMMARY:Recovery Committee Meeting
DESCRIPTION:Join us virtually via Zoom! Click HERE to join or visit https://zoom.us/join and enter:  \nMeeting ID: 826 7025 4538 \nPassword: 451180 \nJoin the discussion on Recovery; working to enhance the quality and quantity of support to those affected by substance use disorders through community involvement\, advocacy\, and public education and awareness. 
URL:https://empoweredcommunities.org/event/recovery-committee-meeting-26/
CATEGORIES:ASAP
END:VEVENT
BEGIN:VEVENT
DTSTART;TZID=America/New_York:20230116T153000
DTEND;TZID=America/New_York:20230116T170000
DTSTAMP:20260420T004927
CREATED:20221121T142543Z
LAST-MODIFIED:20221121T142847Z
UID:10000324-1673883000-1673888400@empoweredcommunities.org
SUMMARY:Cultural Competence Meeting
DESCRIPTION:Join Zoom Meeting\nhttps://us02web.zoom.us/j/81515250641?pwd=Mkp3L2Q0TkRrV0R6Y3FiMVFkaHJmdz09 \nMeeting ID: 815 1525 0641
URL:https://empoweredcommunities.org/event/cultural-competence-meeting-2/
END:VEVENT
BEGIN:VEVENT
DTSTART;TZID=America/New_York:20230116T100000
DTEND;TZID=America/New_York:20230116T140000
DTSTAMP:20260420T004927
CREATED:20221231T022307Z
LAST-MODIFIED:20221231T022307Z
UID:10000332-1673863200-1673877600@empoweredcommunities.org
SUMMARY:Visioning 2023 with pizza\, bowling\, and games
DESCRIPTION:Join us to help vision the STAND projects and campaigns for 2023 then have some fun with friends! Completely FREE!!! \nMiddle and High School students\, join us to help vision the STAND projects and campaigns for 2023 then have some fun with friends! Completely FREE!!! \nThere will be food\, bowling\, laser tag\, and a ninja warrior course! Bring your friends\, but register soon! There are only 30 available spots! See you there! \nLaneGlo North Bowling 6935 Ridge Road Port Richey\, FL 34668 \n \n 
URL:https://empoweredcommunities.org/event/visioning-2023-with-pizza-bowling-and-games/
END:VEVENT
BEGIN:VEVENT
DTSTART;TZID=America/New_York:20230111T100000
DTEND;TZID=America/New_York:20230111T120000
DTSTAMP:20260420T004927
CREATED:20221029T184530Z
LAST-MODIFIED:20221029T184530Z
UID:10000266-1673431200-1673438400@empoweredcommunities.org
SUMMARY:SEN Committee Meeting
DESCRIPTION:Join us virtually via Zoom! Click HERE to join\, or visit https://zoom.us/join and enter:  \nMeeting ID: 828 6547 9166 \nPassword: 061677 \nJoin the discussion on Substance Exposed Newborns (SEN); working to reverse the growing epidemic of substance exposed newborns by designing and implementing strategies that help reduce community risk factors and promote protective factors.
URL:https://empoweredcommunities.org/event/sen-committee-meeting-22/
CATEGORIES:ASAP
END:VEVENT
BEGIN:VEVENT
DTSTART;TZID=America/New_York:20230105T180000
DTEND;TZID=America/New_York:20230105T190000
DTSTAMP:20260420T004927
CREATED:20221118T192356Z
LAST-MODIFIED:20221118T192356Z
UID:10000323-1672941600-1672945200@empoweredcommunities.org
SUMMARY:Journey to Healing Hearts Virtual Group
DESCRIPTION:Join Zoom Meeting \nhttps://us02web.zoom.us/j/82057831059?pwd=SEJnM1lLVWQ0Q0Z4QjdhZnp6ZWZpZz09 \nMeeting ID: 820 5783 1059
URL:https://empoweredcommunities.org/event/journey-to-healing-hearts-virtual-group/
LOCATION:Hybrid – In Person & Virtual via Zoom\, 6020 US-19\, New Port Richey\, FL\, 34652\, United States
END:VEVENT
BEGIN:VEVENT
DTSTART;TZID=America/New_York:20230104T130000
DTEND;TZID=America/New_York:20230104T140000
DTSTAMP:20260420T004927
CREATED:20221114T175602Z
LAST-MODIFIED:20221118T193514Z
UID:10000291-1672837200-1672840800@empoweredcommunities.org
SUMMARY:Knowledge is Power\, Converse with Nurse: FREE Virtual Group for Families
DESCRIPTION:Topic: Marijuana and Pregnancy \nKnowledge is Power\, Converse with Nurse: FREE Virtual Group for Families Tickets\, Multiple Dates | Eventbrite
URL:https://empoweredcommunities.org/event/converse-with-a-nurse-6/
END:VEVENT
BEGIN:VEVENT
DTSTART;TZID=America/New_York:20230103T150000
DTEND;TZID=America/New_York:20230103T163000
DTSTAMP:20260420T004927
CREATED:20221029T182644Z
LAST-MODIFIED:20221029T182644Z
UID:10000257-1672758000-1672763400@empoweredcommunities.org
SUMMARY:Opioid/Rx Committee Meeting
DESCRIPTION:Join us virtually via zoom! Click HERE to join or go to www.zoom.com/join and enter:  \nMeeting ID: 834 6615 6874 \nPassword: 344143 \nJoin the discussion on opioids and prescription drug misuse and help battle the epidemic; building community awareness\, education and enhancing access to opioid alternatives and life-saving Narcan. Help build strategies that save lives and reduce harm.
URL:https://empoweredcommunities.org/event/opioid-rx-committee-meeting-26/
CATEGORIES:ASAP
END:VEVENT
BEGIN:VEVENT
DTSTART;TZID=America/New_York:20230102T163000
DTEND;TZID=America/New_York:20230102T180000
DTSTAMP:20260420T004927
CREATED:20221029T194447Z
LAST-MODIFIED:20221029T194447Z
UID:10000275-1672677000-1672682400@empoweredcommunities.org
SUMMARY:Alcohol Initiatives Committee Meeting
DESCRIPTION:Join us virtually via Zoom! Click HERE to join or visit https://zoom.us/join and enter \nMeeting ID: 874 6165 2577 \nPasscode: 735548 \nDial-In option: 929-205-6099 \nJoin the discussion on Alcohol Initiatives collaborating with MADD; work to reduce underage drinking and impaired driving in the community by providing education and implementing effective strategies that work to create population level change.
URL:https://empoweredcommunities.org/event/alcohol-initiatives-committee-meeting-23/
CATEGORIES:ASAP
END:VEVENT
BEGIN:VEVENT
DTSTART;TZID=America/New_York:20221222T160000
DTEND;TZID=America/New_York:20221222T170000
DTSTAMP:20260420T004927
CREATED:20221114T182912Z
LAST-MODIFIED:20221115T191716Z
UID:10000306-1671724800-1671728400@empoweredcommunities.org
SUMMARY:Teen Talk Virtual Group
DESCRIPTION:Join Zoom Meeting\nhttps://us02web.zoom.us/j/81100085664?pwd=VcxD5fuarpjt3N_6vDFlEInIfmEfyU.1 \nMeeting ID: 811 0008 5664 \n \n  \n 
URL:https://empoweredcommunities.org/event/teen-talk-virtual-group-5/
ATTACH;FMTTYPE=image/jpeg:https://empoweredcommunities.org/wp-content/uploads/2022/11/teen-talk.jpg
END:VEVENT
BEGIN:VEVENT
DTSTART;TZID=America/New_York:20221222T120000
DTEND;TZID=America/New_York:20221222T130000
DTSTAMP:20260420T004927
CREATED:20221114T181427Z
LAST-MODIFIED:20221122T135840Z
UID:10000296-1671710400-1671714000@empoweredcommunities.org
SUMMARY:Empowering our Teens Virtual Group
DESCRIPTION:A series that focuses on the challenges teens and parents face and how to empower them to overcome adversity and make healthy decisions. \nJoin Zoom Meeting \nhttps://us02web.zoom.us/j/84387226792 \nMeeting ID: 843 8722 6792 \n\nAbout this event\n\n\n\n\n“Empowering Our Teens” is a series of free workshops. Join us virtually over lunch as we discuss the challenges teens and parents face and how we can empower our teens to overcome adversity. We’ll discuss a series of topics which support parents and empower teens to make healthy decisions. Register now for any of our topics below\, Thursday’s 12pm-1pm. \nDecember Topics \nDEC 1: Anxiety & depression in teens \nDEC 8: Bullying: Be A Buddy\, Not A Bully \nDEC 15: Developing Children’s Self-Esteem & Positive Self-Talk \nDEC 22: No Webinar: Holiday Week \nDEC 29: Decision making skills \nJanuary Topics \nJAN 5: How to talk to your teen about drugs \nJAN 12: How to talk to your teen about suicide \nJAN 19: How to talk to your teen about dating & dating violence \nJAN 26: How to talk to your teen about anything \nEmail Missy.Coyle@baycare.org if you have any questions or need additional assistance.
URL:https://empoweredcommunities.org/event/empowering-our-teens-virtual-group-5/
ATTACH;FMTTYPE=image/jpeg:https://empoweredcommunities.org/wp-content/uploads/2022/11/empowering-our-teens.jpg
END:VEVENT
BEGIN:VEVENT
DTSTART;TZID=America/New_York:20221222T090000
DTEND;TZID=America/New_York:20221222T100000
DTSTAMP:20260420T004927
CREATED:20221114T182316Z
LAST-MODIFIED:20221121T151959Z
UID:10000301-1671699600-1671703200@empoweredcommunities.org
SUMMARY:Finding Happy Virtual Group
DESCRIPTION:A series focused on self-improvement in the new year; embracing the new year as a new opportunity to find your happy. \nJoin Zoom Meeting \nhttps://us02web.zoom.us/j/81712473127 \nMeeting ID: 817 1247 3127
URL:https://empoweredcommunities.org/event/finding-happy-virtual-group-5/
END:VEVENT
BEGIN:VEVENT
DTSTART;TZID=America/New_York:20221221T130000
DTEND;TZID=America/New_York:20221221T140000
DTSTAMP:20260420T004927
CREATED:20221114T175351Z
LAST-MODIFIED:20221118T193540Z
UID:10000290-1671627600-1671631200@empoweredcommunities.org
SUMMARY:Knowledge is Power\, Converse with Nurse: FREE Virtual Group for Families
DESCRIPTION:Topic: Resource Education \nKnowledge is Power\, Converse with Nurse: FREE Virtual Group for Families Tickets\, Multiple Dates | Eventbrite
URL:https://empoweredcommunities.org/event/converse-with-a-nurse-5/
END:VEVENT
BEGIN:VEVENT
DTSTART;TZID=America/New_York:20221220T180000
DTEND;TZID=America/New_York:20221220T190000
DTSTAMP:20260420T004927
CREATED:20221115T193624Z
LAST-MODIFIED:20221122T141529Z
UID:10000319-1671559200-1671562800@empoweredcommunities.org
SUMMARY:Stronger Together: Children's Mental Health-Evening
DESCRIPTION:This series focuses on common youth mental health diagnoses\, strategies\, and development of skills that can create positive change within families. \nJoin Zoom Meeting\nhttps://us02web.zoom.us/j/85613763867 \nMeeting ID: 856 1376 3867 \n“Stronger Together: Empowering Our Children” is a series of free workshops facilitated by BayCare Behavioral Health Community Activation Team. Join us in sharing experiences\, frustrations\, successes and ideas that will help us grow as individuals and parents who empower our children. Throughout series we’ll discuss a series of topics which support parents in facing the many challenges of parenting and that promote skills to foster healthy adolescent development and strengthening family bonds. Register now for any of our topics\, Tuesdays 12pm-1pm or 6pm-7pm. \nAll classes are virtual\, log in information will be provided after registration. Email eve.hosley@baycare.org if you have any questions or need additional assistance.
URL:https://empoweredcommunities.org/event/childrens-mental-health-virtual-group-evenings-5/
LOCATION:Hybrid – In Person & Virtual via Zoom\, 6020 US-19\, New Port Richey\, FL\, 34652\, United States
END:VEVENT
BEGIN:VEVENT
DTSTART;TZID=America/New_York:20221220T120000
DTEND;TZID=America/New_York:20221220T130000
DTSTAMP:20260420T004927
CREATED:20221114T184233Z
LAST-MODIFIED:20221122T142444Z
UID:10000312-1671537600-1671541200@empoweredcommunities.org
SUMMARY:Stronger Together: Children's Mental Health Virtual Group
DESCRIPTION:This series focuses on common youth mental health diagnoses\, strategies\, and development of skills that can create positive change within families. \nJoin Zoom Meeting\nhttps://us02web.zoom.us/j/85796118205 \nMeeting ID: 857 9611 8205 \n“Stronger Together: Empowering Our Children” is a series of free workshops facilitated by BayCare Behavioral Health Community Activation Team. Join us in sharing experiences\, frustrations\, successes and ideas that will help us grow as individuals and parents who empower our children. Throughout series we’ll discuss a series of topics which support parents in facing the many challenges of parenting and that promote skills to foster healthy adolescent development and strengthening family bonds. Register now for any of our topics\, Tuesdays 12pm-1pm or 6pm-7pm. \nAll classes are virtual\, log in information will be provided after registration. Email eve.hosley@baycare.org if you have any questions or need additional assistance.
URL:https://empoweredcommunities.org/event/childrens-mental-health-virtual-group-5/
END:VEVENT
BEGIN:VEVENT
DTSTART;TZID=America/New_York:20221215T160000
DTEND;TZID=America/New_York:20221215T170000
DTSTAMP:20260420T004927
CREATED:20221114T182817Z
LAST-MODIFIED:20221115T191633Z
UID:10000305-1671120000-1671123600@empoweredcommunities.org
SUMMARY:Teen Talk Virtual Group
DESCRIPTION:Join Zoom Meeting\nhttps://us02web.zoom.us/j/81100085664?pwd=VcxD5fuarpjt3N_6vDFlEInIfmEfyU.1 \nMeeting ID: 811 0008 5664
URL:https://empoweredcommunities.org/event/teen-talk-virtual-group-4/
ATTACH;FMTTYPE=image/jpeg:https://empoweredcommunities.org/wp-content/uploads/2022/11/teen-talk.jpg
END:VEVENT
BEGIN:VEVENT
DTSTART;TZID=America/New_York:20221215T120000
DTEND;TZID=America/New_York:20221215T130000
DTSTAMP:20260420T004927
CREATED:20221114T181314Z
LAST-MODIFIED:20221122T140001Z
UID:10000295-1671105600-1671109200@empoweredcommunities.org
SUMMARY:Empowering our Teens Virtual Group
DESCRIPTION:A series that focuses on the challenges teens and parents face and how to empower them to overcome adversity and make healthy decisions. \nJoin Zoom Meeting \nhttps://us02web.zoom.us/j/84387226792 \nMeeting ID: 843 8722 6792 \nAbout this event\n“Empowering Our Teens” is a series of free workshops. Join us virtually over lunch as we discuss the challenges teens and parents face and how we can empower our teens to overcome adversity. We’ll discuss a series of topics which support parents and empower teens to make healthy decisions. Register now for any of our topics below\, Thursday’s 12pm-1pm. \nDecember Topics \nDEC 1: Anxiety & depression in teens \nDEC 8: Bullying: Be A Buddy\, Not A Bully \nDEC 15: Developing Children’s Self-Esteem & Positive Self-Talk \nDEC 22: No Webinar: Holiday Week \nDEC 29: Decision making skills \nJanuary Topics \nJAN 5: How to talk to your teen about drugs \nJAN 12: How to talk to your teen about suicide \nJAN 19: How to talk to your teen about dating & dating violence \nJAN 26: How to talk to your teen about anything \nEmail Missy.Coyle@baycare.org if you have any questions or need additional assistance.
URL:https://empoweredcommunities.org/event/empowering-our-teens-virtual-group-4/
ATTACH;FMTTYPE=image/jpeg:https://empoweredcommunities.org/wp-content/uploads/2022/11/empowering-our-teens.jpg
END:VEVENT
BEGIN:VEVENT
DTSTART;TZID=America/New_York:20221215T090000
DTEND;TZID=America/New_York:20221215T100000
DTSTAMP:20260420T004927
CREATED:20221114T182218Z
LAST-MODIFIED:20221121T152202Z
UID:10000300-1671094800-1671098400@empoweredcommunities.org
SUMMARY:Finding Happy Virtual Group
DESCRIPTION:A series focused on self-improvement in the new year; embracing the new year as a new opportunity to find your happy. \nJoin Zoom Meeting \nhttps://us02web.zoom.us/j/81712473127 \nMeeting ID: 817 1247 3127
URL:https://empoweredcommunities.org/event/finding-happy-virtual-group-4/
LOCATION:Hybrid – In Person & Virtual via Zoom\, 6020 US-19\, New Port Richey\, FL\, 34652\, United States
END:VEVENT
BEGIN:VEVENT
DTSTART;TZID=America/New_York:20221214T130000
DTEND;TZID=America/New_York:20221214T140000
DTSTAMP:20260420T004927
CREATED:20221114T175231Z
LAST-MODIFIED:20221118T193616Z
UID:10000289-1671022800-1671026400@empoweredcommunities.org
SUMMARY:Knowledge is Power\, Converse with Nurse: FREE Virtual Group for Families
DESCRIPTION:Topic: SCRIPT\, L. Graham \nKnowledge is Power\, Converse with Nurse: FREE Virtual Group for Families Tickets\, Multiple Dates | Eventbrite
URL:https://empoweredcommunities.org/event/converse-with-a-nurse-4/
END:VEVENT
BEGIN:VEVENT
DTSTART;TZID=America/New_York:20221214T100000
DTEND;TZID=America/New_York:20221214T120000
DTSTAMP:20260420T004927
CREATED:20221118T191329Z
LAST-MODIFIED:20221118T191329Z
UID:10000320-1671012000-1671019200@empoweredcommunities.org
SUMMARY:Substance Exposed Newborn Committee Meeting
DESCRIPTION:Join Zoom Meeting \nhttps://us02web.zoom.us/j/82865479166?pwd=c2dMTGJtcEQ2aHJsZ1NvUW9FV2wvdz09 \nMeeting ID: 828 6547 9166 \n 
URL:https://empoweredcommunities.org/event/substance-exposed-newborn-committee-meeting/
LOCATION:Hybrid – In Person & Virtual via Zoom\, 6020 US-19\, New Port Richey\, FL\, 34652\, United States
END:VEVENT
BEGIN:VEVENT
DTSTART;TZID=America/New_York:20221213T180000
DTEND;TZID=America/New_York:20221213T190000
DTSTAMP:20260420T004927
CREATED:20221115T193459Z
LAST-MODIFIED:20221122T141723Z
UID:10000318-1670954400-1670958000@empoweredcommunities.org
SUMMARY:Stronger Together: Children's Mental Health- Evening
DESCRIPTION:This series focuses on common youth mental health diagnoses\, strategies\, and development of skills that can create positive change within families \nJoin Zoom Meeting\nhttps://us02web.zoom.us/j/85613763867 \nMeeting ID: 856 1376 3867 \n“Stronger Together: Empowering Our Children” is a series of free workshops facilitated by BayCare Behavioral Health Community Activation Team. Join us in sharing experiences\, frustrations\, successes and ideas that will help us grow as individuals and parents who empower our children. Throughout series we’ll discuss a series of topics which support parents in facing the many challenges of parenting and that promote skills to foster healthy adolescent development and strengthening family bonds. Register now for any of our topics\, Tuesdays 12pm-1pm or 6pm-7pm. \nAll classes are virtual\, log in information will be provided after registration. Email eve.hosley@baycare.org if you have any questions or need additional assistance.
URL:https://empoweredcommunities.org/event/childrens-mental-health-virtual-group-evening/
END:VEVENT
BEGIN:VEVENT
DTSTART;TZID=America/New_York:20221213T120000
DTEND;TZID=America/New_York:20221213T130000
DTSTAMP:20260420T004927
CREATED:20221114T184130Z
LAST-MODIFIED:20221122T142601Z
UID:10000311-1670932800-1670936400@empoweredcommunities.org
SUMMARY:Stronger Together: Children's Mental Health Virtual Group
DESCRIPTION:This series focuses on common youth mental health diagnoses\, strategies\, and development of skills that can create positive change within families. \nJoin Zoom Meeting\nhttps://us02web.zoom.us/j/85796118205 \nMeeting ID: 857 9611 8205 \n“Stronger Together: Empowering Our Children” is a series of free workshops facilitated by BayCare Behavioral Health Community Activation Team. Join us in sharing experiences\, frustrations\, successes and ideas that will help us grow as individuals and parents who empower our children. Throughout series we’ll discuss a series of topics which support parents in facing the many challenges of parenting and that promote skills to foster healthy adolescent development and strengthening family bonds. Register now for any of our topics\, Tuesdays 12pm-1pm or 6pm-7pm. \nAll classes are virtual\, log in information will be provided after registration. Email eve.hosley@baycare.org if you have any questions or need additional assistance.
URL:https://empoweredcommunities.org/event/childrens-mental-health-virtual-group-4/
END:VEVENT
BEGIN:VEVENT
DTSTART;TZID=America/New_York:20221208T190000
DTEND;TZID=America/New_York:20221208T210000
DTSTAMP:20260420T004927
CREATED:20221101T193522Z
LAST-MODIFIED:20221102T171053Z
UID:10000285-1670526000-1670533200@empoweredcommunities.org
SUMMARY:Mothers Against Drunk Driving (MADD) Candlelight Vigil
DESCRIPTION:Join us for the 38th Annual Mothers Against Drunk Driving Candlelight Vigil. The event will be starting at 7pm. Location information is below! \nMission Hill Church\n10002 North 56th Street\, Temple Terrace\, FL 33617 \nRSVP and questions can be sent to lachan.knowles@madd.org \n 
URL:https://empoweredcommunities.org/event/mothers-against-drunk-driving-candlelight-vigil/
END:VEVENT
BEGIN:VEVENT
DTSTART;TZID=America/New_York:20221208T160000
DTEND;TZID=America/New_York:20221208T170000
DTSTAMP:20260420T004927
CREATED:20221114T182704Z
LAST-MODIFIED:20221115T191757Z
UID:10000304-1670515200-1670518800@empoweredcommunities.org
SUMMARY:Teen Talk Virtual Group
DESCRIPTION:Join Zoom Meeting\nhttps://us02web.zoom.us/j/81100085664?pwd=VcxD5fuarpjt3N_6vDFlEInIfmEfyU.1 \nMeeting ID: 811 0008 5664
URL:https://empoweredcommunities.org/event/teen-talk-virtual-group-3/
ATTACH;FMTTYPE=image/jpeg:https://empoweredcommunities.org/wp-content/uploads/2022/11/teen-talk.jpg
END:VEVENT
BEGIN:VEVENT
DTSTART;TZID=America/New_York:20221208T120000
DTEND;TZID=America/New_York:20221208T130000
DTSTAMP:20260420T004927
CREATED:20221114T181148Z
LAST-MODIFIED:20221122T140110Z
UID:10000294-1670500800-1670504400@empoweredcommunities.org
SUMMARY:Empowering our Teens Virtual Group
DESCRIPTION:A series that focuses on the challenges teens and parents face and how to empower them to overcome adversity and make healthy decisions. \nJoin Zoom Meeting \nhttps://us02web.zoom.us/j/84387226792 \nMeeting ID: 843 8722 6792 \n\nAbout this event\n\n\n\n\n“Empowering Our Teens” is a series of free workshops. Join us virtually over lunch as we discuss the challenges teens and parents face and how we can empower our teens to overcome adversity. We’ll discuss a series of topics which support parents and empower teens to make healthy decisions. Register now for any of our topics below\, Thursday’s 12pm-1pm. \nDecember Topics \nDEC 1: Anxiety & depression in teens \nDEC 8: Bullying: Be A Buddy\, Not A Bully \nDEC 15: Developing Children’s Self-Esteem & Positive Self-Talk \nDEC 22: No Webinar: Holiday Week \nDEC 29: Decision making skills \nJanuary Topics \nJAN 5: How to talk to your teen about drugs \nJAN 12: How to talk to your teen about suicide \nJAN 19: How to talk to your teen about dating & dating violence \nJAN 26: How to talk to your teen about anything \nEmail Missy.Coyle@baycare.org if you have any questions or need additional assistance.
URL:https://empoweredcommunities.org/event/empowering-our-teens-virtual-group-3/
ATTACH;FMTTYPE=image/jpeg:https://empoweredcommunities.org/wp-content/uploads/2022/11/empowering-our-teens.jpg
END:VEVENT
BEGIN:VEVENT
DTSTART;TZID=America/New_York:20221208T100000
DTEND;TZID=America/New_York:20221208T120000
DTSTAMP:20260420T004927
CREATED:20221107T173933Z
LAST-MODIFIED:20221118T185114Z
UID:10000166-1670493600-1670500800@empoweredcommunities.org
SUMMARY:2022 Alliance for Healthy Communities Annual Brunch
DESCRIPTION:Join the Alliance for Healthy Communities and its affiliates\, Pasco Alliance for Substance Addiction Prevention and youth-led organization Stand Above the Influence\, as we reflect and look back at all the great work we accomplished in 2022. Please help us celebrate as we announce our Volunteer of the Year\, Community Partner of the Year and Youth Volunteer of the Year. We welcome our members\, board of directors\, and community stakeholders to network face-to-face\, make connections\, and collaborate. Come celebrate with us! Register today as space is limited. \nThursday\, December 8\, 2022 \n10 am to 12 pm \nSt. George Greek Orthodox Church\, 9426 Little Road\, New Port Richey\, FL 34654 \n			\n			\n				\n				\n				\n				\n				\n				\n				\n				\n				\n				\n			\n			\n				\n				\n				\n				\n			\n				\n				\n				\n				\n				\n				\n				\n				\n				\n				\n				Register for the event below:  \n2022 Annual Brunch Invitation \n 
URL:https://empoweredcommunities.org/event/2022-alliance-for-healthy-communities-annual-brunch/
ATTACH;FMTTYPE=image/jpeg:https://empoweredcommunities.org/wp-content/uploads/2022/11/ahc-brunch.jpg
END:VEVENT
BEGIN:VEVENT
DTSTART;TZID=America/New_York:20221208T090000
DTEND;TZID=America/New_York:20221208T100000
DTSTAMP:20260420T004927
CREATED:20221114T182125Z
LAST-MODIFIED:20221121T152235Z
UID:10000299-1670490000-1670493600@empoweredcommunities.org
SUMMARY:Finding Happy Virtual Group
DESCRIPTION:A series focused on self-improvement in the new year; embracing the new year as a new opportunity to find your happy. \nJoin Zoom Meeting \nhttps://us02web.zoom.us/j/81712473127 \nMeeting ID: 817 1247 3127
URL:https://empoweredcommunities.org/event/finding-happy-virtual-group-3/
END:VEVENT
BEGIN:VEVENT
DTSTART;TZID=America/New_York:20221207T130000
DTEND;TZID=America/New_York:20221207T140000
DTSTAMP:20260420T004927
CREATED:20221114T175040Z
LAST-MODIFIED:20221118T193653Z
UID:10000288-1670418000-1670421600@empoweredcommunities.org
SUMMARY:Knowledge is Power\, Converse with Nurse: FREE Virtual Group for Families
DESCRIPTION:Topic: Postpartum and Depression \nKnowledge is Power\, Converse with Nurse: FREE Virtual Group for Families Tickets\, Multiple Dates | Eventbrite
URL:https://empoweredcommunities.org/event/converse-with-a-nurse-3/
END:VEVENT
END:VCALENDAR