BEGIN:VCALENDAR
VERSION:2.0
PRODID:-//Alliance for Healthy Communities - ECPv6.15.20//NONSGML v1.0//EN
CALSCALE:GREGORIAN
METHOD:PUBLISH
X-ORIGINAL-URL:https://empoweredcommunities.org
X-WR-CALDESC:Events for Alliance for Healthy Communities
REFRESH-INTERVAL;VALUE=DURATION:PT1H
X-Robots-Tag:noindex
X-PUBLISHED-TTL:PT1H
BEGIN:VTIMEZONE
TZID:America/New_York
BEGIN:DAYLIGHT
TZOFFSETFROM:-0500
TZOFFSETTO:-0400
TZNAME:EDT
DTSTART:20270314T070000
END:DAYLIGHT
BEGIN:STANDARD
TZOFFSETFROM:-0400
TZOFFSETTO:-0500
TZNAME:EST
DTSTART:20271107T060000
END:STANDARD
BEGIN:DAYLIGHT
TZOFFSETFROM:-0500
TZOFFSETTO:-0400
TZNAME:EDT
DTSTART:20280312T070000
END:DAYLIGHT
BEGIN:STANDARD
TZOFFSETFROM:-0400
TZOFFSETTO:-0500
TZNAME:EST
DTSTART:20281105T060000
END:STANDARD
BEGIN:DAYLIGHT
TZOFFSETFROM:-0500
TZOFFSETTO:-0400
TZNAME:EDT
DTSTART:20290311T070000
END:DAYLIGHT
BEGIN:STANDARD
TZOFFSETFROM:-0400
TZOFFSETTO:-0500
TZNAME:EST
DTSTART:20291104T060000
END:STANDARD
END:VTIMEZONE
BEGIN:VEVENT
DTSTART;TZID=America/New_York:20280322T090000
DTEND;TZID=America/New_York:20280322T100000
DTSTAMP:20260422T054604
CREATED:20241214T161329Z
LAST-MODIFIED:20250603T192324Z
UID:10000963-1837328400-1837332000@empoweredcommunities.org
SUMMARY:Pasco County Suicide Prevention (SAFE) Coalition
DESCRIPTION:Virtual Via TEAMS \nMicrosoft Teams meeting \nJoin on your computer or mobile app \nClick here to join the meeting \nOr call in (audio only) \n+1 689-206-0410\,\,228937562#   United States\, Orlando \nPhone Conference ID: 228 937 562# \nFind a local number | Reset PIN
URL:https://empoweredcommunities.org/event/pasco-county-suicide-prevention-safe-coalition/2028-03-22/
LOCATION:Virtual
CATEGORIES:SAFE
ATTACH;FMTTYPE=image/png:https://empoweredcommunities.org/wp-content/uploads/2024/09/8.png
END:VEVENT
BEGIN:VEVENT
DTSTART;TZID=America/New_York:20280328T100000
DTEND;TZID=America/New_York:20280328T120000
DTSTAMP:20260422T054604
CREATED:20240926T192331Z
LAST-MODIFIED:20250603T192125Z
UID:10000903-1837850400-1837857600@empoweredcommunities.org
SUMMARY:ASAP General Coalition Meeting (Hybrid)
DESCRIPTION:Beginning in January 2025\, this will be a ‘Hybrid’ meeting\, meaning that you can either join In-person at one of three addresses throughout the County (note: meeting location will change every month to allow for more in-person participation)\, or join us virtually via Zoom. To join by Zoom\, click HERE or visit https://zoom.us/join and enter: \nMeeting ID: 894 8050 6106 \nPassword: 399526 \nJoin this General Coalition Meeting to collaborate\, network\, discuss committee updates\, and hear guest speakers on topics relevant to our collective efforts. \n*If you are a member or community stakeholder and have information you’d like to share at a general coalition meeting\, please email asap@empoweredcommunities.org with information and/or flyers/documents that you’d like to share. \n 
URL:https://empoweredcommunities.org/event/asap-general-coalition-meeting-2/2028-03-28/
LOCATION:All Ways Center\, 6020 US-19\, New Port Richey\, FL\, 34652\, United States
CATEGORIES:ASAP
ATTACH;FMTTYPE=image/png:https://empoweredcommunities.org/wp-content/uploads/2024/09/1.png
END:VEVENT
BEGIN:VEVENT
DTSTART;TZID=America/New_York:20280404T150000
DTEND;TZID=America/New_York:20280404T163000
DTSTAMP:20260422T054604
CREATED:20231201T184505Z
LAST-MODIFIED:20250603T191204Z
UID:10000844-1838473200-1838478600@empoweredcommunities.org
SUMMARY:Opioid/Rx Committee Meeting
DESCRIPTION:Join us virtually via zoom! Click HERE to join or go to www.zoom.com/join and enter:  \nMeeting ID: 834 6615 6874 \nPassword: 344143 \nJoin the discussion on opioids and prescription drug misuse and help battle the epidemic; building community awareness\, education and enhancing access to opioid alternatives and life-saving Narcan. Help build strategies that save lives and reduce harm.
URL:https://empoweredcommunities.org/event/opioid-rx-committee-meeting-39/2028-04-04/
CATEGORIES:ASAP
ATTACH;FMTTYPE=image/png:https://empoweredcommunities.org/wp-content/uploads/2023/12/MONTHLY.png
END:VEVENT
BEGIN:VEVENT
DTSTART;TZID=America/New_York:20280412T100000
DTEND;TZID=America/New_York:20280412T110000
DTSTAMP:20260422T054604
CREATED:20250603T190626Z
LAST-MODIFIED:20250603T190626Z
UID:10000784-1839146400-1839150000@empoweredcommunities.org
SUMMARY:Substance Exposed Newborn Committee
DESCRIPTION:
URL:https://empoweredcommunities.org/event/substance-exposed-newborn-committee-2/2028-04-12/
LOCATION:Virtual via Zoom
CATEGORIES:ASAP
ATTACH;FMTTYPE=image/png:https://empoweredcommunities.org/wp-content/uploads/2024/12/3-1.png
END:VEVENT
BEGIN:VEVENT
DTSTART;TZID=America/New_York:20280418T170000
DTEND;TZID=America/New_York:20280418T180000
DTSTAMP:20260422T054604
CREATED:20241214T160931Z
LAST-MODIFIED:20250603T190600Z
UID:10000724-1839690000-1839693600@empoweredcommunities.org
SUMMARY:Recovery Committee
DESCRIPTION:Virtual Via Zoom \nJoin Zoom Meeting \nhttps://us02web.zoom.us/j/82670254538?pwd=YTZVNkxwWUEydlhJVk5SdE1MbmRuQT09 \nMeeting ID: 826 7025 4538 \nPasscode: 451180
URL:https://empoweredcommunities.org/event/recovery-committee/2028-04-18/
LOCATION:Virtual via Zoom
CATEGORIES:ASAP
ATTACH;FMTTYPE=image/png:https://empoweredcommunities.org/wp-content/uploads/2024/12/2.png
END:VEVENT
BEGIN:VEVENT
DTSTART;TZID=America/New_York:20280425T100000
DTEND;TZID=America/New_York:20280425T120000
DTSTAMP:20260422T054604
CREATED:20240926T192331Z
LAST-MODIFIED:20250603T192125Z
UID:10000904-1840269600-1840276800@empoweredcommunities.org
SUMMARY:ASAP General Coalition Meeting (Hybrid)
DESCRIPTION:Beginning in January 2025\, this will be a ‘Hybrid’ meeting\, meaning that you can either join In-person at one of three addresses throughout the County (note: meeting location will change every month to allow for more in-person participation)\, or join us virtually via Zoom. To join by Zoom\, click HERE or visit https://zoom.us/join and enter: \nMeeting ID: 894 8050 6106 \nPassword: 399526 \nJoin this General Coalition Meeting to collaborate\, network\, discuss committee updates\, and hear guest speakers on topics relevant to our collective efforts. \n*If you are a member or community stakeholder and have information you’d like to share at a general coalition meeting\, please email asap@empoweredcommunities.org with information and/or flyers/documents that you’d like to share. \n 
URL:https://empoweredcommunities.org/event/asap-general-coalition-meeting-2/2028-04-25/
LOCATION:All Ways Center\, 6020 US-19\, New Port Richey\, FL\, 34652\, United States
CATEGORIES:ASAP
ATTACH;FMTTYPE=image/png:https://empoweredcommunities.org/wp-content/uploads/2024/09/1.png
END:VEVENT
BEGIN:VEVENT
DTSTART;TZID=America/New_York:20280426T090000
DTEND;TZID=America/New_York:20280426T100000
DTSTAMP:20260422T054604
CREATED:20241214T161329Z
LAST-MODIFIED:20250603T192324Z
UID:10000964-1840352400-1840356000@empoweredcommunities.org
SUMMARY:Pasco County Suicide Prevention (SAFE) Coalition
DESCRIPTION:Virtual Via TEAMS \nMicrosoft Teams meeting \nJoin on your computer or mobile app \nClick here to join the meeting \nOr call in (audio only) \n+1 689-206-0410\,\,228937562#   United States\, Orlando \nPhone Conference ID: 228 937 562# \nFind a local number | Reset PIN
URL:https://empoweredcommunities.org/event/pasco-county-suicide-prevention-safe-coalition/2028-04-26/
LOCATION:Virtual
CATEGORIES:SAFE
ATTACH;FMTTYPE=image/png:https://empoweredcommunities.org/wp-content/uploads/2024/09/8.png
END:VEVENT
BEGIN:VEVENT
DTSTART;TZID=America/New_York:20280502T150000
DTEND;TZID=America/New_York:20280502T163000
DTSTAMP:20260422T054604
CREATED:20231201T184505Z
LAST-MODIFIED:20250603T191204Z
UID:10000845-1840892400-1840897800@empoweredcommunities.org
SUMMARY:Opioid/Rx Committee Meeting
DESCRIPTION:Join us virtually via zoom! Click HERE to join or go to www.zoom.com/join and enter:  \nMeeting ID: 834 6615 6874 \nPassword: 344143 \nJoin the discussion on opioids and prescription drug misuse and help battle the epidemic; building community awareness\, education and enhancing access to opioid alternatives and life-saving Narcan. Help build strategies that save lives and reduce harm.
URL:https://empoweredcommunities.org/event/opioid-rx-committee-meeting-39/2028-05-02/
CATEGORIES:ASAP
ATTACH;FMTTYPE=image/png:https://empoweredcommunities.org/wp-content/uploads/2023/12/MONTHLY.png
END:VEVENT
BEGIN:VEVENT
DTSTART;TZID=America/New_York:20280510T100000
DTEND;TZID=America/New_York:20280510T110000
DTSTAMP:20260422T054604
CREATED:20250603T190626Z
LAST-MODIFIED:20250603T190626Z
UID:10000785-1841565600-1841569200@empoweredcommunities.org
SUMMARY:Substance Exposed Newborn Committee
DESCRIPTION:
URL:https://empoweredcommunities.org/event/substance-exposed-newborn-committee-2/2028-05-10/
LOCATION:Virtual via Zoom
CATEGORIES:ASAP
ATTACH;FMTTYPE=image/png:https://empoweredcommunities.org/wp-content/uploads/2024/12/3-1.png
END:VEVENT
BEGIN:VEVENT
DTSTART;TZID=America/New_York:20280516T170000
DTEND;TZID=America/New_York:20280516T180000
DTSTAMP:20260422T054604
CREATED:20241214T160931Z
LAST-MODIFIED:20250603T190600Z
UID:10000725-1842109200-1842112800@empoweredcommunities.org
SUMMARY:Recovery Committee
DESCRIPTION:Virtual Via Zoom \nJoin Zoom Meeting \nhttps://us02web.zoom.us/j/82670254538?pwd=YTZVNkxwWUEydlhJVk5SdE1MbmRuQT09 \nMeeting ID: 826 7025 4538 \nPasscode: 451180
URL:https://empoweredcommunities.org/event/recovery-committee/2028-05-16/
LOCATION:Virtual via Zoom
CATEGORIES:ASAP
ATTACH;FMTTYPE=image/png:https://empoweredcommunities.org/wp-content/uploads/2024/12/2.png
END:VEVENT
BEGIN:VEVENT
DTSTART;TZID=America/New_York:20280523T100000
DTEND;TZID=America/New_York:20280523T120000
DTSTAMP:20260422T054604
CREATED:20240926T192331Z
LAST-MODIFIED:20250603T192125Z
UID:10000905-1842688800-1842696000@empoweredcommunities.org
SUMMARY:ASAP General Coalition Meeting (Hybrid)
DESCRIPTION:Beginning in January 2025\, this will be a ‘Hybrid’ meeting\, meaning that you can either join In-person at one of three addresses throughout the County (note: meeting location will change every month to allow for more in-person participation)\, or join us virtually via Zoom. To join by Zoom\, click HERE or visit https://zoom.us/join and enter: \nMeeting ID: 894 8050 6106 \nPassword: 399526 \nJoin this General Coalition Meeting to collaborate\, network\, discuss committee updates\, and hear guest speakers on topics relevant to our collective efforts. \n*If you are a member or community stakeholder and have information you’d like to share at a general coalition meeting\, please email asap@empoweredcommunities.org with information and/or flyers/documents that you’d like to share. \n 
URL:https://empoweredcommunities.org/event/asap-general-coalition-meeting-2/2028-05-23/
LOCATION:All Ways Center\, 6020 US-19\, New Port Richey\, FL\, 34652\, United States
CATEGORIES:ASAP
ATTACH;FMTTYPE=image/png:https://empoweredcommunities.org/wp-content/uploads/2024/09/1.png
END:VEVENT
BEGIN:VEVENT
DTSTART;TZID=America/New_York:20280524T090000
DTEND;TZID=America/New_York:20280524T100000
DTSTAMP:20260422T054604
CREATED:20241214T161329Z
LAST-MODIFIED:20250603T192324Z
UID:10000965-1842771600-1842775200@empoweredcommunities.org
SUMMARY:Pasco County Suicide Prevention (SAFE) Coalition
DESCRIPTION:Virtual Via TEAMS \nMicrosoft Teams meeting \nJoin on your computer or mobile app \nClick here to join the meeting \nOr call in (audio only) \n+1 689-206-0410\,\,228937562#   United States\, Orlando \nPhone Conference ID: 228 937 562# \nFind a local number | Reset PIN
URL:https://empoweredcommunities.org/event/pasco-county-suicide-prevention-safe-coalition/2028-05-24/
LOCATION:Virtual
CATEGORIES:SAFE
ATTACH;FMTTYPE=image/png:https://empoweredcommunities.org/wp-content/uploads/2024/09/8.png
END:VEVENT
BEGIN:VEVENT
DTSTART;TZID=America/New_York:20280606T150000
DTEND;TZID=America/New_York:20280606T163000
DTSTAMP:20260422T054604
CREATED:20231201T184505Z
LAST-MODIFIED:20250603T191204Z
UID:10000846-1843916400-1843921800@empoweredcommunities.org
SUMMARY:Opioid/Rx Committee Meeting
DESCRIPTION:Join us virtually via zoom! Click HERE to join or go to www.zoom.com/join and enter:  \nMeeting ID: 834 6615 6874 \nPassword: 344143 \nJoin the discussion on opioids and prescription drug misuse and help battle the epidemic; building community awareness\, education and enhancing access to opioid alternatives and life-saving Narcan. Help build strategies that save lives and reduce harm.
URL:https://empoweredcommunities.org/event/opioid-rx-committee-meeting-39/2028-06-06/
CATEGORIES:ASAP
ATTACH;FMTTYPE=image/png:https://empoweredcommunities.org/wp-content/uploads/2023/12/MONTHLY.png
END:VEVENT
BEGIN:VEVENT
DTSTART;TZID=America/New_York:20280614T100000
DTEND;TZID=America/New_York:20280614T110000
DTSTAMP:20260422T054604
CREATED:20250603T190626Z
LAST-MODIFIED:20250603T190626Z
UID:10000786-1844589600-1844593200@empoweredcommunities.org
SUMMARY:Substance Exposed Newborn Committee
DESCRIPTION:
URL:https://empoweredcommunities.org/event/substance-exposed-newborn-committee-2/2028-06-14/
LOCATION:Virtual via Zoom
CATEGORIES:ASAP
ATTACH;FMTTYPE=image/png:https://empoweredcommunities.org/wp-content/uploads/2024/12/3-1.png
END:VEVENT
BEGIN:VEVENT
DTSTART;TZID=America/New_York:20280620T170000
DTEND;TZID=America/New_York:20280620T180000
DTSTAMP:20260422T054604
CREATED:20241214T160931Z
LAST-MODIFIED:20250603T190600Z
UID:10000726-1845133200-1845136800@empoweredcommunities.org
SUMMARY:Recovery Committee
DESCRIPTION:Virtual Via Zoom \nJoin Zoom Meeting \nhttps://us02web.zoom.us/j/82670254538?pwd=YTZVNkxwWUEydlhJVk5SdE1MbmRuQT09 \nMeeting ID: 826 7025 4538 \nPasscode: 451180
URL:https://empoweredcommunities.org/event/recovery-committee/2028-06-20/
LOCATION:Virtual via Zoom
CATEGORIES:ASAP
ATTACH;FMTTYPE=image/png:https://empoweredcommunities.org/wp-content/uploads/2024/12/2.png
END:VEVENT
BEGIN:VEVENT
DTSTART;TZID=America/New_York:20280627T100000
DTEND;TZID=America/New_York:20280627T120000
DTSTAMP:20260422T054604
CREATED:20240926T192331Z
LAST-MODIFIED:20250603T192125Z
UID:10000906-1845712800-1845720000@empoweredcommunities.org
SUMMARY:ASAP General Coalition Meeting (Hybrid)
DESCRIPTION:Beginning in January 2025\, this will be a ‘Hybrid’ meeting\, meaning that you can either join In-person at one of three addresses throughout the County (note: meeting location will change every month to allow for more in-person participation)\, or join us virtually via Zoom. To join by Zoom\, click HERE or visit https://zoom.us/join and enter: \nMeeting ID: 894 8050 6106 \nPassword: 399526 \nJoin this General Coalition Meeting to collaborate\, network\, discuss committee updates\, and hear guest speakers on topics relevant to our collective efforts. \n*If you are a member or community stakeholder and have information you’d like to share at a general coalition meeting\, please email asap@empoweredcommunities.org with information and/or flyers/documents that you’d like to share. \n 
URL:https://empoweredcommunities.org/event/asap-general-coalition-meeting-2/2028-06-27/
LOCATION:All Ways Center\, 6020 US-19\, New Port Richey\, FL\, 34652\, United States
CATEGORIES:ASAP
ATTACH;FMTTYPE=image/png:https://empoweredcommunities.org/wp-content/uploads/2024/09/1.png
END:VEVENT
BEGIN:VEVENT
DTSTART;TZID=America/New_York:20280628T090000
DTEND;TZID=America/New_York:20280628T100000
DTSTAMP:20260422T054604
CREATED:20241214T161329Z
LAST-MODIFIED:20250603T192324Z
UID:10000966-1845795600-1845799200@empoweredcommunities.org
SUMMARY:Pasco County Suicide Prevention (SAFE) Coalition
DESCRIPTION:Virtual Via TEAMS \nMicrosoft Teams meeting \nJoin on your computer or mobile app \nClick here to join the meeting \nOr call in (audio only) \n+1 689-206-0410\,\,228937562#   United States\, Orlando \nPhone Conference ID: 228 937 562# \nFind a local number | Reset PIN
URL:https://empoweredcommunities.org/event/pasco-county-suicide-prevention-safe-coalition/2028-06-28/
LOCATION:Virtual
CATEGORIES:SAFE
ATTACH;FMTTYPE=image/png:https://empoweredcommunities.org/wp-content/uploads/2024/09/8.png
END:VEVENT
BEGIN:VEVENT
DTSTART;TZID=America/New_York:20280704T150000
DTEND;TZID=America/New_York:20280704T163000
DTSTAMP:20260422T054604
CREATED:20231201T184505Z
LAST-MODIFIED:20250603T191204Z
UID:10000847-1846335600-1846341000@empoweredcommunities.org
SUMMARY:Opioid/Rx Committee Meeting
DESCRIPTION:Join us virtually via zoom! Click HERE to join or go to www.zoom.com/join and enter:  \nMeeting ID: 834 6615 6874 \nPassword: 344143 \nJoin the discussion on opioids and prescription drug misuse and help battle the epidemic; building community awareness\, education and enhancing access to opioid alternatives and life-saving Narcan. Help build strategies that save lives and reduce harm.
URL:https://empoweredcommunities.org/event/opioid-rx-committee-meeting-39/2028-07-04/
CATEGORIES:ASAP
ATTACH;FMTTYPE=image/png:https://empoweredcommunities.org/wp-content/uploads/2023/12/MONTHLY.png
END:VEVENT
BEGIN:VEVENT
DTSTART;TZID=America/New_York:20280712T100000
DTEND;TZID=America/New_York:20280712T110000
DTSTAMP:20260422T054604
CREATED:20250603T190626Z
LAST-MODIFIED:20250603T190626Z
UID:10000787-1847008800-1847012400@empoweredcommunities.org
SUMMARY:Substance Exposed Newborn Committee
DESCRIPTION:
URL:https://empoweredcommunities.org/event/substance-exposed-newborn-committee-2/2028-07-12/
LOCATION:Virtual via Zoom
CATEGORIES:ASAP
ATTACH;FMTTYPE=image/png:https://empoweredcommunities.org/wp-content/uploads/2024/12/3-1.png
END:VEVENT
BEGIN:VEVENT
DTSTART;TZID=America/New_York:20280718T170000
DTEND;TZID=America/New_York:20280718T180000
DTSTAMP:20260422T054604
CREATED:20241214T160931Z
LAST-MODIFIED:20250603T190600Z
UID:10000727-1847552400-1847556000@empoweredcommunities.org
SUMMARY:Recovery Committee
DESCRIPTION:Virtual Via Zoom \nJoin Zoom Meeting \nhttps://us02web.zoom.us/j/82670254538?pwd=YTZVNkxwWUEydlhJVk5SdE1MbmRuQT09 \nMeeting ID: 826 7025 4538 \nPasscode: 451180
URL:https://empoweredcommunities.org/event/recovery-committee/2028-07-18/
LOCATION:Virtual via Zoom
CATEGORIES:ASAP
ATTACH;FMTTYPE=image/png:https://empoweredcommunities.org/wp-content/uploads/2024/12/2.png
END:VEVENT
BEGIN:VEVENT
DTSTART;TZID=America/New_York:20280725T100000
DTEND;TZID=America/New_York:20280725T120000
DTSTAMP:20260422T054604
CREATED:20240926T192331Z
LAST-MODIFIED:20250603T192125Z
UID:10000907-1848132000-1848139200@empoweredcommunities.org
SUMMARY:ASAP General Coalition Meeting (Hybrid)
DESCRIPTION:Beginning in January 2025\, this will be a ‘Hybrid’ meeting\, meaning that you can either join In-person at one of three addresses throughout the County (note: meeting location will change every month to allow for more in-person participation)\, or join us virtually via Zoom. To join by Zoom\, click HERE or visit https://zoom.us/join and enter: \nMeeting ID: 894 8050 6106 \nPassword: 399526 \nJoin this General Coalition Meeting to collaborate\, network\, discuss committee updates\, and hear guest speakers on topics relevant to our collective efforts. \n*If you are a member or community stakeholder and have information you’d like to share at a general coalition meeting\, please email asap@empoweredcommunities.org with information and/or flyers/documents that you’d like to share. \n 
URL:https://empoweredcommunities.org/event/asap-general-coalition-meeting-2/2028-07-25/
LOCATION:All Ways Center\, 6020 US-19\, New Port Richey\, FL\, 34652\, United States
CATEGORIES:ASAP
ATTACH;FMTTYPE=image/png:https://empoweredcommunities.org/wp-content/uploads/2024/09/1.png
END:VEVENT
BEGIN:VEVENT
DTSTART;TZID=America/New_York:20280726T090000
DTEND;TZID=America/New_York:20280726T100000
DTSTAMP:20260422T054604
CREATED:20241214T161329Z
LAST-MODIFIED:20250603T192324Z
UID:10000967-1848214800-1848218400@empoweredcommunities.org
SUMMARY:Pasco County Suicide Prevention (SAFE) Coalition
DESCRIPTION:Virtual Via TEAMS \nMicrosoft Teams meeting \nJoin on your computer or mobile app \nClick here to join the meeting \nOr call in (audio only) \n+1 689-206-0410\,\,228937562#   United States\, Orlando \nPhone Conference ID: 228 937 562# \nFind a local number | Reset PIN
URL:https://empoweredcommunities.org/event/pasco-county-suicide-prevention-safe-coalition/2028-07-26/
LOCATION:Virtual
CATEGORIES:SAFE
ATTACH;FMTTYPE=image/png:https://empoweredcommunities.org/wp-content/uploads/2024/09/8.png
END:VEVENT
BEGIN:VEVENT
DTSTART;TZID=America/New_York:20280801T150000
DTEND;TZID=America/New_York:20280801T163000
DTSTAMP:20260422T054604
CREATED:20231201T184505Z
LAST-MODIFIED:20250603T191204Z
UID:10000848-1848754800-1848760200@empoweredcommunities.org
SUMMARY:Opioid/Rx Committee Meeting
DESCRIPTION:Join us virtually via zoom! Click HERE to join or go to www.zoom.com/join and enter:  \nMeeting ID: 834 6615 6874 \nPassword: 344143 \nJoin the discussion on opioids and prescription drug misuse and help battle the epidemic; building community awareness\, education and enhancing access to opioid alternatives and life-saving Narcan. Help build strategies that save lives and reduce harm.
URL:https://empoweredcommunities.org/event/opioid-rx-committee-meeting-39/2028-08-01/
CATEGORIES:ASAP
ATTACH;FMTTYPE=image/png:https://empoweredcommunities.org/wp-content/uploads/2023/12/MONTHLY.png
END:VEVENT
BEGIN:VEVENT
DTSTART;TZID=America/New_York:20280809T100000
DTEND;TZID=America/New_York:20280809T110000
DTSTAMP:20260422T054604
CREATED:20250603T190626Z
LAST-MODIFIED:20250603T190626Z
UID:10000788-1849428000-1849431600@empoweredcommunities.org
SUMMARY:Substance Exposed Newborn Committee
DESCRIPTION:
URL:https://empoweredcommunities.org/event/substance-exposed-newborn-committee-2/2028-08-09/
LOCATION:Virtual via Zoom
CATEGORIES:ASAP
ATTACH;FMTTYPE=image/png:https://empoweredcommunities.org/wp-content/uploads/2024/12/3-1.png
END:VEVENT
BEGIN:VEVENT
DTSTART;TZID=America/New_York:20280815T170000
DTEND;TZID=America/New_York:20280815T180000
DTSTAMP:20260422T054604
CREATED:20241214T160931Z
LAST-MODIFIED:20250603T190600Z
UID:10000728-1849971600-1849975200@empoweredcommunities.org
SUMMARY:Recovery Committee
DESCRIPTION:Virtual Via Zoom \nJoin Zoom Meeting \nhttps://us02web.zoom.us/j/82670254538?pwd=YTZVNkxwWUEydlhJVk5SdE1MbmRuQT09 \nMeeting ID: 826 7025 4538 \nPasscode: 451180
URL:https://empoweredcommunities.org/event/recovery-committee/2028-08-15/
LOCATION:Virtual via Zoom
CATEGORIES:ASAP
ATTACH;FMTTYPE=image/png:https://empoweredcommunities.org/wp-content/uploads/2024/12/2.png
END:VEVENT
BEGIN:VEVENT
DTSTART;TZID=America/New_York:20280822T100000
DTEND;TZID=America/New_York:20280822T120000
DTSTAMP:20260422T054604
CREATED:20240926T192331Z
LAST-MODIFIED:20250603T192125Z
UID:10000908-1850551200-1850558400@empoweredcommunities.org
SUMMARY:ASAP General Coalition Meeting (Hybrid)
DESCRIPTION:Beginning in January 2025\, this will be a ‘Hybrid’ meeting\, meaning that you can either join In-person at one of three addresses throughout the County (note: meeting location will change every month to allow for more in-person participation)\, or join us virtually via Zoom. To join by Zoom\, click HERE or visit https://zoom.us/join and enter: \nMeeting ID: 894 8050 6106 \nPassword: 399526 \nJoin this General Coalition Meeting to collaborate\, network\, discuss committee updates\, and hear guest speakers on topics relevant to our collective efforts. \n*If you are a member or community stakeholder and have information you’d like to share at a general coalition meeting\, please email asap@empoweredcommunities.org with information and/or flyers/documents that you’d like to share. \n 
URL:https://empoweredcommunities.org/event/asap-general-coalition-meeting-2/2028-08-22/
LOCATION:All Ways Center\, 6020 US-19\, New Port Richey\, FL\, 34652\, United States
CATEGORIES:ASAP
ATTACH;FMTTYPE=image/png:https://empoweredcommunities.org/wp-content/uploads/2024/09/1.png
END:VEVENT
BEGIN:VEVENT
DTSTART;TZID=America/New_York:20280823T090000
DTEND;TZID=America/New_York:20280823T100000
DTSTAMP:20260422T054604
CREATED:20241214T161329Z
LAST-MODIFIED:20250603T192324Z
UID:10000968-1850634000-1850637600@empoweredcommunities.org
SUMMARY:Pasco County Suicide Prevention (SAFE) Coalition
DESCRIPTION:Virtual Via TEAMS \nMicrosoft Teams meeting \nJoin on your computer or mobile app \nClick here to join the meeting \nOr call in (audio only) \n+1 689-206-0410\,\,228937562#   United States\, Orlando \nPhone Conference ID: 228 937 562# \nFind a local number | Reset PIN
URL:https://empoweredcommunities.org/event/pasco-county-suicide-prevention-safe-coalition/2028-08-23/
LOCATION:Virtual
CATEGORIES:SAFE
ATTACH;FMTTYPE=image/png:https://empoweredcommunities.org/wp-content/uploads/2024/09/8.png
END:VEVENT
BEGIN:VEVENT
DTSTART;TZID=America/New_York:20280905T150000
DTEND;TZID=America/New_York:20280905T163000
DTSTAMP:20260422T054604
CREATED:20231201T184505Z
LAST-MODIFIED:20250603T191204Z
UID:10000849-1851778800-1851784200@empoweredcommunities.org
SUMMARY:Opioid/Rx Committee Meeting
DESCRIPTION:Join us virtually via zoom! Click HERE to join or go to www.zoom.com/join and enter:  \nMeeting ID: 834 6615 6874 \nPassword: 344143 \nJoin the discussion on opioids and prescription drug misuse and help battle the epidemic; building community awareness\, education and enhancing access to opioid alternatives and life-saving Narcan. Help build strategies that save lives and reduce harm.
URL:https://empoweredcommunities.org/event/opioid-rx-committee-meeting-39/2028-09-05/
CATEGORIES:ASAP
ATTACH;FMTTYPE=image/png:https://empoweredcommunities.org/wp-content/uploads/2023/12/MONTHLY.png
END:VEVENT
BEGIN:VEVENT
DTSTART;TZID=America/New_York:20280913T100000
DTEND;TZID=America/New_York:20280913T110000
DTSTAMP:20260422T054604
CREATED:20250603T190626Z
LAST-MODIFIED:20250603T190626Z
UID:10000789-1852452000-1852455600@empoweredcommunities.org
SUMMARY:Substance Exposed Newborn Committee
DESCRIPTION:
URL:https://empoweredcommunities.org/event/substance-exposed-newborn-committee-2/2028-09-13/
LOCATION:Virtual via Zoom
CATEGORIES:ASAP
ATTACH;FMTTYPE=image/png:https://empoweredcommunities.org/wp-content/uploads/2024/12/3-1.png
END:VEVENT
BEGIN:VEVENT
DTSTART;TZID=America/New_York:20280919T170000
DTEND;TZID=America/New_York:20280919T180000
DTSTAMP:20260422T054604
CREATED:20241214T160931Z
LAST-MODIFIED:20250603T190600Z
UID:10000729-1852995600-1852999200@empoweredcommunities.org
SUMMARY:Recovery Committee
DESCRIPTION:Virtual Via Zoom \nJoin Zoom Meeting \nhttps://us02web.zoom.us/j/82670254538?pwd=YTZVNkxwWUEydlhJVk5SdE1MbmRuQT09 \nMeeting ID: 826 7025 4538 \nPasscode: 451180
URL:https://empoweredcommunities.org/event/recovery-committee/2028-09-19/
LOCATION:Virtual via Zoom
CATEGORIES:ASAP
ATTACH;FMTTYPE=image/png:https://empoweredcommunities.org/wp-content/uploads/2024/12/2.png
END:VEVENT
END:VCALENDAR