BEGIN:VCALENDAR
VERSION:2.0
PRODID:-//Alliance for Healthy Communities - ECPv6.15.20//NONSGML v1.0//EN
CALSCALE:GREGORIAN
METHOD:PUBLISH
X-ORIGINAL-URL:https://empoweredcommunities.org
X-WR-CALDESC:Events for Alliance for Healthy Communities
REFRESH-INTERVAL;VALUE=DURATION:PT1H
X-Robots-Tag:noindex
X-PUBLISHED-TTL:PT1H
BEGIN:VTIMEZONE
TZID:America/New_York
BEGIN:DAYLIGHT
TZOFFSETFROM:-0500
TZOFFSETTO:-0400
TZNAME:EDT
DTSTART:20220313T070000
END:DAYLIGHT
BEGIN:STANDARD
TZOFFSETFROM:-0400
TZOFFSETTO:-0500
TZNAME:EST
DTSTART:20221106T060000
END:STANDARD
BEGIN:DAYLIGHT
TZOFFSETFROM:-0500
TZOFFSETTO:-0400
TZNAME:EDT
DTSTART:20230312T070000
END:DAYLIGHT
BEGIN:STANDARD
TZOFFSETFROM:-0400
TZOFFSETTO:-0500
TZNAME:EST
DTSTART:20231105T060000
END:STANDARD
BEGIN:DAYLIGHT
TZOFFSETFROM:-0500
TZOFFSETTO:-0400
TZNAME:EDT
DTSTART:20240310T070000
END:DAYLIGHT
BEGIN:STANDARD
TZOFFSETFROM:-0400
TZOFFSETTO:-0500
TZNAME:EST
DTSTART:20241103T060000
END:STANDARD
END:VTIMEZONE
BEGIN:VEVENT
DTSTART;TZID=America/New_York:20230807T163000
DTEND;TZID=America/New_York:20230807T180000
DTSTAMP:20260419T190328
CREATED:20221029T194915Z
LAST-MODIFIED:20221029T194915Z
UID:10000282-1691425800-1691431200@empoweredcommunities.org
SUMMARY:Alcohol Initiatives Committee Meeting
DESCRIPTION:Join us virtually via Zoom! Click HERE to join or visit https://zoom.us/join and enter \nMeeting ID: 874 6165 2577 \nPasscode: 735548 \nDial-In option: 929-205-6099 \nJoin the discussion on Alcohol Initiatives collaborating with MADD; work to reduce underage drinking and impaired driving in the community by providing education and implementing effective strategies that work to create population level change.
URL:https://empoweredcommunities.org/event/alcohol-initiatives-committee-meeting-30/
CATEGORIES:ASAP
END:VEVENT
BEGIN:VEVENT
DTSTART;TZID=America/New_York:20230801T150000
DTEND;TZID=America/New_York:20230801T163000
DTSTAMP:20260419T190328
CREATED:20221029T182948Z
LAST-MODIFIED:20221029T182948Z
UID:10000145-1690902000-1690907400@empoweredcommunities.org
SUMMARY:Opioid/Rx Committee Meeting
DESCRIPTION:Join us virtually via zoom! Click HERE to join or go to www.zoom.com/join and enter:  \nMeeting ID: 834 6615 6874 \nPassword: 344143 \nJoin the discussion on opioids and prescription drug misuse and help battle the epidemic; building community awareness\, education and enhancing access to opioid alternatives and life-saving Narcan. Help build strategies that save lives and reduce harm.
URL:https://empoweredcommunities.org/event/opioid-rx-committee-meeting-32/
CATEGORIES:ASAP
END:VEVENT
BEGIN:VEVENT
DTSTART;TZID=America/New_York:20230725T100000
DTEND;TZID=America/New_York:20230725T120000
DTSTAMP:20260419T190328
CREATED:20221029T181421Z
LAST-MODIFIED:20230724T142037Z
UID:10000243-1690279200-1690286400@empoweredcommunities.org
SUMMARY:ASAP General Meeting - IN PERSON FOR THE ANNUAL STAND PANEL!
DESCRIPTION:Join us from 10-12 Noon  as STAND Youth take over the General Coalition Meeting! \nHosted at Pasco Hernando State College Porter Campus\, 2727 Mansfield Blvd.\, Wesley Chapel FL 34653 – Conference Center Building B – Level 3 \nThis is our annual STAND Youth Coalition Panel. STAND Youth discuss the issues they feel are the most pressing for teens in Pasco\, \n*If you are a member or community stakeholder and have information you’d like to share at a general meeting\, please email asap@empoweredcommunities.org with information and/or flyers/documents that you’d like to share. \n 
URL:https://empoweredcommunities.org/event/asap-general-meeting-27/
CATEGORIES:ASAP
END:VEVENT
BEGIN:VEVENT
DTSTART;TZID=America/New_York:20230724T170000
DTEND;TZID=America/New_York:20230724T180000
DTSTAMP:20260419T190328
CREATED:20221029T183852Z
LAST-MODIFIED:20221029T183852Z
UID:10000262-1690218000-1690221600@empoweredcommunities.org
SUMMARY:Recovery Committee Meeting
DESCRIPTION:Join us virtually via Zoom! Click HERE to join or visit https://zoom.us/join and enter:  \nMeeting ID: 826 7025 4538 \nPassword: 451180 \nJoin the discussion on Recovery; working to enhance the quality and quantity of support to those affected by substance use disorders through community involvement\, advocacy\, and public education and awareness. 
URL:https://empoweredcommunities.org/event/recovery-committee-meeting-32/
CATEGORIES:ASAP
END:VEVENT
BEGIN:VEVENT
DTSTART;TZID=America/New_York:20230712T100000
DTEND;TZID=America/New_York:20230712T120000
DTSTAMP:20260419T190328
CREATED:20221029T184840Z
LAST-MODIFIED:20221029T184840Z
UID:10000272-1689156000-1689163200@empoweredcommunities.org
SUMMARY:SEN Committee Meeting
DESCRIPTION:Join us virtually via Zoom! Click HERE to join\, or visit https://zoom.us/join and enter:  \nMeeting ID: 828 6547 9166 \nPassword: 061677 \nJoin the discussion on Substance Exposed Newborns (SEN); working to reverse the growing epidemic of substance exposed newborns by designing and implementing strategies that help reduce community risk factors and promote protective factors.
URL:https://empoweredcommunities.org/event/sen-committee-meeting-28/
CATEGORIES:ASAP
END:VEVENT
BEGIN:VEVENT
DTSTART;TZID=America/New_York:20230703T163000
DTEND;TZID=America/New_York:20230703T180000
DTSTAMP:20260419T190328
CREATED:20221029T194843Z
LAST-MODIFIED:20221029T194843Z
UID:10000281-1688401800-1688407200@empoweredcommunities.org
SUMMARY:Alcohol Initiatives Committee Meeting
DESCRIPTION:Join us virtually via Zoom! Click HERE to join or visit https://zoom.us/join and enter \nMeeting ID: 874 6165 2577 \nPasscode: 735548 \nDial-In option: 929-205-6099 \nJoin the discussion on Alcohol Initiatives collaborating with MADD; work to reduce underage drinking and impaired driving in the community by providing education and implementing effective strategies that work to create population level change.
URL:https://empoweredcommunities.org/event/alcohol-initiatives-committee-meeting-29/
CATEGORIES:ASAP
END:VEVENT
BEGIN:VEVENT
DTSTART;TZID=America/New_York:20230627T100000
DTEND;TZID=America/New_York:20230627T120000
DTSTAMP:20260419T190328
CREATED:20221029T181343Z
LAST-MODIFIED:20221029T181343Z
UID:10000230-1687860000-1687867200@empoweredcommunities.org
SUMMARY:ASAP General Meeting
DESCRIPTION:Join us virtually via Zoom. Click HERE to join or visit https://zoom.us/join and enter \nMeeting ID: 894 8050 6106 \nPassword: 399526 \nJoin our General Meeting to collaborate\, network\, discuss committee updates\, and hear guest speakers on topics relevant to our organizations mission and vision. \n*If you are a member or community stakeholder and have information you’d like to share at a general meeting\, please email asap@empoweredcommunities.org with information and/or flyers/documents that you’d like to share. \n 
URL:https://empoweredcommunities.org/event/asap-general-meeting-26/
LOCATION:Hybrid – In Person & Virtual via Zoom\, 6020 US-19\, New Port Richey\, FL\, 34652\, United States
CATEGORIES:ASAP
END:VEVENT
BEGIN:VEVENT
DTSTART;TZID=America/New_York:20230626T170000
DTEND;TZID=America/New_York:20230626T180000
DTSTAMP:20260419T190328
CREATED:20221029T183824Z
LAST-MODIFIED:20221029T183824Z
UID:10000261-1687798800-1687802400@empoweredcommunities.org
SUMMARY:Recovery Committee Meeting
DESCRIPTION:Join us virtually via Zoom! Click HERE to join or visit https://zoom.us/join and enter:  \nMeeting ID: 826 7025 4538 \nPassword: 451180 \nJoin the discussion on Recovery; working to enhance the quality and quantity of support to those affected by substance use disorders through community involvement\, advocacy\, and public education and awareness. 
URL:https://empoweredcommunities.org/event/recovery-committee-meeting-31/
CATEGORIES:ASAP
END:VEVENT
BEGIN:VEVENT
DTSTART;TZID=America/New_York:20230621T100000
DTEND;TZID=America/New_York:20230621T150000
DTSTAMP:20260419T190328
CREATED:20230512T010714Z
LAST-MODIFIED:20230512T010714Z
UID:10000357-1687341600-1687359600@empoweredcommunities.org
SUMMARY:2nd Annual Change Begins with YOU(TH) Summit
DESCRIPTION:
URL:https://empoweredcommunities.org/event/2nd-annual-change-begins-with-youth-summit/
LOCATION:Pasco-Hernando State College\, 10230 Ridge Rd.\, New Port Richey\, FL 34654\, 10230 Ridge Road\, New Port Richey\, FL\, 34654\, United States
CATEGORIES:STAND
ATTACH;FMTTYPE=image/jpeg:https://empoweredcommunities.org/wp-content/uploads/2023/05/image.jpeg
END:VEVENT
BEGIN:VEVENT
DTSTART;TZID=America/New_York:20230621T100000
DTEND;TZID=America/New_York:20230621T150000
DTSTAMP:20260419T190328
CREATED:20230413T001347Z
LAST-MODIFIED:20230413T001347Z
UID:10000350-1687341600-1687359600@empoweredcommunities.org
SUMMARY:Change Begins with You(th) Summit
DESCRIPTION:Wednesday\, June 21st\, 2023 \n10am-3pm \nPasco Hernando State College \n10230 Ridge Road\, New Port Richey\, FL 34654 \n 
URL:https://empoweredcommunities.org/event/change-begins-with-youth-summit/
ATTACH;FMTTYPE=image/png:https://empoweredcommunities.org/wp-content/uploads/2023/04/STAND-Summit-062123-1.png
END:VEVENT
BEGIN:VEVENT
DTSTART;TZID=America/New_York:20230621T100000
DTEND;TZID=America/New_York:20230621T150000
DTSTAMP:20260419T190328
CREATED:20230323T022844Z
LAST-MODIFIED:20230323T023116Z
UID:10000348-1687341600-1687359600@empoweredcommunities.org
SUMMARY:Change Begins with You(th) 2nd Annual Youth Leadership Summit
DESCRIPTION:STAND Above the Influence is a youth-led coalition that focuses on bringing community members together to inspire advocacy and create change. Last year we hosted 50 youth for a day-long Summit that inspired youth to look around their community and identify ways to make it better.  We are getting ready for our 2nd annual event and is organized by youth and features their voices! \nPlease join us Wednesday\, June 21\, 2023 from 10AM – 3PM \nPasco Hernando State College 10230 Ridge Rd\, New Port Richey\, FL 34654. \nThe high-energy FREE event features a DJ\, Lunch\, Prizes and lots of Inspiration. All Pasco County Middle and High School Youth are invited to attend. Only 50 spots available\, please register on event brite: https://www.eventbrite.com/e/change-begins-with-youth-2nd-annual-youth-leadership-summit-tickets-576433487077 \n 
URL:https://empoweredcommunities.org/event/change-begins-with-youth-2nd-annual-youth-leadership-summit/
CATEGORIES:STAND
END:VEVENT
BEGIN:VEVENT
DTSTART;TZID=America/New_York:20230614T170000
DTEND;TZID=America/New_York:20230614T200000
DTSTAMP:20260419T190328
CREATED:20230418T201732Z
LAST-MODIFIED:20230530T195404Z
UID:10000354-1686762000-1686772800@empoweredcommunities.org
SUMMARY:Tipping the Pain Scale ASAP's 3rd Annual Opioid Town Hall
DESCRIPTION:Register here on Eventbrite: https://www.eventbrite.com/e/pasco-community-screening-of-tipping-the-pain-scale-tickets-599110314077
URL:https://empoweredcommunities.org/event/tipping-the-pain-scale-asaps-3rd-annual-opioid-town-hall/
ATTACH;FMTTYPE=image/jpeg:https://empoweredcommunities.org/wp-content/uploads/2023/04/opiod.jpg
END:VEVENT
BEGIN:VEVENT
DTSTART;TZID=America/New_York:20230614T100000
DTEND;TZID=America/New_York:20230614T120000
DTSTAMP:20260419T190328
CREATED:20230502T134425Z
LAST-MODIFIED:20230502T134425Z
UID:10000355-1686736800-1686744000@empoweredcommunities.org
SUMMARY:SEN Resource Fair 2023
DESCRIPTION:Discover the resources Pasco County has to offer pregnant\nwomen and those of childbearing age.\nWEDNESDAY\, JUNE 14 | 10 A.M. – 12 P.M.\nPASCO HERNANDO STATE COLLEGE\n10230 RIDGE ROAD\, NEW PORT RICHEY\, FL 34654\nBUILDING R
URL:https://empoweredcommunities.org/event/sen-resource-fair-2023-2/
ATTACH;FMTTYPE=image/jpeg:https://empoweredcommunities.org/wp-content/uploads/2023/05/sen-resource.jpg
END:VEVENT
BEGIN:VEVENT
DTSTART;TZID=America/New_York:20230614T100000
DTEND;TZID=America/New_York:20230614T120000
DTSTAMP:20260419T190328
CREATED:20230413T000220Z
LAST-MODIFIED:20230413T000344Z
UID:10000349-1686736800-1686744000@empoweredcommunities.org
SUMMARY:SEN Resource Fair 2023
DESCRIPTION:Discover the resources Pasco County has to offer pregnant\nwomen and those of childbearing age. \nWEDNESDAY\, JUNE 14 | 10 A.M. – 12 P.M. \nPASCO HERNANDO STATE COLLEGE\n10230 RIDGE ROAD\, NEW PORT RICHEY\, FL 34654\nBUILDING R \nS E N RESOURCE FAIR (1) (1)
URL:https://empoweredcommunities.org/event/sen-resource-fair-2023/
LOCATION:Pasco-Hernando State College\, 10230 Ridge Rd.\, New Port Richey\, FL 34654\, 10230 Ridge Road\, New Port Richey\, FL\, 34654\, United States
ATTACH;FMTTYPE=image/jpeg:https://empoweredcommunities.org/wp-content/uploads/2023/04/SEN-resource-fair.jpg
END:VEVENT
BEGIN:VEVENT
DTSTART;TZID=America/New_York:20230606T150000
DTEND;TZID=America/New_York:20230606T163000
DTSTAMP:20260419T190328
CREATED:20221029T182921Z
LAST-MODIFIED:20221029T182921Z
UID:10000142-1686063600-1686069000@empoweredcommunities.org
SUMMARY:Opioid/Rx Committee Meeting
DESCRIPTION:Join us virtually via zoom! Click HERE to join or go to www.zoom.com/join and enter:  \nMeeting ID: 834 6615 6874 \nPassword: 344143 \nJoin the discussion on opioids and prescription drug misuse and help battle the epidemic; building community awareness\, education and enhancing access to opioid alternatives and life-saving Narcan. Help build strategies that save lives and reduce harm.
URL:https://empoweredcommunities.org/event/opioid-rx-committee-meeting-31/
CATEGORIES:ASAP
END:VEVENT
BEGIN:VEVENT
DTSTART;TZID=America/New_York:20230605T163000
DTEND;TZID=America/New_York:20230605T180000
DTSTAMP:20260419T190328
CREATED:20221029T194815Z
LAST-MODIFIED:20221029T194815Z
UID:10000280-1685982600-1685988000@empoweredcommunities.org
SUMMARY:Alcohol Initiatives Committee Meeting
DESCRIPTION:Join us virtually via Zoom! Click HERE to join or visit https://zoom.us/join and enter \nMeeting ID: 874 6165 2577 \nPasscode: 735548 \nDial-In option: 929-205-6099 \nJoin the discussion on Alcohol Initiatives collaborating with MADD; work to reduce underage drinking and impaired driving in the community by providing education and implementing effective strategies that work to create population level change.
URL:https://empoweredcommunities.org/event/alcohol-initiatives-committee-meeting-28/
CATEGORIES:ASAP
END:VEVENT
BEGIN:VEVENT
DTSTART;TZID=America/New_York:20230523T100000
DTEND;TZID=America/New_York:20230523T120000
DTSTAMP:20260419T190328
CREATED:20221029T181302Z
LAST-MODIFIED:20221029T181302Z
UID:10000252-1684836000-1684843200@empoweredcommunities.org
SUMMARY:ASAP General Meeting
DESCRIPTION:Join us virtually via Zoom. Click HERE to join or visit https://zoom.us/join and enter \nMeeting ID: 894 8050 6106 \nPassword: 399526 \nJoin our General Meeting to collaborate\, network\, discuss committee updates\, and hear guest speakers on topics relevant to our organizations mission and vision. \n*If you are a member or community stakeholder and have information you’d like to share at a general meeting\, please email asap@empoweredcommunities.org with information and/or flyers/documents that you’d like to share. \n 
URL:https://empoweredcommunities.org/event/asap-general-meeting-25/
LOCATION:Hybrid – In Person & Virtual via Zoom\, 6020 US-19\, New Port Richey\, FL\, 34652\, United States
CATEGORIES:ASAP
END:VEVENT
BEGIN:VEVENT
DTSTART;TZID=America/New_York:20230522T170000
DTEND;TZID=America/New_York:20230522T180000
DTSTAMP:20260419T190328
CREATED:20221029T183755Z
LAST-MODIFIED:20221029T183755Z
UID:10000260-1684774800-1684778400@empoweredcommunities.org
SUMMARY:Recovery Committee Meeting
DESCRIPTION:Join us virtually via Zoom! Click HERE to join or visit https://zoom.us/join and enter:  \nMeeting ID: 826 7025 4538 \nPassword: 451180 \nJoin the discussion on Recovery; working to enhance the quality and quantity of support to those affected by substance use disorders through community involvement\, advocacy\, and public education and awareness. 
URL:https://empoweredcommunities.org/event/recovery-committee-meeting-30/
CATEGORIES:ASAP
END:VEVENT
BEGIN:VEVENT
DTSTART;TZID=America/New_York:20230522T153000
DTEND;TZID=America/New_York:20230522T170000
DTSTAMP:20260419T190328
CREATED:20230502T134801Z
LAST-MODIFIED:20230502T134801Z
UID:10000356-1684769400-1684774800@empoweredcommunities.org
SUMMARY:Cultural Competence Committee Town Hall
DESCRIPTION:“Leading Inclusive Teams”\nLed by: Meriel Martínez\nJOIN THE CONVERSATION ON BUILDING A\nCULTURALLY COMPETENT COMMUNITY THAT\nCELEBRATES OUR DIFFERENCES.\nMay 22\, 2023 3:30pm-5:00pm\nPHSC Campus:\n10230 Ridge Road New Port Richey\, 34654\nRoom R151 \nCultural Competence Flyer \nRegister Here: ASAP Cultural Competence Committee Town Hall: Leading Inclusive Teams Tickets\, Mon\, May 22\, 2023 at 3:30 PM | Eventbrite \n 
URL:https://empoweredcommunities.org/event/cultural-competence-committee-town-hall/
ATTACH;FMTTYPE=image/jpeg:https://empoweredcommunities.org/wp-content/uploads/2023/05/cultural-competence.jpg
END:VEVENT
BEGIN:VEVENT
DTSTART;VALUE=DATE:20230520
DTEND;VALUE=DATE:20230521
DTSTAMP:20260419T190328
CREATED:20230323T013027Z
LAST-MODIFIED:20230323T013027Z
UID:10000346-1684540800-1684627199@empoweredcommunities.org
SUMMARY:NAMI Walks Pasco
DESCRIPTION:NAMI Walk Pasco \nMay 20th \nSafety Town\, Shady Hills FL \nRegister Here: \nNAMIWalks Pasco (namipasco.org) \nPasco-2023WALK-SponsorBrochure (1) Team Up Handout – Corporate Teams -Pasco (1) \n \n 
URL:https://empoweredcommunities.org/event/nami-walks-pasco/
END:VEVENT
BEGIN:VEVENT
DTSTART;TZID=America/New_York:20230510T100000
DTEND;TZID=America/New_York:20230510T120000
DTSTAMP:20260419T190328
CREATED:20221029T184752Z
LAST-MODIFIED:20221029T184752Z
UID:10000270-1683712800-1683720000@empoweredcommunities.org
SUMMARY:SEN Committee Meeting
DESCRIPTION:Join us virtually via Zoom! Click HERE to join\, or visit https://zoom.us/join and enter:  \nMeeting ID: 828 6547 9166 \nPassword: 061677 \nJoin the discussion on Substance Exposed Newborns (SEN); working to reverse the growing epidemic of substance exposed newborns by designing and implementing strategies that help reduce community risk factors and promote protective factors.
URL:https://empoweredcommunities.org/event/sen-committee-meeting-26/
CATEGORIES:ASAP
END:VEVENT
BEGIN:VEVENT
DTSTART;TZID=America/New_York:20230506T090000
DTEND;TZID=America/New_York:20230506T120000
DTSTAMP:20260419T190328
CREATED:20230413T002736Z
LAST-MODIFIED:20230413T002839Z
UID:10000351-1683363600-1683374400@empoweredcommunities.org
SUMMARY:3rd Annual Pedal for Prevention
DESCRIPTION:
URL:https://empoweredcommunities.org/event/pedal-for-prevention-3/
ATTACH;FMTTYPE=image/jpeg:https://empoweredcommunities.org/wp-content/uploads/2023/04/PedalforPreventionFlyer-2023-1-2.jpg
END:VEVENT
BEGIN:VEVENT
DTSTART;TZID=America/New_York:20230502T150000
DTEND;TZID=America/New_York:20230502T163000
DTSTAMP:20260419T190328
CREATED:20221029T182900Z
LAST-MODIFIED:20221029T182900Z
UID:10000140-1683039600-1683045000@empoweredcommunities.org
SUMMARY:Opioid/Rx Committee Meeting
DESCRIPTION:Join us virtually via zoom! Click HERE to join or go to www.zoom.com/join and enter:  \nMeeting ID: 834 6615 6874 \nPassword: 344143 \nJoin the discussion on opioids and prescription drug misuse and help battle the epidemic; building community awareness\, education and enhancing access to opioid alternatives and life-saving Narcan. Help build strategies that save lives and reduce harm.
URL:https://empoweredcommunities.org/event/opioid-rx-committee-meeting-30/
CATEGORIES:ASAP
END:VEVENT
BEGIN:VEVENT
DTSTART;TZID=America/New_York:20230501T163000
DTEND;TZID=America/New_York:20230501T180000
DTSTAMP:20260419T190328
CREATED:20221029T194649Z
LAST-MODIFIED:20221029T194649Z
UID:10000279-1682958600-1682964000@empoweredcommunities.org
SUMMARY:Alcohol Initiatives Committee Meeting
DESCRIPTION:Join us virtually via Zoom! Click HERE to join or visit https://zoom.us/join and enter \nMeeting ID: 874 6165 2577 \nPasscode: 735548 \nDial-In option: 929-205-6099 \nJoin the discussion on Alcohol Initiatives collaborating with MADD; work to reduce underage drinking and impaired driving in the community by providing education and implementing effective strategies that work to create population level change.
URL:https://empoweredcommunities.org/event/alcohol-initiatives-committee-meeting-27/
CATEGORIES:ASAP
END:VEVENT
BEGIN:VEVENT
DTSTART;TZID=America/New_York:20230425T100000
DTEND;TZID=America/New_York:20230425T120000
DTSTAMP:20260419T190328
CREATED:20221029T181226Z
LAST-MODIFIED:20221029T181226Z
UID:10000251-1682416800-1682424000@empoweredcommunities.org
SUMMARY:ASAP General Meeting
DESCRIPTION:Join us virtually via Zoom. Click HERE to join or visit https://zoom.us/join and enter \nMeeting ID: 894 8050 6106 \nPassword: 399526 \nJoin our General Meeting to collaborate\, network\, discuss committee updates\, and hear guest speakers on topics relevant to our organizations mission and vision. \n*If you are a member or community stakeholder and have information you’d like to share at a general meeting\, please email asap@empoweredcommunities.org with information and/or flyers/documents that you’d like to share. \n 
URL:https://empoweredcommunities.org/event/asap-general-meeting-24/
LOCATION:Hybrid – In Person & Virtual via Zoom\, 6020 US-19\, New Port Richey\, FL\, 34652\, United States
CATEGORIES:ASAP
END:VEVENT
BEGIN:VEVENT
DTSTART;TZID=America/New_York:20230424T170000
DTEND;TZID=America/New_York:20230424T180000
DTSTAMP:20260419T190328
CREATED:20221029T183639Z
LAST-MODIFIED:20221029T183639Z
UID:10000159-1682355600-1682359200@empoweredcommunities.org
SUMMARY:Recovery Committee Meeting
DESCRIPTION:Join us virtually via Zoom! Click HERE to join or visit https://zoom.us/join and enter:  \nMeeting ID: 826 7025 4538 \nPassword: 451180 \nJoin the discussion on Recovery; working to enhance the quality and quantity of support to those affected by substance use disorders through community involvement\, advocacy\, and public education and awareness. 
URL:https://empoweredcommunities.org/event/recovery-committee-meeting-29/
CATEGORIES:ASAP
END:VEVENT
BEGIN:VEVENT
DTSTART;TZID=America/New_York:20230412T100000
DTEND;TZID=America/New_York:20230412T120000
DTSTAMP:20260419T190328
CREATED:20221029T184725Z
LAST-MODIFIED:20221029T184725Z
UID:10000269-1681293600-1681300800@empoweredcommunities.org
SUMMARY:SEN Committee Meeting
DESCRIPTION:Join us virtually via Zoom! Click HERE to join\, or visit https://zoom.us/join and enter:  \nMeeting ID: 828 6547 9166 \nPassword: 061677 \nJoin the discussion on Substance Exposed Newborns (SEN); working to reverse the growing epidemic of substance exposed newborns by designing and implementing strategies that help reduce community risk factors and promote protective factors.
URL:https://empoweredcommunities.org/event/sen-committee-meeting-25/
CATEGORIES:ASAP
END:VEVENT
BEGIN:VEVENT
DTSTART;TZID=America/New_York:20230404T150000
DTEND;TZID=America/New_York:20230404T163000
DTSTAMP:20260419T190328
CREATED:20221029T182831Z
LAST-MODIFIED:20221029T182831Z
UID:10000138-1680620400-1680625800@empoweredcommunities.org
SUMMARY:Opioid/Rx Committee Meeting
DESCRIPTION:Join us virtually via zoom! Click HERE to join or go to www.zoom.com/join and enter:  \nMeeting ID: 834 6615 6874 \nPassword: 344143 \nJoin the discussion on opioids and prescription drug misuse and help battle the epidemic; building community awareness\, education and enhancing access to opioid alternatives and life-saving Narcan. Help build strategies that save lives and reduce harm.
URL:https://empoweredcommunities.org/event/opioid-rx-committee-meeting-29/
CATEGORIES:ASAP
END:VEVENT
BEGIN:VEVENT
DTSTART;TZID=America/New_York:20230403T163000
DTEND;TZID=America/New_York:20230403T180000
DTSTAMP:20260419T190328
CREATED:20221029T194615Z
LAST-MODIFIED:20221029T194615Z
UID:10000278-1680539400-1680544800@empoweredcommunities.org
SUMMARY:Alcohol Initiatives Committee Meeting
DESCRIPTION:Join us virtually via Zoom! Click HERE to join or visit https://zoom.us/join and enter \nMeeting ID: 874 6165 2577 \nPasscode: 735548 \nDial-In option: 929-205-6099 \nJoin the discussion on Alcohol Initiatives collaborating with MADD; work to reduce underage drinking and impaired driving in the community by providing education and implementing effective strategies that work to create population level change.
URL:https://empoweredcommunities.org/event/alcohol-initiatives-committee-meeting-26/
CATEGORIES:ASAP
END:VEVENT
BEGIN:VEVENT
DTSTART;TZID=America/New_York:20230328T100000
DTEND;TZID=America/New_York:20230328T120000
DTSTAMP:20260419T190328
CREATED:20221029T181050Z
LAST-MODIFIED:20221029T181050Z
UID:10000250-1679997600-1680004800@empoweredcommunities.org
SUMMARY:ASAP General Meeting
DESCRIPTION:Join us virtually via Zoom. Click HERE to join or visit https://zoom.us/join and enter \nMeeting ID: 894 8050 6106 \nPassword: 399526 \nJoin our General Meeting to collaborate\, network\, discuss committee updates\, and hear guest speakers on topics relevant to our organizations mission and vision. \n*If you are a member or community stakeholder and have information you’d like to share at a general meeting\, please email asap@empoweredcommunities.org with information and/or flyers/documents that you’d like to share. \n 
URL:https://empoweredcommunities.org/event/asap-general-meeting-23/
LOCATION:Hybrid – In Person & Virtual via Zoom\, 6020 US-19\, New Port Richey\, FL\, 34652\, United States
CATEGORIES:ASAP
END:VEVENT
END:VCALENDAR