BEGIN:VCALENDAR
VERSION:2.0
PRODID:-//Alliance for Healthy Communities - ECPv6.15.20//NONSGML v1.0//EN
CALSCALE:GREGORIAN
METHOD:PUBLISH
X-WR-CALNAME:Alliance for Healthy Communities
X-ORIGINAL-URL:https://empoweredcommunities.org
X-WR-CALDESC:Events for Alliance for Healthy Communities
REFRESH-INTERVAL;VALUE=DURATION:PT1H
X-Robots-Tag:noindex
X-PUBLISHED-TTL:PT1H
BEGIN:VTIMEZONE
TZID:America/New_York
BEGIN:DAYLIGHT
TZOFFSETFROM:-0500
TZOFFSETTO:-0400
TZNAME:EDT
DTSTART:20220313T070000
END:DAYLIGHT
BEGIN:STANDARD
TZOFFSETFROM:-0400
TZOFFSETTO:-0500
TZNAME:EST
DTSTART:20221106T060000
END:STANDARD
BEGIN:DAYLIGHT
TZOFFSETFROM:-0500
TZOFFSETTO:-0400
TZNAME:EDT
DTSTART:20230312T070000
END:DAYLIGHT
BEGIN:STANDARD
TZOFFSETFROM:-0400
TZOFFSETTO:-0500
TZNAME:EST
DTSTART:20231105T060000
END:STANDARD
BEGIN:DAYLIGHT
TZOFFSETFROM:-0500
TZOFFSETTO:-0400
TZNAME:EDT
DTSTART:20240310T070000
END:DAYLIGHT
BEGIN:STANDARD
TZOFFSETFROM:-0400
TZOFFSETTO:-0500
TZNAME:EST
DTSTART:20241103T060000
END:STANDARD
BEGIN:DAYLIGHT
TZOFFSETFROM:-0500
TZOFFSETTO:-0400
TZNAME:EDT
DTSTART:20250309T070000
END:DAYLIGHT
BEGIN:STANDARD
TZOFFSETFROM:-0400
TZOFFSETTO:-0500
TZNAME:EST
DTSTART:20251102T060000
END:STANDARD
END:VTIMEZONE
BEGIN:VEVENT
DTSTART;TZID=America/New_York:20240318T170000
DTEND;TZID=America/New_York:20240318T180000
DTSTAMP:20260419T143354
CREATED:20240112T201051Z
LAST-MODIFIED:20240112T201051Z
UID:10000399-1710781200-1710784800@empoweredcommunities.org
SUMMARY:Recovery Committee Meeting
DESCRIPTION:Join us virtually via Zoom! Click HERE to join or visit https://zoom.us/join and enter:  \nMeeting ID: 826 7025 4538 \nPassword: 451180 \nJoin the discussion on Recovery; working to enhance the quality and quantity of support to those affected by substance use disorders through community involvement\, advocacy\, and public education and awareness. 
URL:https://empoweredcommunities.org/event/recovery-committee-meeting-38/
CATEGORIES:ASAP
END:VEVENT
BEGIN:VEVENT
DTSTART;TZID=America/New_York:20240314T173000
DTEND;TZID=America/New_York:20240314T193000
DTSTAMP:20260419T143354
CREATED:20240226T174447Z
LAST-MODIFIED:20240226T174806Z
UID:10000406-1710437400-1710444600@empoweredcommunities.org
SUMMARY:Pasco Youth Night Out - Hosted by Alliance for Healthy Communities
DESCRIPTION:FREE Youth Night Out Event at Spin Nations. Be ready to have a blast on wheels while promoting health and wellness. Youth up to age 18 are welcome to enjoy a fun-filled evening of skating\, laughter\, and making new friends. Skating is not only entertaining but also a great way to stay active and improve balance and coordination. Youth 10 and under must have a parent or guardian present. Questions? Please contact Shannon at shannon@empoweredcommunities.org. \nClick here to Reserve tickets today! \n \n 
URL:https://empoweredcommunities.org/event/pasco-youth-night-out-hosted-by-alliance-for-healthy-communities/
LOCATION:Spin Nations Skating Center\, 8345 Congress Street\, New Port Richey\, FL\, 34668\, United States
CATEGORIES:AHC
ORGANIZER;CN="AHC":MAILTO:MISSY@EMPOWEREDCOMMUNITIES.ORG
END:VEVENT
BEGIN:VEVENT
DTSTART;TZID=America/New_York:20240313T100000
DTEND;TZID=America/New_York:20240313T120000
DTSTAMP:20260419T143354
CREATED:20231102T134221Z
LAST-MODIFIED:20231102T134221Z
UID:10000383-1710324000-1710331200@empoweredcommunities.org
SUMMARY:SEN Committee Meeting
DESCRIPTION:Join us virtually via Zoom! Click HERE to join\, or visit https://zoom.us/join and enter:  \nMeeting ID: 828 6547 9166 \nPassword: 061677 \nJoin the discussion on Substance Exposed Newborns (SEN); working to reverse the growing epidemic of substance exposed newborns by designing and implementing strategies that help reduce community risk factors and promote protective factors.
URL:https://empoweredcommunities.org/event/sen-committee-meeting-35/
CATEGORIES:ASAP
END:VEVENT
BEGIN:VEVENT
DTSTART;TZID=America/New_York:20240305T150000
DTEND;TZID=America/New_York:20240305T163000
DTSTAMP:20260419T143354
CREATED:20231201T184113Z
LAST-MODIFIED:20231201T184113Z
UID:10000393-1709650800-1709656200@empoweredcommunities.org
SUMMARY:Opioid/Rx Committee Meeting
DESCRIPTION:Join us virtually via zoom! Click HERE to join or go to www.zoom.com/join and enter:  \nMeeting ID: 834 6615 6874 \nPassword: 344143 \nJoin the discussion on opioids and prescription drug misuse and help battle the epidemic; building community awareness\, education and enhancing access to opioid alternatives and life-saving Narcan. Help build strategies that save lives and reduce harm.
URL:https://empoweredcommunities.org/event/opioid-rx-committee-meeting-37/
CATEGORIES:ASAP
END:VEVENT
BEGIN:VEVENT
DTSTART;TZID=America/New_York:20240304T163000
DTEND;TZID=America/New_York:20240304T173000
DTSTAMP:20260419T143354
CREATED:20231120T210122Z
LAST-MODIFIED:20231120T210122Z
UID:10000387-1709569800-1709573400@empoweredcommunities.org
SUMMARY:Alcohol Initiatives Committee Meeting
DESCRIPTION:Join us virtually via Zoom! Click HERE to join or visit https://zoom.us/join and enter \nMeeting ID: 874 6165 2577 \nPasscode: 735548 \nDial-In option: 929-205-6099 \nJoin the discussion on Alcohol Initiatives collaborating with MADD; work to reduce underage drinking and impaired driving in the community by providing education and implementing effective strategies that work to create population level change.
URL:https://empoweredcommunities.org/event/alcohol-initiatives-committee-meeting-35/
CATEGORIES:ASAP
END:VEVENT
BEGIN:VEVENT
DTSTART;TZID=America/New_York:20240227T100000
DTEND;TZID=America/New_York:20240227T120000
DTSTAMP:20260419T143354
CREATED:20231102T132454Z
LAST-MODIFIED:20240226T173216Z
UID:10000369-1709028000-1709035200@empoweredcommunities.org
SUMMARY:ASAP General Meeting - hybrid
DESCRIPTION:Hi all\, this meeting will be held as a hybrid for February\, please join us in person at the BayCare building\, 7809 Massachusetts Ave.\, New Port Richey or on teams address below\, thank you \nMicrosoft Teams meeting \nJoin on your computer\, mobile app or room device \nClick here to join the meeting \nMeeting ID: 252 591 428 306\nPasscode: f66Tky \nDownload Teams | Join on the web \nJoin with a video conferencing device \n127369668@teams.bjn.vc \nVideo Conference ID: 115 600 703 6 \nAlternate VTC instructions \nOr call in (audio only) \n+1 727-300-4956\,\,990215172#   United States\, St. Petersburg \nPhone Conference ID: 990 215 172# \nFind a local number | Reset PIN \nLearn More | Meeting options \n  \n 
URL:https://empoweredcommunities.org/event/asap-general-meeting-33/
LOCATION:Hybrid – In Person & Virtual via Zoom\, 6020 US-19\, New Port Richey\, FL\, 34652\, United States
CATEGORIES:ASAP
END:VEVENT
BEGIN:VEVENT
DTSTART;TZID=America/New_York:20240219T170000
DTEND;TZID=America/New_York:20240219T180000
DTSTAMP:20260419T143354
CREATED:20240112T200950Z
LAST-MODIFIED:20240112T200950Z
UID:10000398-1708362000-1708365600@empoweredcommunities.org
SUMMARY:Recovery Committee Meeting
DESCRIPTION:Join us virtually via Zoom! Click HERE to join or visit https://zoom.us/join and enter:  \nMeeting ID: 826 7025 4538 \nPassword: 451180 \nJoin the discussion on Recovery; working to enhance the quality and quantity of support to those affected by substance use disorders through community involvement\, advocacy\, and public education and awareness. 
URL:https://empoweredcommunities.org/event/recovery-committee-meeting-37/
CATEGORIES:ASAP
END:VEVENT
BEGIN:VEVENT
DTSTART;TZID=America/New_York:20240214T100000
DTEND;TZID=America/New_York:20240214T120000
DTSTAMP:20260419T143354
CREATED:20231102T134125Z
LAST-MODIFIED:20231102T134125Z
UID:10000381-1707904800-1707912000@empoweredcommunities.org
SUMMARY:SEN Committee Meeting
DESCRIPTION:Join us virtually via Zoom! Click HERE to join\, or visit https://zoom.us/join and enter:  \nMeeting ID: 828 6547 9166 \nPassword: 061677 \nJoin the discussion on Substance Exposed Newborns (SEN); working to reverse the growing epidemic of substance exposed newborns by designing and implementing strategies that help reduce community risk factors and promote protective factors.
URL:https://empoweredcommunities.org/event/sen-committee-meeting-34/
CATEGORIES:ASAP
END:VEVENT
BEGIN:VEVENT
DTSTART;TZID=America/New_York:20240205T163000
DTEND;TZID=America/New_York:20240205T173000
DTSTAMP:20260419T143354
CREATED:20231120T205840Z
LAST-MODIFIED:20231120T205840Z
UID:10000386-1707150600-1707154200@empoweredcommunities.org
SUMMARY:Alcohol Initiatives Committee Meeting
DESCRIPTION:Join us virtually via Zoom! Click HERE to join or visit https://zoom.us/join and enter \nMeeting ID: 874 6165 2577 \nPasscode: 735548 \nDial-In option: 929-205-6099 \nJoin the discussion on Alcohol Initiatives collaborating with MADD; work to reduce underage drinking and impaired driving in the community by providing education and implementing effective strategies that work to create population level change.
URL:https://empoweredcommunities.org/event/alcohol-initiatives-committee-meeting-34/
CATEGORIES:ASAP
END:VEVENT
BEGIN:VEVENT
DTSTART;TZID=America/New_York:20240201T173000
DTEND;TZID=America/New_York:20240201T190000
DTSTAMP:20260419T143354
CREATED:20240122T170237Z
LAST-MODIFIED:20240122T170237Z
UID:10000404-1706808600-1706814000@empoweredcommunities.org
SUMMARY:Presentation for Teens - "Sex\, Lies\, and Media" by Selah Freedom
DESCRIPTION:In honor of National Human Trafficking month\, STAND Youth Coalition is pleased to offer the presentation “Sex\, Lies\, and Media” by Selah Freedom. This presentation is for middle and high school youth and discusses the ways that the online world can be used to exploit teens and arms youth with easy-to-employ prevention strategies. If your kiddo has a phone\, social media or plays online games\, this is a presentation they should not miss. Thursday\, February 1\, 2024 from 5:30 to 7 pm. New Port Richey Recreation Center\, 6630 Van Buren Street\, New Port Richey\, FL 34653. No need to register\, refreshments will be served. Community Service Hours provided for attending this event. Please email eve.hosley@baycare.org with any questions.STAND-OnlineSafetyPresentation2-1-24
URL:https://empoweredcommunities.org/event/presentation-for-teens-sex-lies-and-media-by-selah-freedom/
LOCATION:New Port Richey Recreation Center\, 6630 Van Buren Street\, New Port Richey\, FL\, 34653\, United States
CATEGORIES:STAND
END:VEVENT
BEGIN:VEVENT
DTSTART;TZID=America/New_York:20240123T100000
DTEND;TZID=America/New_York:20240123T120000
DTSTAMP:20260419T143354
CREATED:20231102T132353Z
LAST-MODIFIED:20231102T132353Z
UID:10000368-1706004000-1706011200@empoweredcommunities.org
SUMMARY:ASAP General Meeting
DESCRIPTION:Join us virtually via Zoom. Click HERE to join or visit https://zoom.us/join and enter \nMeeting ID: 894 8050 6106 \nPassword: 399526 \nJoin our General Meeting to collaborate\, network\, discuss committee updates\, and hear guest speakers on topics relevant to our organizations mission and vision. \n*If you are a member or community stakeholder and have information you’d like to share at a general meeting\, please email asap@empoweredcommunities.org with information and/or flyers/documents that you’d like to share. \n 
URL:https://empoweredcommunities.org/event/asap-general-meeting-32/
LOCATION:Hybrid – In Person & Virtual via Zoom\, 6020 US-19\, New Port Richey\, FL\, 34652\, United States
CATEGORIES:ASAP
END:VEVENT
BEGIN:VEVENT
DTSTART;TZID=America/New_York:20240115T170000
DTEND;TZID=America/New_York:20240115T180000
DTSTAMP:20260419T143354
CREATED:20240112T200553Z
LAST-MODIFIED:20240112T200553Z
UID:10000397-1705338000-1705341600@empoweredcommunities.org
SUMMARY:Recovery Committee Meeting
DESCRIPTION:Join us virtually via Zoom! Click HERE to join or visit https://zoom.us/join and enter:  \nMeeting ID: 826 7025 4538 \nPassword: 451180 \nJoin the discussion on Recovery; working to enhance the quality and quantity of support to those affected by substance use disorders through community involvement\, advocacy\, and public education and awareness. 
URL:https://empoweredcommunities.org/event/recovery-committee-meeting-36/
CATEGORIES:ASAP
END:VEVENT
BEGIN:VEVENT
DTSTART;TZID=America/New_York:20240110T100000
DTEND;TZID=America/New_York:20240110T120000
DTSTAMP:20260419T143354
CREATED:20231102T134036Z
LAST-MODIFIED:20231102T134036Z
UID:10000377-1704880800-1704888000@empoweredcommunities.org
SUMMARY:SEN Committee Meeting
DESCRIPTION:Join us virtually via Zoom! Click HERE to join\, or visit https://zoom.us/join and enter:  \nMeeting ID: 828 6547 9166 \nPassword: 061677 \nJoin the discussion on Substance Exposed Newborns (SEN); working to reverse the growing epidemic of substance exposed newborns by designing and implementing strategies that help reduce community risk factors and promote protective factors.
URL:https://empoweredcommunities.org/event/sen-committee-meeting-33/
CATEGORIES:ASAP
END:VEVENT
BEGIN:VEVENT
DTSTART;TZID=America/New_York:20240109T150000
DTEND;TZID=America/New_York:20240109T163000
DTSTAMP:20260419T143354
CREATED:20231201T183518Z
LAST-MODIFIED:20231201T183518Z
UID:10000391-1704812400-1704817800@empoweredcommunities.org
SUMMARY:Opioid/Rx Committee Meeting
DESCRIPTION:Join us virtually via zoom! Click HERE to join or go to www.zoom.com/join and enter:  \nMeeting ID: 834 6615 6874 \nPassword: 344143 \nJoin the discussion on opioids and prescription drug misuse and help battle the epidemic; building community awareness\, education and enhancing access to opioid alternatives and life-saving Narcan. Help build strategies that save lives and reduce harm.
URL:https://empoweredcommunities.org/event/opioid-rx-committee-meeting-35/
CATEGORIES:ASAP
END:VEVENT
BEGIN:VEVENT
DTSTART;TZID=America/New_York:20231212T100000
DTEND;TZID=America/New_York:20231212T120000
DTSTAMP:20260419T143354
CREATED:20231101T140843Z
LAST-MODIFIED:20231101T140843Z
UID:10000366-1702375200-1702382400@empoweredcommunities.org
SUMMARY:Annual Brunch
DESCRIPTION:Please join us for food and fun as we celebrate our accomplishments and our successful community partnerships! Volunteer of the Year announcements as well as Community Partner of the Year. We have a very inspiring  speaker\, Tony Hoffman\, please register today\, space is very limited.
URL:https://empoweredcommunities.org/event/annual-brunch/
LOCATION:Hilton Garden Inn Suncoast\, 2155 Northp0ointe Parkway\, Lutz\, FL\, 33558\, United States
ATTACH;FMTTYPE=image/png:https://empoweredcommunities.org/wp-content/uploads/2023/11/ASAP-Annual-Brunch-2023.png
END:VEVENT
BEGIN:VEVENT
DTSTART;TZID=America/New_York:20231204T163000
DTEND;TZID=America/New_York:20231204T173000
DTSTAMP:20260419T143354
CREATED:20231120T205131Z
LAST-MODIFIED:20231120T210017Z
UID:10000385-1701707400-1701711000@empoweredcommunities.org
SUMMARY:Alcohol Initiatives Committee Meeting
DESCRIPTION:This month we will have a special training on conducting 1 on 1 conversations and visioning for the 2024 year. \nJoin us virtually via Zoom! Click HERE to join or visit https://zoom.us/join and enter \nMeeting ID: 874 6165 2577 \nPasscode: 735548 \nDial-In option: 929-205-6099 \nJoin the discussion on Alcohol Initiatives collaborating with MADD; work to reduce underage drinking and impaired driving in the community by providing education and implementing effective strategies that work to create population level change.
URL:https://empoweredcommunities.org/event/alcohol-initiatives-committee-meeting-33/
CATEGORIES:ASAP
END:VEVENT
BEGIN:VEVENT
DTSTART;TZID=America/New_York:20231127T170000
DTEND;TZID=America/New_York:20231127T180000
DTSTAMP:20260419T143354
CREATED:20221029T184021Z
LAST-MODIFIED:20231120T174330Z
UID:10000265-1701104400-1701108000@empoweredcommunities.org
SUMMARY:Recovery Committee Meeting - In Person!
DESCRIPTION:Please join us at Starbucks\, 5220 Little Rd\, New Port Richey\, FL 34655 –  email eve.hosley@baycare.org with questions.  Join the discussion on Recovery; working to enhance the quality and quantity of support to those affected by substance use disorders through community involvement\, advocacy\, and public education and awareness. 
URL:https://empoweredcommunities.org/event/recovery-committee-meeting-35/
LOCATION:starbucks\, 5220 Little Rd\, \, New Port Richey\, FL\, 34655\, United States
CATEGORIES:ASAP
END:VEVENT
BEGIN:VEVENT
DTSTART;TZID=America/New_York:20231109T173000
DTEND;TZID=America/New_York:20231109T200000
DTSTAMP:20260419T143354
CREATED:20231101T133815Z
LAST-MODIFIED:20231102T131428Z
UID:10000365-1699551000-1699560000@empoweredcommunities.org
SUMMARY:Interactive Townhall for Teens and Parents focused on Alcohol Misuse Prevention
DESCRIPTION:This is an interactive event hosted by MADD and ASAP’s Alcohol Initiatives Committee! Youth will experience via stations:  what alcohol does to your body; what it’s like to be under the influence; what could happen if they were to get a DUI; and what consequences substance use and a DUI could have on their life. While teens go through these exhibits\, parents will view presentations from different sectors of the community as well.  The goal is to give a hands-on experience in order to prevent alcohol misuse\, underage access\, and intoxicated driving. FREE DINNER; CHANCE TO WIN A $100 visa gift card for youth and parents. COMPLETION CERTIFICATES & VOLUNTEER HOURS FOR YOUTH. Please join us at the Pasco Hernando State College West Campus on November 9th at 5:30pm. No need to register.
URL:https://empoweredcommunities.org/event/interactive-townhall-for-teens-and-parents-focused-on-alcohol-misuse-prevention/
LOCATION:Pasco-Hernando State College\, 10230 Ridge Rd.\, New Port Richey\, FL 34654\, 10230 Ridge Road\, New Port Richey\, FL\, 34654\, United States
ATTACH;FMTTYPE=application/pdf:https://empoweredcommunities.org/wp-content/uploads/2023/11/Alcohol-Town-Hall-2023-Flyer.pdf
END:VEVENT
BEGIN:VEVENT
DTSTART;TZID=America/New_York:20231108T100000
DTEND;TZID=America/New_York:20231108T120000
DTSTAMP:20260419T143354
CREATED:20231102T133620Z
LAST-MODIFIED:20231102T133620Z
UID:10000375-1699437600-1699444800@empoweredcommunities.org
SUMMARY:SEN Committee Meeting
DESCRIPTION:Join us virtually via Zoom! Click HERE to join\, or visit https://zoom.us/join and enter:  \nMeeting ID: 828 6547 9166 \nPassword: 061677 \nJoin the discussion on Substance Exposed Newborns (SEN); working to reverse the growing epidemic of substance exposed newborns by designing and implementing strategies that help reduce community risk factors and promote protective factors.
URL:https://empoweredcommunities.org/event/sen-committee-meeting-27/
CATEGORIES:ASAP
END:VEVENT
BEGIN:VEVENT
DTSTART;TZID=America/New_York:20231026T170000
DTEND;TZID=America/New_York:20231026T200000
DTSTAMP:20260419T143354
CREATED:20230804T150957Z
LAST-MODIFIED:20231006T181351Z
UID:10000362-1698339600-1698350400@empoweredcommunities.org
SUMMARY:NOPE Candlelight Vigil
DESCRIPTION:Join us for an uplifting and powerful event as we honor our loved ones lost to an overdose and learn about recovery efforts here in Pasco County. Please bring a photo of your loved on to place on our memorial wall. Vendors\, Speakers\, and Candlelight Vigil. Featuring keynote speakers the Fentanyl Fathers all the way from Michigan. Event sponsored by Pasco Hernando State College.
URL:https://empoweredcommunities.org/event/nope-candlelight-vigil/
LOCATION:Pasco-Hernando State College\, 10230 Ridge Rd.\, New Port Richey\, FL 34654\, 10230 Ridge Road\, New Port Richey\, FL\, 34654\, United States
ATTACH;FMTTYPE=image/png:https://empoweredcommunities.org/wp-content/uploads/2023/08/NOPE-2023-Fentanyl-Fathers.png
END:VEVENT
BEGIN:VEVENT
DTSTART;TZID=America/New_York:20231024T100000
DTEND;TZID=America/New_York:20231024T120000
DTSTAMP:20260419T143354
CREATED:20221029T182317Z
LAST-MODIFIED:20221029T182347Z
UID:10000256-1698141600-1698148800@empoweredcommunities.org
SUMMARY:ASAP General Meeting
DESCRIPTION:Join us virtually via Zoom. Click HERE to join or visit https://zoom.us/join and enter \nMeeting ID: 894 8050 6106 \nPassword: 399526 \nJoin our General Meeting to collaborate\, network\, discuss committee updates\, and hear guest speakers on topics relevant to our organizations mission and vision. \n*If you are a member or community stakeholder and have information you’d like to share at a general meeting\, please email asap@empoweredcommunities.org with information and/or flyers/documents that you’d like to share. \n 
URL:https://empoweredcommunities.org/event/asap-general-meeting-30/
LOCATION:Hybrid – In Person & Virtual via Zoom\, 6020 US-19\, New Port Richey\, FL\, 34652\, United States
CATEGORIES:ASAP
END:VEVENT
BEGIN:VEVENT
DTSTART;TZID=America/New_York:20231011T100000
DTEND;TZID=America/New_York:20231011T120000
DTSTAMP:20260419T143354
CREATED:20221029T185014Z
LAST-MODIFIED:20221029T185014Z
UID:10000274-1697018400-1697025600@empoweredcommunities.org
SUMMARY:SEN Committee Meeting
DESCRIPTION:Join us virtually via Zoom! Click HERE to join\, or visit https://zoom.us/join and enter:  \nMeeting ID: 828 6547 9166 \nPassword: 061677 \nJoin the discussion on Substance Exposed Newborns (SEN); working to reverse the growing epidemic of substance exposed newborns by designing and implementing strategies that help reduce community risk factors and promote protective factors.
URL:https://empoweredcommunities.org/event/sen-committee-meeting-31/
CATEGORIES:ASAP
END:VEVENT
BEGIN:VEVENT
DTSTART;TZID=America/New_York:20231008T120000
DTEND;TZID=America/New_York:20231008T160000
DTSTAMP:20260419T143354
CREATED:20231006T180535Z
LAST-MODIFIED:20231006T180535Z
UID:10000364-1696766400-1696780800@empoweredcommunities.org
SUMMARY:Block Party for Fire Prevention Week
DESCRIPTION:Pasco County Fire Rescue hosting a fun event for families! FREE food and Fire Safety Demos
URL:https://empoweredcommunities.org/event/block-party-for-fire-prevention-week/
LOCATION:Fire Station 25\, 38401 6th Avenue\, Zephyrhills\, FL\, 33542\, United States
ATTACH;FMTTYPE=application/pdf:https://empoweredcommunities.org/wp-content/uploads/2023/10/Block-Party-Final.pdf
END:VEVENT
BEGIN:VEVENT
DTSTART;TZID=America/New_York:20231006T083000
DTEND;TZID=America/New_York:20231006T161500
DTSTAMP:20260419T143354
CREATED:20230418T190913Z
LAST-MODIFIED:20230418T190913Z
UID:10000353-1696581000-1696608900@empoweredcommunities.org
SUMMARY:Education & Beyond Supporting Substance Exposed Newborn Communities
DESCRIPTION: 
URL:https://empoweredcommunities.org/event/education-beyond-supporting-substance-exposed-newborn-communities/
ATTACH;FMTTYPE=image/jpeg:https://empoweredcommunities.org/wp-content/uploads/2023/04/SEN.jpg
END:VEVENT
BEGIN:VEVENT
DTSTART;TZID=America/New_York:20231003T150000
DTEND;TZID=America/New_York:20231003T163000
DTSTAMP:20260419T143354
CREATED:20221029T183034Z
LAST-MODIFIED:20221029T183034Z
UID:10000149-1696345200-1696350600@empoweredcommunities.org
SUMMARY:Opioid/Rx Committee Meeting
DESCRIPTION:Join us virtually via zoom! Click HERE to join or go to www.zoom.com/join and enter:  \nMeeting ID: 834 6615 6874 \nPassword: 344143 \nJoin the discussion on opioids and prescription drug misuse and help battle the epidemic; building community awareness\, education and enhancing access to opioid alternatives and life-saving Narcan. Help build strategies that save lives and reduce harm.
URL:https://empoweredcommunities.org/event/opioid-rx-committee-meeting-34/
CATEGORIES:ASAP
END:VEVENT
BEGIN:VEVENT
DTSTART;TZID=America/New_York:20231002T163000
DTEND;TZID=America/New_York:20231002T180000
DTSTAMP:20260419T143354
CREATED:20221029T195039Z
LAST-MODIFIED:20221029T195039Z
UID:10000284-1696264200-1696269600@empoweredcommunities.org
SUMMARY:Alcohol Initiatives Committee Meeting
DESCRIPTION:Join us virtually via Zoom! Click HERE to join or visit https://zoom.us/join and enter \nMeeting ID: 874 6165 2577 \nPasscode: 735548 \nDial-In option: 929-205-6099 \nJoin the discussion on Alcohol Initiatives collaborating with MADD; work to reduce underage drinking and impaired driving in the community by providing education and implementing effective strategies that work to create population level change.
URL:https://empoweredcommunities.org/event/alcohol-initiatives-committee-meeting-32/
CATEGORIES:ASAP
END:VEVENT
BEGIN:VEVENT
DTSTART;TZID=America/New_York:20230926T100000
DTEND;TZID=America/New_York:20230926T120000
DTSTAMP:20260419T143354
CREATED:20221029T181737Z
LAST-MODIFIED:20221029T181737Z
UID:10000255-1695722400-1695729600@empoweredcommunities.org
SUMMARY:ASAP General Meeting
DESCRIPTION:Join us virtually via Zoom. Click HERE to join or visit https://zoom.us/join and enter \nMeeting ID: 894 8050 6106 \nPassword: 399526 \nJoin our General Meeting to collaborate\, network\, discuss committee updates\, and hear guest speakers on topics relevant to our organizations mission and vision. \n*If you are a member or community stakeholder and have information you’d like to share at a general meeting\, please email asap@empoweredcommunities.org with information and/or flyers/documents that you’d like to share. \n 
URL:https://empoweredcommunities.org/event/asap-general-meeting-29/
LOCATION:Hybrid – In Person & Virtual via Zoom\, 6020 US-19\, New Port Richey\, FL\, 34652\, United States
CATEGORIES:ASAP
END:VEVENT
BEGIN:VEVENT
DTSTART;TZID=America/New_York:20230925T170000
DTEND;TZID=America/New_York:20230925T180000
DTSTAMP:20260419T143354
CREATED:20221029T183946Z
LAST-MODIFIED:20221029T183946Z
UID:10000264-1695661200-1695664800@empoweredcommunities.org
SUMMARY:Recovery Committee Meeting
DESCRIPTION:Join us virtually via Zoom! Click HERE to join or visit https://zoom.us/join and enter:  \nMeeting ID: 826 7025 4538 \nPassword: 451180 \nJoin the discussion on Recovery; working to enhance the quality and quantity of support to those affected by substance use disorders through community involvement\, advocacy\, and public education and awareness. 
URL:https://empoweredcommunities.org/event/recovery-committee-meeting-34/
CATEGORIES:ASAP
END:VEVENT
BEGIN:VEVENT
DTSTART;TZID=America/New_York:20230923T100000
DTEND;TZID=America/New_York:20230923T130000
DTSTAMP:20260419T143354
CREATED:20230804T144714Z
LAST-MODIFIED:20230804T145813Z
UID:10000361-1695463200-1695474000@empoweredcommunities.org
SUMMARY:Stronger Together Recovery Walk - 3rd Annual
DESCRIPTION:Less than 10 percent of the 20 million Americans with substance use disorder get the help they need. The Pasco Alliance for Substance Addiction Prevention (ASAP) is working to raise awareness and to shine the light on the amazing possibility of a second chance at life through recovery. Please join us on  Saturday\, September 23\, 2023\, from 10 am to 1 pm at Sims Park\, 5547 Main Street\, New Port Richey\, FL 34652\, for our 3rd Annual event in honor of National Recovery Month:  This FREE event features speakers\, entertainment\, vendor tables\, family resources\, and raffle baskets. The first 200 attendees will receive a FREE T-shirt. \nThe Stronger Together Recovery Walk is hosted to honor National Recovery Month – an observance held every September to promote and support new evidence-based treatment and recovery practices\, the nation’s strong and proud recovery community\, and the dedication of service providers and communities who make recovery in all its forms possible. Click here for more information on National Recovery Month. \nIf you would like to host a table at this event or be an event sponsor\, please reach out to Eve.Hosley@Baycare.org. All proceeds support ASAP’s efforts in Pasco County\, event hosted by ASAP’s Recovery Committee and The Hope Shot.  Thank you for making a difference!
URL:https://empoweredcommunities.org/event/stronger-together-recovery-walk-3rd-annual/
LOCATION:Sims Park\, Grand Blvd & Bank St.\, New Port Richey\, FL\, 34652\, United States
ATTACH;FMTTYPE=image/png:https://empoweredcommunities.org/wp-content/uploads/2023/08/Stronger-Together-Recovery-Walk-2023.png
END:VEVENT
BEGIN:VEVENT
DTSTART;TZID=America/New_York:20230915T100000
DTEND;TZID=America/New_York:20230915T140000
DTSTAMP:20260419T143354
CREATED:20230821T202218Z
LAST-MODIFIED:20230821T202409Z
UID:10000363-1694772000-1694786400@empoweredcommunities.org
SUMMARY:Family Resource Day
DESCRIPTION:Fun for the whole family! The NeighborHOPE project from Metropolitan Ministries will be giving out 100 boxes of food to the fist 100 registered families in the Zip Specific areas of 34669 and 34610. Each family MUST be registered to receive their box of food. Call Tina 727-222-3276 to register.
URL:https://empoweredcommunities.org/event/family-resource-day/
LOCATION:11611 Denton Avenue Hudson FL 34667\, 11611 Denton Avenue\, Hudson\, FL\, 34667\, United States
END:VEVENT
END:VCALENDAR